From mboxrd@z Thu Jan  1 00:00:00 1970
Return-Path: <test-report-bounces@dpdk.org>
Received: from mails.dpdk.org (mails.dpdk.org [217.70.189.124])
	by inbox.dpdk.org (Postfix) with ESMTP id 0A90843CE8
	for <public@inbox.dpdk.org>; Mon, 18 Mar 2024 19:07:05 +0100 (CET)
Received: from mails.dpdk.org (localhost [127.0.0.1])
	by mails.dpdk.org (Postfix) with ESMTP id 06ECC40289;
	Mon, 18 Mar 2024 19:07:05 +0100 (CET)
Received: from mail-ot1-f98.google.com (mail-ot1-f98.google.com
 [209.85.210.98]) by mails.dpdk.org (Postfix) with ESMTP id 340D24027F
 for <test-report@dpdk.org>; Mon, 18 Mar 2024 19:07:03 +0100 (CET)
Received: by mail-ot1-f98.google.com with SMTP id
 46e09a7af769-6e50e8dcc72so2261580a34.3
 for <test-report@dpdk.org>; Mon, 18 Mar 2024 11:07:03 -0700 (PDT)
DKIM-Signature: v=1; a=rsa-sha256; c=relaxed/relaxed;
 d=iol.unh.edu; s=unh-iol; t=1710785222; x=1711390022; darn=dpdk.org;
 h=references:in-reply-to:cc:to:from:subject:message-id:date:from:to
 :cc:subject:date:message-id:reply-to;
 bh=QEZimht+1H3mkgQxomS6H7g9zkBYnsAOjidpbV+xusc=;
 b=V3v0S5tfehgzfgxPJpFtFoZ787jtDFEwSdAAlW4cWWwtqgpHHg1lyOJH+C4yQsOPwp
 hnowIMOf6r9XuhJKRdSdKMkOr4L03GtEiIV8B4BxMXOCTTEJbdmBgp2ZBUeJS0M4GB2r
 U/EU3K0G4bTbM7wIPgmLmg2CEQjRNiVhIPLPk=
X-Google-DKIM-Signature: v=1; a=rsa-sha256; c=relaxed/relaxed;
 d=1e100.net; s=20230601; t=1710785222; x=1711390022;
 h=references:in-reply-to:cc:to:from:subject:message-id:date
 :x-gm-message-state:from:to:cc:subject:date:message-id:reply-to;
 bh=QEZimht+1H3mkgQxomS6H7g9zkBYnsAOjidpbV+xusc=;
 b=RDXjVCZtJauV6EFk0EfkzwBkGVMfGvJNgsY+51R5fKgul3KlZg5MK8jXa675kb7BNY
 j9IgaAWXMO+VzdY2YIFhUUURDQ1S9DM95dPVpubpnjCKQQLY0uNMsLolZFJncPPa8++B
 ZNt8SSlhgc/g7e3j6SZz1rRxlf2FGXdOGtnGfNiBnG6r+HrXDD5wNjXxXm5j7WdDqI3+
 v4A6+ePIv63jPGpubRLn03wb8kWghyinldc0xJ8frioSJQs/qeTEOckHpdJenx8XV1X8
 mlbMbe/WqRuf9X4qMUrhelnB6KnM5vsItarC207JVDgI6o8IdClTUoBrYNLebOb1dKbR
 5XXA==
X-Gm-Message-State: AOJu0Yz4T8ppXWZoepA9NktugZAGtsID44p8EuaCvCjMiK/x8KpdEtNC
 ShGmNxWbSwSrOGsFnQvM19FTcFa6YLisvEnag7xIvQvYcWUo6ht4Tip7foLWfhfZj50Yrtg8LyD
 cSopFdb++HfVG3QWjepk8SSkOUncVH06NL6tvr535m28cxqpqYU0VhwPU
X-Google-Smtp-Source: AGHT+IEFACliRM+U5kBo+oK305U11WQjA1cWpjghDxH1zkwdsOZiSVP3v5Aqod8vajVwxum53qiOkDgQsvl3
X-Received: by 2002:a9d:7d91:0:b0:6e6:7b48:b801 with SMTP id
 j17-20020a9d7d91000000b006e67b48b801mr9976975otn.16.1710785222432; 
 Mon, 18 Mar 2024 11:07:02 -0700 (PDT)
Received: from postal.iol.unh.edu (postal.iol.unh.edu.
 [2606:4100:3880:1234::84]) by smtp-relay.gmail.com with ESMTPS id
 ex4-20020a056830730400b006e699832e3bsm48439otb.13.2024.03.18.11.07.02
 (version=TLS1_2 cipher=ECDHE-ECDSA-AES128-GCM-SHA256 bits=128/128);
 Mon, 18 Mar 2024 11:07:02 -0700 (PDT)
X-Relaying-Domain: iol.unh.edu
Date: Mon, 18 Mar 2024 11:07:02 -0700 (PDT)
Message-ID: <65f882c6.050a0220.18cb3.2f9eSMTPIN_ADDED_MISSING@mx.google.com>
Received: from [172.21.0.6] (unknown [172.18.0.240])
 by postal.iol.unh.edu (Postfix) with ESMTP id E900F6052471;
 Mon, 18 Mar 2024 14:07:01 -0400 (EDT)
Subject: |SUCCESS| pw138455-138457 [PATCH] [v2,3/3] dts: store stderr in Remo
From: dpdklab@iol.unh.edu
To: Test Report <test-report@dpdk.org>
Cc: dpdk-test-reports@iol.unh.edu
In-Reply-To: <20240318171704.798634-4-luca.vizzarro@arm.com>
References: <20240318171704.798634-4-luca.vizzarro@arm.com>
Content-Type: text/plain
X-BeenThere: test-report@dpdk.org
X-Mailman-Version: 2.1.29
Precedence: list
List-Id: automatic DPDK test reports <test-report.dpdk.org>
List-Unsubscribe: <https://mails.dpdk.org/options/test-report>,
 <mailto:test-report-request@dpdk.org?subject=unsubscribe>
List-Archive: <http://mails.dpdk.org/archives/test-report/>
List-Post: <mailto:test-report@dpdk.org>
List-Help: <mailto:test-report-request@dpdk.org?subject=help>
List-Subscribe: <https://mails.dpdk.org/listinfo/test-report>,
 <mailto:test-report-request@dpdk.org?subject=subscribe>
Errors-To: test-report-bounces@dpdk.org

Test-Label: iol-compile-amd64-testing
Test-Status: SUCCESS
http://dpdk.org/patch/138457

_Testing PASS_

Submitter: Luca Vizzarro <luca.vizzarro@arm.com>
Date: Monday, March 18 2024 17:17:04 
DPDK git baseline: Repo:dpdk
  Branch: master
  CommitID:80ecef6d1f71fcebc0a51d7cabc51f73ee142ff2

138455-138457 --> testing pass

Test environment and result as below:

+---------------------+--------------------+----------------------+
|     Environment     | dpdk_meson_compile | dpdk_mingw64_compile |
+=====================+====================+======================+
| FreeBSD 13.2        | PASS               | SKIPPED              |
+---------------------+--------------------+----------------------+
| Debian 12 (arm)     | PASS               | SKIPPED              |
+---------------------+--------------------+----------------------+
| CentOS Stream 8     | PASS               | SKIPPED              |
+---------------------+--------------------+----------------------+
| RHEL8               | PASS               | SKIPPED              |
+---------------------+--------------------+----------------------+
| Fedora 37           | PASS               | SKIPPED              |
+---------------------+--------------------+----------------------+
| Windows Server 2022 | PASS               | PASS                 |
+---------------------+--------------------+----------------------+
| CentOS Stream 9     | PASS               | SKIPPED              |
+---------------------+--------------------+----------------------+
| Fedora 38           | PASS               | SKIPPED              |
+---------------------+--------------------+----------------------+
| openSUSE Leap 15    | PASS               | SKIPPED              |
+---------------------+--------------------+----------------------+
| Ubuntu 20.04        | PASS               | SKIPPED              |
+---------------------+--------------------+----------------------+
| Windows Server 2019 | PASS               | PASS                 |
+---------------------+--------------------+----------------------+
| Debian Bullseye     | PASS               | SKIPPED              |
+---------------------+--------------------+----------------------+
| Alpine              | PASS               | SKIPPED              |
+---------------------+--------------------+----------------------+


FreeBSD 13.2
	Kernel: 13.2
	Compiler: clang 11.3.0

Debian 12 (arm)
	Kernel: Container Host Kernel
	Compiler: gcc 11

CentOS Stream 8
	Kernel: 4.18.0-240.10.1.el8_3.x86_64
	Compiler: gcc 8.4.1 20200928

RHEL8
	Kernel: 4.18.0-240.10.1.el8_3.x86_64
	Compiler: gcc 8.3.1 20191121 (Red Hat 8.3.1-5)

Fedora 37
	Kernel: Depends on container host system
	Compiler: gcc 12.3.1

Windows Server 2022
	Kernel: OS Build 20348.2031
	Compiler: clang 15.0.7, gcc 8.1.0 (MinGW), and MSVC VS 17.9

CentOS Stream 9
	Kernel: 4.18.0-240.10.1.el8_3.x86_64
	Compiler: gcc 11.3.1 20220421

Fedora 38
	Kernel: Depends on container host
	Compiler: gcc 13.1.1

openSUSE Leap 15
	Kernel: 4.18.0-240.10.1.el8_3.x86_64
	Compiler: gcc 7.5.0

Ubuntu 20.04
	Kernel: 5.4.0-153-generic
	Compiler: gcc 9.4.0-1ubuntu1~20.04.1

Windows Server 2019
	Kernel: 10.0
	Compiler: clang 14.0 and gcc 8.1.0 (MinGW)

Debian Bullseye
	Kernel: 5.4.0-122-generic
	Compiler: gcc 10.2.1-6

Alpine
	Kernel: 5.4.0-167-generic
	Compiler: gcc (Alpine 12.2.1_git20220924-r10) 12.2.1 20220924

To view detailed results, visit:
https://lab.dpdk.org/results/dashboard/patchsets/29583/

UNH-IOL DPDK Community Lab

To manage your email subscriptions, visit: 
https://lab.dpdk.org/results/dashboard/preferences/subscriptions/