From mboxrd@z Thu Jan  1 00:00:00 1970
Return-Path: <test-report-bounces@dpdk.org>
Received: from mails.dpdk.org (mails.dpdk.org [217.70.189.124])
	by inbox.dpdk.org (Postfix) with ESMTP id 98D6F43CE8
	for <public@inbox.dpdk.org>; Mon, 18 Mar 2024 19:12:46 +0100 (CET)
Received: from mails.dpdk.org (localhost [127.0.0.1])
	by mails.dpdk.org (Postfix) with ESMTP id 9482440289;
	Mon, 18 Mar 2024 19:12:46 +0100 (CET)
Received: from mail-vk1-f225.google.com (mail-vk1-f225.google.com
 [209.85.221.225])
 by mails.dpdk.org (Postfix) with ESMTP id C45E24027F
 for <test-report@dpdk.org>; Mon, 18 Mar 2024 19:12:44 +0100 (CET)
Received: by mail-vk1-f225.google.com with SMTP id
 71dfb90a1353d-4d42ea640f0so1632733e0c.3
 for <test-report@dpdk.org>; Mon, 18 Mar 2024 11:12:44 -0700 (PDT)
DKIM-Signature: v=1; a=rsa-sha256; c=relaxed/relaxed;
 d=iol.unh.edu; s=unh-iol; t=1710785564; x=1711390364; darn=dpdk.org;
 h=references:in-reply-to:cc:to:from:subject:message-id:date:from:to
 :cc:subject:date:message-id:reply-to;
 bh=pTV+T5DrxNJqAxOqto54NH5y1aevPOXaMg5aRsmxOMo=;
 b=XtBPAHy0dCGlmlx/llOVIFZNc3pH5VEsigaVWBELdNwukglcySqMLjmzSgYs5uN7Rm
 YoeNbgVBPrOXbwP7Yh4Rqv3cgqnlFgNWdWH0WTS+LPIwsPer68TldA3XtmM2nEuQIelR
 8vPHz+vpzMYfHV98MbRDCdupOAvyM6ROzL80I=
X-Google-DKIM-Signature: v=1; a=rsa-sha256; c=relaxed/relaxed;
 d=1e100.net; s=20230601; t=1710785564; x=1711390364;
 h=references:in-reply-to:cc:to:from:subject:message-id:date
 :x-gm-message-state:from:to:cc:subject:date:message-id:reply-to;
 bh=pTV+T5DrxNJqAxOqto54NH5y1aevPOXaMg5aRsmxOMo=;
 b=TbhRbVaq7uk/R4bpGoIn37vsTlDN7s+zoCW4fhuAx3jtBF48EjQwg1/WkXrGQih/1J
 btI2vqAyhm473jJC6fK5DUOhL7Idy3OGqjGwafPvGcbkoXc5ml36WA+D3sa31xKsIE7p
 Mx1ycyM+WAsO8pzzFYHTl0tlRQbsllUbq3TKQHHyuC4xxP7SG+l9wT2JucisOuJ9fgHI
 jL+D6BuayOb1MY/+a/GTdKtMKG8HU1i2qcjOd7QwKt58iVnFNY/oD9duFN/+Tg9p53JO
 GL/9d/uJQsgu5+ooJSNmH+CmvKgXmjx+R0zQ6Ctk5+AH/OYCqPNuyiAw3nXAgF4KLEbE
 umfg==
X-Gm-Message-State: AOJu0YxlEm2UrHZaBxyZvJEED3hNnYI1/M3LqS7naLrBPFvctjD6ijt5
 JmSNNXqeQmCZ5C/rHe0SVG1Np+eA2iy/P3f4YkqYIXWrdVJAO7LvMGsOLS1jpZdxQBX/8gQULVi
 kJDL4gpp2Tc1BLE83/K/JL+rQaezIrbw5+G8lTsVud4C6EgRBYTmFoKCL
X-Google-Smtp-Source: AGHT+IHoHXKlI+l52uuuXtaz4Q8avG+4p2nAVaoyyGzvUqBIqSadtho+c0dxOjWSuQoegFT76qUQcYA7WVET
X-Received: by 2002:a05:6122:a10:b0:4d4:2398:51a2 with SMTP id
 16-20020a0561220a1000b004d4239851a2mr9476587vkn.8.1710785564190; 
 Mon, 18 Mar 2024 11:12:44 -0700 (PDT)
Received: from postal.iol.unh.edu (postal.iol.unh.edu.
 [2606:4100:3880:1234::84]) by smtp-relay.gmail.com with ESMTPS id
 o18-20020a056122179200b004d34b1adccbsm403093vkf.10.2024.03.18.11.12.44
 (version=TLS1_2 cipher=ECDHE-ECDSA-AES128-GCM-SHA256 bits=128/128);
 Mon, 18 Mar 2024 11:12:44 -0700 (PDT)
X-Relaying-Domain: iol.unh.edu
Date: Mon, 18 Mar 2024 11:12:44 -0700 (PDT)
Message-ID: <65f8841c.050a0220.35e72.8b94SMTPIN_ADDED_MISSING@mx.google.com>
Received: from [172.17.0.8] (unknown [172.18.0.217])
 by postal.iol.unh.edu (Postfix) with ESMTP id CCA1B6052471;
 Mon, 18 Mar 2024 14:12:43 -0400 (EDT)
Subject: |SUCCESS| pw138455-138457 [PATCH] [v2,3/3] dts: store stderr in Remo
From: dpdklab@iol.unh.edu
To: Test Report <test-report@dpdk.org>
Cc: dpdk-test-reports@iol.unh.edu
In-Reply-To: <20240318171704.798634-4-luca.vizzarro@arm.com>
References: <20240318171704.798634-4-luca.vizzarro@arm.com>
Content-Type: text/plain
X-BeenThere: test-report@dpdk.org
X-Mailman-Version: 2.1.29
Precedence: list
List-Id: automatic DPDK test reports <test-report.dpdk.org>
List-Unsubscribe: <https://mails.dpdk.org/options/test-report>,
 <mailto:test-report-request@dpdk.org?subject=unsubscribe>
List-Archive: <http://mails.dpdk.org/archives/test-report/>
List-Post: <mailto:test-report@dpdk.org>
List-Help: <mailto:test-report-request@dpdk.org?subject=help>
List-Subscribe: <https://mails.dpdk.org/listinfo/test-report>,
 <mailto:test-report-request@dpdk.org?subject=subscribe>
Errors-To: test-report-bounces@dpdk.org

Test-Label: iol-unit-amd64-testing
Test-Status: SUCCESS
http://dpdk.org/patch/138457

_Testing PASS_

Submitter: Luca Vizzarro <luca.vizzarro@arm.com>
Date: Monday, March 18 2024 17:17:04 
DPDK git baseline: Repo:dpdk
  Branch: master
  CommitID:80ecef6d1f71fcebc0a51d7cabc51f73ee142ff2

138455-138457 --> testing pass

Test environment and result as below:

+---------------------+----------------+
|     Environment     | dpdk_unit_test |
+=====================+================+
| Windows Server 2019 | PASS           |
+---------------------+----------------+
| CentOS Stream 8     | PASS           |
+---------------------+----------------+
| CentOS Stream 9     | PASS           |
+---------------------+----------------+
| Debian Bullseye     | PASS           |
+---------------------+----------------+
| Fedora 37           | PASS           |
+---------------------+----------------+


Windows Server 2019
	Kernel: 10.0
	Compiler: clang 14.0 and gcc 8.1.0 (MinGW)

CentOS Stream 8
	Kernel: 4.18.0-240.10.1.el8_3.x86_64
	Compiler: gcc 8.4.1 20200928

CentOS Stream 9
	Kernel: 4.18.0-240.10.1.el8_3.x86_64
	Compiler: gcc 11.3.1 20220421

Debian Bullseye
	Kernel: 5.4.0-122-generic
	Compiler: gcc 10.2.1-6

Fedora 37
	Kernel: Depends on container host system
	Compiler: gcc 12.3.1

To view detailed results, visit:
https://lab.dpdk.org/results/dashboard/patchsets/29583/

UNH-IOL DPDK Community Lab

To manage your email subscriptions, visit: 
https://lab.dpdk.org/results/dashboard/preferences/subscriptions/