From mboxrd@z Thu Jan  1 00:00:00 1970
Return-Path: <test-report-bounces@dpdk.org>
Received: from mails.dpdk.org (mails.dpdk.org [217.70.189.124])
	by inbox.dpdk.org (Postfix) with ESMTP id 6BCEA4342E
	for <public@inbox.dpdk.org>; Mon, 18 Mar 2024 20:18:05 +0100 (CET)
Received: from mails.dpdk.org (localhost [127.0.0.1])
	by mails.dpdk.org (Postfix) with ESMTP id 64FA040289;
	Mon, 18 Mar 2024 20:18:05 +0100 (CET)
Received: from mail-yw1-f225.google.com (mail-yw1-f225.google.com
 [209.85.128.225])
 by mails.dpdk.org (Postfix) with ESMTP id E69C44027F
 for <test-report@dpdk.org>; Mon, 18 Mar 2024 20:18:04 +0100 (CET)
Received: by mail-yw1-f225.google.com with SMTP id
 00721157ae682-60fff981e2aso25757977b3.3
 for <test-report@dpdk.org>; Mon, 18 Mar 2024 12:18:04 -0700 (PDT)
DKIM-Signature: v=1; a=rsa-sha256; c=relaxed/relaxed;
 d=iol.unh.edu; s=unh-iol; t=1710789484; x=1711394284; darn=dpdk.org;
 h=references:in-reply-to:cc:to:from:subject:message-id:date:from:to
 :cc:subject:date:message-id:reply-to;
 bh=lvYQ+TnG3fGjx5H0PN+hpy+DUe/T8eoQSjoGTfFU6yQ=;
 b=X1RACkEYmO7fbJWYeDfW5MXizI8jXVcrllWAVA5FtnkU2n/lBOnD0kzLQ0oPYhohqq
 p69IW0GIzVvfgJjN3VHM0oeXhhju/ykVU2sV+f0FF2OM+USwslWE5BcOJxuTCoVcKJ8N
 pgVDlPdrOGPcgpBGvwvhezYC+asOnSPOgridk=
X-Google-DKIM-Signature: v=1; a=rsa-sha256; c=relaxed/relaxed;
 d=1e100.net; s=20230601; t=1710789484; x=1711394284;
 h=references:in-reply-to:cc:to:from:subject:message-id:date
 :x-gm-message-state:from:to:cc:subject:date:message-id:reply-to;
 bh=lvYQ+TnG3fGjx5H0PN+hpy+DUe/T8eoQSjoGTfFU6yQ=;
 b=ozsoK04z5mx/N3BYxjm3fPgEvfZfEcQyCHNTrr9DtUY28V/12IXMnMGs+Ql4d5R4uV
 vo4ZBuseacRAxkT3+ACMx+ok59iWb1jqeWKSjElHH+3Tk1yv9eISBIwaB+bTRqoMidOx
 YtfMYhaPxhCqOq/OW55gMDwhOrH5JL1vbRnEtVp7ADLFtvFUKFm9gtEePXUJblCuS8qI
 amcZgy39YZrxj4n9dVHcEPp+ggiaTN/gk2JHCj0V+AsH2brYhmkRSX+pRG/jPMJmVA61
 e82W3AU/ocROWMuJKvvjyQ/BKI25vxkYJWyrs7qfnAojqF8z1kQmP/Oa5ayMeHbHdVAX
 VDCQ==
X-Gm-Message-State: AOJu0YyIZwcekSWRuqzDkTyfyFgpG9Z8Q4ygMlNncLBZKjmKQQT++j50
 xnYr4sRPuyCEBZxKhM3s4xss+FjNv99Svuw0CNChOwiHcfBXhDw/BrTMKZcksvMX8MFIhFlYFI2
 BUyEVzqVPq19nRnMzPY/9UkTULGz30i18Gk5E3iNo+U1vL1zV+iu7Z4+J
X-Google-Smtp-Source: AGHT+IFcW8HfBnFu3fEvYr25EdxZouNOSnPiQCgFyUVxLofglykJ8nS1l52If3KYfouSKg1C0PAEwyfMogkn
X-Received: by 2002:a81:6dc2:0:b0:609:8717:4361 with SMTP id
 i185-20020a816dc2000000b0060987174361mr11334064ywc.4.1710789484382; 
 Mon, 18 Mar 2024 12:18:04 -0700 (PDT)
Received: from postal.iol.unh.edu (postal.iol.unh.edu.
 [2606:4100:3880:1234::84]) by smtp-relay.gmail.com with ESMTPS id
 i5-20020a81d505000000b006079f5e97b4sm398651ywj.38.2024.03.18.12.18.04
 (version=TLS1_2 cipher=ECDHE-ECDSA-AES128-GCM-SHA256 bits=128/128);
 Mon, 18 Mar 2024 12:18:04 -0700 (PDT)
X-Relaying-Domain: iol.unh.edu
Date: Mon, 18 Mar 2024 12:18:04 -0700 (PDT)
Message-ID: <65f8936c.810a0220.84ef4.6afeSMTPIN_ADDED_MISSING@mx.google.com>
Received: from [172.21.0.6] (unknown [172.18.0.240])
 by postal.iol.unh.edu (Postfix) with ESMTP id 094AE6052471;
 Mon, 18 Mar 2024 15:18:04 -0400 (EDT)
Subject: |SUCCESS| pw138465 [PATCH] doc: add dma perf feature details
From: dpdklab@iol.unh.edu
To: Test Report <test-report@dpdk.org>
Cc: dpdk-test-reports@iol.unh.edu
In-Reply-To: <20240318181730.2725829-1-amitprakashs@marvell.com>
References: <20240318181730.2725829-1-amitprakashs@marvell.com>
Content-Type: text/plain
X-BeenThere: test-report@dpdk.org
X-Mailman-Version: 2.1.29
Precedence: list
List-Id: automatic DPDK test reports <test-report.dpdk.org>
List-Unsubscribe: <https://mails.dpdk.org/options/test-report>,
 <mailto:test-report-request@dpdk.org?subject=unsubscribe>
List-Archive: <http://mails.dpdk.org/archives/test-report/>
List-Post: <mailto:test-report@dpdk.org>
List-Help: <mailto:test-report-request@dpdk.org?subject=help>
List-Subscribe: <https://mails.dpdk.org/listinfo/test-report>,
 <mailto:test-report-request@dpdk.org?subject=subscribe>
Errors-To: test-report-bounces@dpdk.org

Test-Label: iol-unit-arm64-testing
Test-Status: SUCCESS
http://dpdk.org/patch/138465

_Testing PASS_

Submitter: Amit Prakash Shukla <amitprakashs@marvell.com>
Date: Monday, March 18 2024 18:17:30 
DPDK git baseline: Repo:dpdk
  Branch: master
  CommitID:80ecef6d1f71fcebc0a51d7cabc51f73ee142ff2

138465 --> testing pass

Test environment and result as below:

+--------------------------+---------------------------+----------------+------------------------------+--------------+
|       Environment        | cryptodev_sw_zuc_autotest | dpdk_unit_test | cryptodev_sw_snow3g_autotest | lpm_autotest |
+==========================+===========================+================+==============================+==============+
| Debian 12 (arm)          | PASS                      | PASS           | PASS                         | SKIPPED      |
+--------------------------+---------------------------+----------------+------------------------------+--------------+
| Debian 11 (Buster) (ARM) | SKIPPED                   | PASS           | SKIPPED                      | SKIPPED      |
+--------------------------+---------------------------+----------------+------------------------------+--------------+
| CentOS Stream 9 (ARM)    | SKIPPED                   | PASS           | SKIPPED                      | SKIPPED      |
+--------------------------+---------------------------+----------------+------------------------------+--------------+
| Fedora 38 (ARM)          | SKIPPED                   | PASS           | SKIPPED                      | SKIPPED      |
+--------------------------+---------------------------+----------------+------------------------------+--------------+
| Fedora 37 (ARM)          | SKIPPED                   | PASS           | SKIPPED                      | SKIPPED      |
+--------------------------+---------------------------+----------------+------------------------------+--------------+
| Ubuntu 20.04 (ARM)       | SKIPPED                   | PASS           | SKIPPED                      | SKIPPED      |
+--------------------------+---------------------------+----------------+------------------------------+--------------+
| Ubuntu 20.04 ARM SVE     | SKIPPED                   | SKIPPED        | SKIPPED                      | PASS         |
+--------------------------+---------------------------+----------------+------------------------------+--------------+


Debian 12 (arm)
	Kernel: Container Host Kernel
	Compiler: gcc 11

Debian 11 (Buster) (ARM)
	Kernel: Container Host Kernel
	Compiler: gcc 10.2.1

CentOS Stream 9 (ARM)
	Kernel: Container Host Kernel
	Compiler: gcc 11.4.1

Fedora 38 (ARM)
	Kernel: Depends on container host
	Compiler: gcc 13.1.1

Fedora 37 (ARM)
	Kernel: Depends on container host
	Compiler: gcc 12.3.1

Ubuntu 20.04 (ARM)
	Kernel: Container Host Kernel
	Compiler: gcc 9.4.0

Ubuntu 20.04 ARM SVE
	Kernel: 5.4.0-80-generic
	Compiler: gcc 10.3.0 (Ubuntu 10.3.0-1ubuntu1~20.04)

To view detailed results, visit:
https://lab.dpdk.org/results/dashboard/patchsets/29586/

UNH-IOL DPDK Community Lab

To manage your email subscriptions, visit: 
https://lab.dpdk.org/results/dashboard/preferences/subscriptions/