From mboxrd@z Thu Jan  1 00:00:00 1970
Return-Path: <test-report-bounces@dpdk.org>
Received: from mails.dpdk.org (mails.dpdk.org [217.70.189.124])
	by inbox.dpdk.org (Postfix) with ESMTP id A16FB4342E
	for <public@inbox.dpdk.org>; Mon, 18 Mar 2024 20:20:19 +0100 (CET)
Received: from mails.dpdk.org (localhost [127.0.0.1])
	by mails.dpdk.org (Postfix) with ESMTP id 8A17740289;
	Mon, 18 Mar 2024 20:20:19 +0100 (CET)
Received: from mail-qk1-f228.google.com (mail-qk1-f228.google.com
 [209.85.222.228])
 by mails.dpdk.org (Postfix) with ESMTP id E65434027F
 for <test-report@dpdk.org>; Mon, 18 Mar 2024 20:20:11 +0100 (CET)
Received: by mail-qk1-f228.google.com with SMTP id
 af79cd13be357-789e5021703so165677785a.0
 for <test-report@dpdk.org>; Mon, 18 Mar 2024 12:20:11 -0700 (PDT)
DKIM-Signature: v=1; a=rsa-sha256; c=relaxed/relaxed;
 d=iol.unh.edu; s=unh-iol; t=1710789611; x=1711394411; darn=dpdk.org;
 h=references:in-reply-to:cc:to:from:subject:message-id:date:from:to
 :cc:subject:date:message-id:reply-to;
 bh=lvYQ+TnG3fGjx5H0PN+hpy+DUe/T8eoQSjoGTfFU6yQ=;
 b=QglG/OHn3Mb+PbF3Bkp/7g+/24yU42FC0tuZbvLzCqcBx7QUtBfLduzA5xCR2jfka2
 zznTf0zS6dGvhq+VtiqI+Nte/PHnBhNNtTM3rqPCb3redcoE0xmWu6rH9/H1m4PZrOTH
 X00Sg/vyPtpZv6wnCeBEwtWveXiA/r33Ubi6Q=
X-Google-DKIM-Signature: v=1; a=rsa-sha256; c=relaxed/relaxed;
 d=1e100.net; s=20230601; t=1710789611; x=1711394411;
 h=references:in-reply-to:cc:to:from:subject:message-id:date
 :x-gm-message-state:from:to:cc:subject:date:message-id:reply-to;
 bh=lvYQ+TnG3fGjx5H0PN+hpy+DUe/T8eoQSjoGTfFU6yQ=;
 b=STcki8VY5qTabwW6PZIORgeFZQRQK0bmXNOBJww7VuqJ6LFr+20p1ekuununerzpwg
 TdxcnY0WG0zxSbK5Ly7VODPtcsgWnOJ1Tc7YauHFX/NWUSwxlhv8VHrnMKYPrlqf6RzH
 E0iZ9XIaAKUyiB0xwYahvoaYE/e1O2Wm/1qlCuyJJ0n/AAMLrT+gav7kOceu8Yhcz+A2
 bJEvEAPposyijcp+xWGWhJgQKsXTPKY+SPXS6Nf5OPoEvIHvBeV0NkZb0byju1dj29hW
 8hXZgD972ZV7TRfvuUneQuVO3QTMxdtf+uD7e3Mx04PUo1pBa6M9dskdC7MoGS8iLQMk
 DRcg==
X-Gm-Message-State: AOJu0YxRe2Fo9n59BzaEinLGteFRbPKG/nOzerz/EptnWTde79fhmmCJ
 B/A1J6kEEMHcjF2v9kk6+OpUZyMDGReWRs2Out6ZjUzIn3sYObN3LsUXbEFFq3HiKIxjBNQlffY
 RaMVx+FJNIkGnsIytxGt760Mm4iGAx6CZQUMiEICM
X-Google-Smtp-Source: AGHT+IFI/Gzfs8EaXfPoGyYmRxN+0bv3qL0PfBvv+MiEyEcy838MA5paA8G8BJnR7j72VYENAB4nUw/jxbXL
X-Received: by 2002:a05:620a:4150:b0:789:1eb7:99c5 with SMTP id
 k16-20020a05620a415000b007891eb799c5mr915501qko.5.1710789611374; 
 Mon, 18 Mar 2024 12:20:11 -0700 (PDT)
Received: from postal.iol.unh.edu (postal.iol.unh.edu. [132.177.123.84])
 by smtp-relay.gmail.com with ESMTPS id
 bk33-20020a05620a1a2100b00789f044d369sm263762qkb.2.2024.03.18.12.20.11
 (version=TLS1_2 cipher=ECDHE-ECDSA-AES128-GCM-SHA256 bits=128/128);
 Mon, 18 Mar 2024 12:20:11 -0700 (PDT)
X-Relaying-Domain: iol.unh.edu
Date: Mon, 18 Mar 2024 12:20:11 -0700 (PDT)
Message-ID: <65f893eb.050a0220.ba44d.cdfbSMTPIN_ADDED_MISSING@mx.google.com>
Received: from [172.17.0.7] (unknown [172.18.0.217])
 by postal.iol.unh.edu (Postfix) with ESMTP id 15C356052471;
 Mon, 18 Mar 2024 15:20:11 -0400 (EDT)
Subject: |SUCCESS| pw138465 [PATCH] doc: add dma perf feature details
From: dpdklab@iol.unh.edu
To: Test Report <test-report@dpdk.org>
Cc: dpdk-test-reports@iol.unh.edu
In-Reply-To: <20240318181730.2725829-1-amitprakashs@marvell.com>
References: <20240318181730.2725829-1-amitprakashs@marvell.com>
Content-Type: text/plain
X-BeenThere: test-report@dpdk.org
X-Mailman-Version: 2.1.29
Precedence: list
List-Id: automatic DPDK test reports <test-report.dpdk.org>
List-Unsubscribe: <https://mails.dpdk.org/options/test-report>,
 <mailto:test-report-request@dpdk.org?subject=unsubscribe>
List-Archive: <http://mails.dpdk.org/archives/test-report/>
List-Post: <mailto:test-report@dpdk.org>
List-Help: <mailto:test-report-request@dpdk.org?subject=help>
List-Subscribe: <https://mails.dpdk.org/listinfo/test-report>,
 <mailto:test-report-request@dpdk.org?subject=subscribe>
Errors-To: test-report-bounces@dpdk.org

Test-Label: iol-unit-arm64-testing
Test-Status: SUCCESS
http://dpdk.org/patch/138465

_Testing PASS_

Submitter: Amit Prakash Shukla <amitprakashs@marvell.com>
Date: Monday, March 18 2024 18:17:30 
DPDK git baseline: Repo:dpdk
  Branch: master
  CommitID:80ecef6d1f71fcebc0a51d7cabc51f73ee142ff2

138465 --> testing pass

Test environment and result as below:

+--------------------------+---------------------------+----------------+------------------------------+--------------+
|       Environment        | cryptodev_sw_zuc_autotest | dpdk_unit_test | cryptodev_sw_snow3g_autotest | lpm_autotest |
+==========================+===========================+================+==============================+==============+
| Debian 12 (arm)          | PASS                      | PASS           | PASS                         | SKIPPED      |
+--------------------------+---------------------------+----------------+------------------------------+--------------+
| Debian 11 (Buster) (ARM) | SKIPPED                   | PASS           | SKIPPED                      | SKIPPED      |
+--------------------------+---------------------------+----------------+------------------------------+--------------+
| CentOS Stream 9 (ARM)    | SKIPPED                   | PASS           | SKIPPED                      | SKIPPED      |
+--------------------------+---------------------------+----------------+------------------------------+--------------+
| Fedora 38 (ARM)          | SKIPPED                   | PASS           | SKIPPED                      | SKIPPED      |
+--------------------------+---------------------------+----------------+------------------------------+--------------+
| Fedora 37 (ARM)          | SKIPPED                   | PASS           | SKIPPED                      | SKIPPED      |
+--------------------------+---------------------------+----------------+------------------------------+--------------+
| Ubuntu 20.04 (ARM)       | SKIPPED                   | PASS           | SKIPPED                      | SKIPPED      |
+--------------------------+---------------------------+----------------+------------------------------+--------------+
| Ubuntu 20.04 ARM SVE     | SKIPPED                   | SKIPPED        | SKIPPED                      | PASS         |
+--------------------------+---------------------------+----------------+------------------------------+--------------+


Debian 12 (arm)
	Kernel: Container Host Kernel
	Compiler: gcc 11

Debian 11 (Buster) (ARM)
	Kernel: Container Host Kernel
	Compiler: gcc 10.2.1

CentOS Stream 9 (ARM)
	Kernel: Container Host Kernel
	Compiler: gcc 11.4.1

Fedora 38 (ARM)
	Kernel: Depends on container host
	Compiler: gcc 13.1.1

Fedora 37 (ARM)
	Kernel: Depends on container host
	Compiler: gcc 12.3.1

Ubuntu 20.04 (ARM)
	Kernel: Container Host Kernel
	Compiler: gcc 9.4.0

Ubuntu 20.04 ARM SVE
	Kernel: 5.4.0-80-generic
	Compiler: gcc 10.3.0 (Ubuntu 10.3.0-1ubuntu1~20.04)

To view detailed results, visit:
https://lab.dpdk.org/results/dashboard/patchsets/29586/

UNH-IOL DPDK Community Lab

To manage your email subscriptions, visit: 
https://lab.dpdk.org/results/dashboard/preferences/subscriptions/