From mboxrd@z Thu Jan  1 00:00:00 1970
Return-Path: <test-report-bounces@dpdk.org>
Received: from mails.dpdk.org (mails.dpdk.org [217.70.189.124])
	by inbox.dpdk.org (Postfix) with ESMTP id AAD374342E
	for <public@inbox.dpdk.org>; Mon, 18 Mar 2024 20:23:39 +0100 (CET)
Received: from mails.dpdk.org (localhost [127.0.0.1])
	by mails.dpdk.org (Postfix) with ESMTP id A64F640289;
	Mon, 18 Mar 2024 20:23:39 +0100 (CET)
Received: from mail-oa1-f98.google.com (mail-oa1-f98.google.com
 [209.85.160.98]) by mails.dpdk.org (Postfix) with ESMTP id B79F04027F
 for <test-report@dpdk.org>; Mon, 18 Mar 2024 20:23:27 +0100 (CET)
Received: by mail-oa1-f98.google.com with SMTP id
 586e51a60fabf-2282597eff5so1117765fac.3
 for <test-report@dpdk.org>; Mon, 18 Mar 2024 12:23:27 -0700 (PDT)
DKIM-Signature: v=1; a=rsa-sha256; c=relaxed/relaxed;
 d=iol.unh.edu; s=unh-iol; t=1710789807; x=1711394607; darn=dpdk.org;
 h=references:in-reply-to:cc:to:from:subject:message-id:date:from:to
 :cc:subject:date:message-id:reply-to;
 bh=jm3RIgl1PD0bLAgYJxuxIsXY9msoITYTJAL94Y4JxMY=;
 b=UalpogaqDMYiIG6O40BLMiScnK/CnP6Cb+IWhX824Q00OwaTQZLiQuhpF59sN2vc8c
 A/LL6DT0+DgBZ21Qh4TaTHbsm7HmhEl5kmlomnV3K0Jk8PTTxlaqcXyHLCGktR3tK0UT
 2l85Vapb3n10qVg2OeL+xUXiCk9LCXjXTxRs8=
X-Google-DKIM-Signature: v=1; a=rsa-sha256; c=relaxed/relaxed;
 d=1e100.net; s=20230601; t=1710789807; x=1711394607;
 h=references:in-reply-to:cc:to:from:subject:message-id:date
 :x-gm-message-state:from:to:cc:subject:date:message-id:reply-to;
 bh=jm3RIgl1PD0bLAgYJxuxIsXY9msoITYTJAL94Y4JxMY=;
 b=r0ovCnRPRqH7dAA7QZUbNYRyE3ldH7klZc+EAkY2Qp2/mbYYplTPnLPfwZxDAO865Y
 OKXrJjxQ40K03ipl3oByidGz1oFQlOmNq5TadUSVL4FYs32XEIGoRZqJkE0mjFq5s9Sy
 O2Bc/g1fEHKehWAL9VwNh2FWWEUIN2kFLoqdmiNtg0N733ATG6en8uhiMo69Owqs/XLf
 tkEhmk1JdT+HLYanScU5FumpFTGpMCBXg2FZD3ojTriujC5AxFfFFAncHPVbMPh3dwYr
 Trhd9oihjg5Za+XCCgL36bdte4rVaqlXGNhWiMRQ2nsIi5SZKwWs4b/d+2hKj2pT9EL6
 r9Yw==
X-Gm-Message-State: AOJu0YyLL8wCIOG4lLXbQ4dAw1xC1w8m/1ttg1Nu1+9hskWHArKHsquo
 82Wygs8XPYFTFc7ceD/7OWu87Vx/H4D8lI/Sw7HjctzulKva1UR6iZxp2OcBedeWlsSQMelroPQ
 VWZpnBB+C8HZ6WeTclx3hF9zeKWpZuzamefO2Ouj+
X-Google-Smtp-Source: AGHT+IHnTi/XqtBWNALZ0sKl1rjXL4ACoSyL6IvlxwU6PzDV5fJJLl5Qap6sV5S7E3ff+0K7WJAPJYbblCOA
X-Received: by 2002:a05:6870:d68e:b0:222:826f:163e with SMTP id
 z14-20020a056870d68e00b00222826f163emr12112417oap.5.1710789807051; 
 Mon, 18 Mar 2024 12:23:27 -0700 (PDT)
Received: from postal.iol.unh.edu (postal.iol.unh.edu. [132.177.123.84])
 by smtp-relay.gmail.com with ESMTPS id
 12-20020a0562140d6c00b006960f884b27sm305973qvs.12.2024.03.18.12.23.26
 (version=TLS1_2 cipher=ECDHE-ECDSA-AES128-GCM-SHA256 bits=128/128);
 Mon, 18 Mar 2024 12:23:27 -0700 (PDT)
X-Relaying-Domain: iol.unh.edu
Date: Mon, 18 Mar 2024 12:23:27 -0700 (PDT)
Message-ID: <65f894af.050a0220.636d1.4e0fSMTPIN_ADDED_MISSING@mx.google.com>
Received: from [172.17.0.6] (unknown [172.18.0.217])
 by postal.iol.unh.edu (Postfix) with ESMTP id B766F6052471;
 Mon, 18 Mar 2024 15:23:26 -0400 (EDT)
Subject: |SUCCESS| pw138465 [PATCH] doc: add dma perf feature details
From: dpdklab@iol.unh.edu
To: Test Report <test-report@dpdk.org>
Cc: dpdk-test-reports@iol.unh.edu
In-Reply-To: <20240318181730.2725829-1-amitprakashs@marvell.com>
References: <20240318181730.2725829-1-amitprakashs@marvell.com>
Content-Type: text/plain
X-BeenThere: test-report@dpdk.org
X-Mailman-Version: 2.1.29
Precedence: list
List-Id: automatic DPDK test reports <test-report.dpdk.org>
List-Unsubscribe: <https://mails.dpdk.org/options/test-report>,
 <mailto:test-report-request@dpdk.org?subject=unsubscribe>
List-Archive: <http://mails.dpdk.org/archives/test-report/>
List-Post: <mailto:test-report@dpdk.org>
List-Help: <mailto:test-report-request@dpdk.org?subject=help>
List-Subscribe: <https://mails.dpdk.org/listinfo/test-report>,
 <mailto:test-report-request@dpdk.org?subject=subscribe>
Errors-To: test-report-bounces@dpdk.org

Test-Label: iol-compile-amd64-testing
Test-Status: SUCCESS
http://dpdk.org/patch/138465

_Testing PASS_

Submitter: Amit Prakash Shukla <amitprakashs@marvell.com>
Date: Monday, March 18 2024 18:17:30 
DPDK git baseline: Repo:dpdk
  Branch: master
  CommitID:80ecef6d1f71fcebc0a51d7cabc51f73ee142ff2

138465 --> testing pass

Test environment and result as below:

+---------------------+--------------------+----------------------+
|     Environment     | dpdk_meson_compile | dpdk_mingw64_compile |
+=====================+====================+======================+
| Debian 12 (arm)     | PASS               | SKIPPED              |
+---------------------+--------------------+----------------------+
| CentOS Stream 8     | PASS               | SKIPPED              |
+---------------------+--------------------+----------------------+
| Debian Bullseye     | PASS               | SKIPPED              |
+---------------------+--------------------+----------------------+
| Fedora 37           | PASS               | SKIPPED              |
+---------------------+--------------------+----------------------+
| Fedora 38           | PASS               | SKIPPED              |
+---------------------+--------------------+----------------------+
| Ubuntu 22.04        | PASS               | SKIPPED              |
+---------------------+--------------------+----------------------+
| Ubuntu 20.04        | PASS               | SKIPPED              |
+---------------------+--------------------+----------------------+
| openSUSE Leap 15    | PASS               | SKIPPED              |
+---------------------+--------------------+----------------------+
| Windows Server 2019 | PASS               | PASS                 |
+---------------------+--------------------+----------------------+
| FreeBSD 13.2        | PASS               | SKIPPED              |
+---------------------+--------------------+----------------------+
| RHEL8               | PASS               | SKIPPED              |
+---------------------+--------------------+----------------------+
| Windows Server 2022 | PASS               | PASS                 |
+---------------------+--------------------+----------------------+
| CentOS Stream 9     | PASS               | SKIPPED              |
+---------------------+--------------------+----------------------+


Debian 12 (arm)
	Kernel: Container Host Kernel
	Compiler: gcc 11

CentOS Stream 8
	Kernel: 5.4.0-167-generic
	Compiler: gcc 8.5.0 20210514

Debian Bullseye
	Kernel: 5.4.0-122-generic
	Compiler: gcc 10.2.1-6

Fedora 37
	Kernel: Depends on container host system
	Compiler: gcc 12.3.1

Fedora 38
	Kernel: Depends on container host
	Compiler: gcc 13.1.1

Ubuntu 22.04
	Kernel: 4.18.0-240.10.1.el8_3.x86_64
	Compiler: gcc 11.3.0

Ubuntu 20.04
	Kernel: 5.4.0-153-generic
	Compiler: gcc 9.4.0-1ubuntu1~20.04.1

openSUSE Leap 15
	Kernel: 4.18.0-240.10.1.el8_3.x86_64
	Compiler: gcc 7.5.0

Windows Server 2019
	Kernel: 10.0
	Compiler: clang 14.0 and gcc 8.1.0 (MinGW)

FreeBSD 13.2
	Kernel: 13.2
	Compiler: clang 11.3.0

RHEL8
	Kernel: 4.18.0-240.10.1.el8_3.x86_64
	Compiler: gcc 8.3.1 20191121 (Red Hat 8.3.1-5)

Windows Server 2022
	Kernel: OS Build 20348.2031
	Compiler: clang 15.0.7, gcc 8.1.0 (MinGW), and MSVC VS 17.9

CentOS Stream 9
	Kernel: 5.4.0-167-generic
	Compiler: gcc 11.4.1 20230605

To view detailed results, visit:
https://lab.dpdk.org/results/dashboard/patchsets/29586/

UNH-IOL DPDK Community Lab

To manage your email subscriptions, visit: 
https://lab.dpdk.org/results/dashboard/preferences/subscriptions/