From mboxrd@z Thu Jan  1 00:00:00 1970
Return-Path: <test-report-bounces@dpdk.org>
Received: from mails.dpdk.org (mails.dpdk.org [217.70.189.124])
	by inbox.dpdk.org (Postfix) with ESMTP id B9EA04342E
	for <public@inbox.dpdk.org>; Mon, 18 Mar 2024 20:25:10 +0100 (CET)
Received: from mails.dpdk.org (localhost [127.0.0.1])
	by mails.dpdk.org (Postfix) with ESMTP id B667540A70;
	Mon, 18 Mar 2024 20:25:10 +0100 (CET)
Received: from mail-yb1-f225.google.com (mail-yb1-f225.google.com
 [209.85.219.225])
 by mails.dpdk.org (Postfix) with ESMTP id A45F54027F
 for <test-report@dpdk.org>; Mon, 18 Mar 2024 20:24:58 +0100 (CET)
Received: by mail-yb1-f225.google.com with SMTP id
 3f1490d57ef6-dccb1421bdeso3991092276.1
 for <test-report@dpdk.org>; Mon, 18 Mar 2024 12:24:58 -0700 (PDT)
DKIM-Signature: v=1; a=rsa-sha256; c=relaxed/relaxed;
 d=iol.unh.edu; s=unh-iol; t=1710789898; x=1711394698; darn=dpdk.org;
 h=references:in-reply-to:cc:to:from:subject:message-id:date:from:to
 :cc:subject:date:message-id:reply-to;
 bh=VIDAbUSFok5CDOZvRHp9PmOXfNdBYpIKt+Ez/FbwYNQ=;
 b=ifIlvYe62kHTq+AVP9wqXNvKBrFf9O6ZeHapcOQOlmy1Mxh2RNfikNl1MSCPJOWwyD
 YZAJOF/BCrSuYAdFg+LmlUYvomXGj9kCRu6O6bvP/IaylySSkX4VC7l4dIwqinYJq8i5
 ZQt5IM53Ys8i9GhR/z905oGpbu30yAVmj1TOM=
X-Google-DKIM-Signature: v=1; a=rsa-sha256; c=relaxed/relaxed;
 d=1e100.net; s=20230601; t=1710789898; x=1711394698;
 h=references:in-reply-to:cc:to:from:subject:message-id:date
 :x-gm-message-state:from:to:cc:subject:date:message-id:reply-to;
 bh=VIDAbUSFok5CDOZvRHp9PmOXfNdBYpIKt+Ez/FbwYNQ=;
 b=GvNWlRIGn6A00ST3I33Qe4utD+DdS0O4ayZ+DwpzVlRoCQTYP1gTBERsGITo+hwwdF
 +fePrNYzyldUXISSNf1als8uk4+NtkCiHhokNV6LhfQlrai5aeAZO/gCxHvnY3xcY/Zm
 DoNWu8uRINTO3opIesAYzHFHv+1TDlpJ6MFMsyT5wUezCtGDKJnN8JRErRqWpNIu6Umf
 2SQ96Vib8wyoEFENMuYxFF6797sCSPfVGs1tga59B+45y192j870Z+2j9h6Ja7UpVzlE
 lAZ3n1H3hRUZX1PcMLGWEtEkuGOhkD6hx2prMTlRPVOBJL7bpapjUh5oB9KId/JUEUc+
 cIow==
X-Gm-Message-State: AOJu0YzjXxavFnCRTFJA8as6FHa84JlE4IJcaCQfuHtM2JuY3oK6gOBl
 gF15yanw7KGi89vL5agGw8kqRM1X6yqv3dLsjx+1UPLi4+oVPI2OHlucOj4NtBKSbYoUk+2mxkx
 h0+5MCBwpbNdGa4B9BO7hSj0XbTcpaxqNlc3w7K/I
X-Google-Smtp-Source: AGHT+IHcj6ShP6yayfRfkEBlJF1g2kBcVvsQfZeYieFuBObbZnO7JwLTsM+ZI4CjGsiJ4ZZnyo9pLu2OiTXi
X-Received: by 2002:a25:c70d:0:b0:dcc:4b44:3377 with SMTP id
 w13-20020a25c70d000000b00dcc4b443377mr46031ybe.25.1710789898136; 
 Mon, 18 Mar 2024 12:24:58 -0700 (PDT)
Received: from postal.iol.unh.edu (postal.iol.unh.edu. [132.177.123.84])
 by smtp-relay.gmail.com with ESMTPS id
 w15-20020a25df0f000000b00dd131a5dd5bsm376794ybg.31.2024.03.18.12.24.58
 (version=TLS1_2 cipher=ECDHE-ECDSA-AES128-GCM-SHA256 bits=128/128);
 Mon, 18 Mar 2024 12:24:58 -0700 (PDT)
X-Relaying-Domain: iol.unh.edu
Date: Mon, 18 Mar 2024 12:24:58 -0700 (PDT)
Message-ID: <65f8950a.250a0220.131ec.762fSMTPIN_ADDED_MISSING@mx.google.com>
Received: from [172.17.0.6] (unknown [172.18.0.217])
 by postal.iol.unh.edu (Postfix) with ESMTP id C194F6052471;
 Mon, 18 Mar 2024 15:24:57 -0400 (EDT)
Subject: |SUCCESS| pw138465 [PATCH] doc: add dma perf feature details
From: dpdklab@iol.unh.edu
To: Test Report <test-report@dpdk.org>
Cc: dpdk-test-reports@iol.unh.edu
In-Reply-To: <20240318181730.2725829-1-amitprakashs@marvell.com>
References: <20240318181730.2725829-1-amitprakashs@marvell.com>
Content-Type: text/plain
X-BeenThere: test-report@dpdk.org
X-Mailman-Version: 2.1.29
Precedence: list
List-Id: automatic DPDK test reports <test-report.dpdk.org>
List-Unsubscribe: <https://mails.dpdk.org/options/test-report>,
 <mailto:test-report-request@dpdk.org?subject=unsubscribe>
List-Archive: <http://mails.dpdk.org/archives/test-report/>
List-Post: <mailto:test-report@dpdk.org>
List-Help: <mailto:test-report-request@dpdk.org?subject=help>
List-Subscribe: <https://mails.dpdk.org/listinfo/test-report>,
 <mailto:test-report-request@dpdk.org?subject=subscribe>
Errors-To: test-report-bounces@dpdk.org

Test-Label: iol-compile-amd64-testing
Test-Status: SUCCESS
http://dpdk.org/patch/138465

_Testing PASS_

Submitter: Amit Prakash Shukla <amitprakashs@marvell.com>
Date: Monday, March 18 2024 18:17:30 
DPDK git baseline: Repo:dpdk
  Branch: master
  CommitID:80ecef6d1f71fcebc0a51d7cabc51f73ee142ff2

138465 --> testing pass

Test environment and result as below:

+---------------------+--------------------+----------------------+-------------------+
|     Environment     | dpdk_meson_compile | dpdk_mingw64_compile | dpdk_msvc_compile |
+=====================+====================+======================+===================+
| Debian 12 (arm)     | PASS               | SKIPPED              | SKIPPED           |
+---------------------+--------------------+----------------------+-------------------+
| CentOS Stream 8     | PASS               | SKIPPED              | SKIPPED           |
+---------------------+--------------------+----------------------+-------------------+
| Debian Bullseye     | PASS               | SKIPPED              | SKIPPED           |
+---------------------+--------------------+----------------------+-------------------+
| Fedora 37           | PASS               | SKIPPED              | SKIPPED           |
+---------------------+--------------------+----------------------+-------------------+
| Fedora 38           | PASS               | SKIPPED              | SKIPPED           |
+---------------------+--------------------+----------------------+-------------------+
| Ubuntu 22.04        | PASS               | SKIPPED              | SKIPPED           |
+---------------------+--------------------+----------------------+-------------------+
| Ubuntu 20.04        | PASS               | SKIPPED              | SKIPPED           |
+---------------------+--------------------+----------------------+-------------------+
| openSUSE Leap 15    | PASS               | SKIPPED              | SKIPPED           |
+---------------------+--------------------+----------------------+-------------------+
| Windows Server 2019 | PASS               | PASS                 | SKIPPED           |
+---------------------+--------------------+----------------------+-------------------+
| FreeBSD 13.2        | PASS               | SKIPPED              | SKIPPED           |
+---------------------+--------------------+----------------------+-------------------+
| RHEL8               | PASS               | SKIPPED              | SKIPPED           |
+---------------------+--------------------+----------------------+-------------------+
| Windows Server 2022 | PASS               | PASS                 | PASS              |
+---------------------+--------------------+----------------------+-------------------+
| CentOS Stream 9     | PASS               | SKIPPED              | SKIPPED           |
+---------------------+--------------------+----------------------+-------------------+


Debian 12 (arm)
	Kernel: Container Host Kernel
	Compiler: gcc 11

CentOS Stream 8
	Kernel: 5.4.0-167-generic
	Compiler: gcc 8.5.0 20210514

Debian Bullseye
	Kernel: 5.4.0-122-generic
	Compiler: gcc 10.2.1-6

Fedora 37
	Kernel: Depends on container host system
	Compiler: gcc 12.3.1

Fedora 38
	Kernel: Depends on container host
	Compiler: gcc 13.1.1

Ubuntu 22.04
	Kernel: 4.18.0-240.10.1.el8_3.x86_64
	Compiler: gcc 11.3.0

Ubuntu 20.04
	Kernel: 5.4.0-153-generic
	Compiler: gcc 9.4.0-1ubuntu1~20.04.1

openSUSE Leap 15
	Kernel: 4.18.0-240.10.1.el8_3.x86_64
	Compiler: gcc 7.5.0

Windows Server 2019
	Kernel: 10.0
	Compiler: clang 14.0 and gcc 8.1.0 (MinGW)

FreeBSD 13.2
	Kernel: 13.2
	Compiler: clang 11.3.0

RHEL8
	Kernel: 4.18.0-240.10.1.el8_3.x86_64
	Compiler: gcc 8.3.1 20191121 (Red Hat 8.3.1-5)

Windows Server 2022
	Kernel: OS Build 20348.2031
	Compiler: clang 15.0.7, gcc 8.1.0 (MinGW), and MSVC VS 17.9

CentOS Stream 9
	Kernel: 5.4.0-167-generic
	Compiler: gcc 11.4.1 20230605

To view detailed results, visit:
https://lab.dpdk.org/results/dashboard/patchsets/29586/

UNH-IOL DPDK Community Lab

To manage your email subscriptions, visit: 
https://lab.dpdk.org/results/dashboard/preferences/subscriptions/