From mboxrd@z Thu Jan  1 00:00:00 1970
Return-Path: <test-report-bounces@dpdk.org>
Received: from mails.dpdk.org (mails.dpdk.org [217.70.189.124])
	by inbox.dpdk.org (Postfix) with ESMTP id CDB914342E
	for <public@inbox.dpdk.org>; Mon, 18 Mar 2024 20:27:07 +0100 (CET)
Received: from mails.dpdk.org (localhost [127.0.0.1])
	by mails.dpdk.org (Postfix) with ESMTP id C309840289;
	Mon, 18 Mar 2024 20:27:07 +0100 (CET)
Received: from mail-ot1-f100.google.com (mail-ot1-f100.google.com
 [209.85.210.100])
 by mails.dpdk.org (Postfix) with ESMTP id 083C74027F
 for <test-report@dpdk.org>; Mon, 18 Mar 2024 20:26:18 +0100 (CET)
Received: by mail-ot1-f100.google.com with SMTP id
 46e09a7af769-6e6738f7535so3200410a34.2
 for <test-report@dpdk.org>; Mon, 18 Mar 2024 12:26:17 -0700 (PDT)
DKIM-Signature: v=1; a=rsa-sha256; c=relaxed/relaxed;
 d=iol.unh.edu; s=unh-iol; t=1710789977; x=1711394777; darn=dpdk.org;
 h=references:in-reply-to:cc:to:from:subject:message-id:date:from:to
 :cc:subject:date:message-id:reply-to;
 bh=5XJIpxvy6fsNIujdevBHHEBQtFkEj/oFTp3o/w+QQpY=;
 b=hJALlXlayC78ABq3hoIt+VTYI15Thh6YsoSFz1HO77gZymy9s0EeTIUShzvQGmx0dx
 vWFr7XyQiEeLKaqHwCZPn41u2lyD8Y9e8X9E5ZsjWVHE4p3x1o9TUqM+CsjE5mFSHLsU
 7kfJukxpjEY0IibeLSuKYpG9DaHP0UxQ3JJTM=
X-Google-DKIM-Signature: v=1; a=rsa-sha256; c=relaxed/relaxed;
 d=1e100.net; s=20230601; t=1710789977; x=1711394777;
 h=references:in-reply-to:cc:to:from:subject:message-id:date
 :x-gm-message-state:from:to:cc:subject:date:message-id:reply-to;
 bh=5XJIpxvy6fsNIujdevBHHEBQtFkEj/oFTp3o/w+QQpY=;
 b=XLpjyjt7o8VJUzmMoEu318COMbn544ld54Vr4Ubu3m0VHAvND8GaJ2nEKlAKTJ8pgp
 V2AeYWRCNy+1PQqzxBtofOx1djGMkJKSRLWzmPIyhOppNlPCODrU6AiIjTmJ+8iq8o60
 kvh12UCfIx5535dfTJcGhnqrDLiKeyaO+BC5q20+Sa2X2qYfqD7L7zDtdVsZ5++0U9I+
 uWkHivl/5WzvHPoIu4NkH8fhvgAirraAC9AKjf/kG/b53QcnO4CEQmhE+fyV60xNzc7q
 9xLW4FSiU7LZjHUdVkjyvA41SJBb6y23rKB9ZbMMwCfwZIjQTYbPWU7Xk2OjO+ecuxtu
 TdcA==
X-Gm-Message-State: AOJu0YwV874UxJE6ViJAN5ADxyJAZr7XbSL6oXUbRUvMlWw8wzIFLcEq
 dL94zqRSt3yorfZjv1LagPxBjCz+Tm4Te06fnHx1VpMpood9u7MsVEovqflLy22+u7n4Aw0KseM
 nYMVTU72oMaUdQoDuFyUa4xczdNtA7mpzashsGwHW
X-Google-Smtp-Source: AGHT+IEhd9Dj0qJlf2vMVNRdGkmv29WZH0bA2BUKP/Nodbkd03EhvigPJehljymOCbU0MZIytoT65HhGzZQ4
X-Received: by 2002:a05:6830:1be6:b0:6e6:8a4f:57fa with SMTP id
 k6-20020a0568301be600b006e68a4f57famr5686890otb.16.1710789977403; 
 Mon, 18 Mar 2024 12:26:17 -0700 (PDT)
Received: from postal.iol.unh.edu (postal.iol.unh.edu. [132.177.123.84])
 by smtp-relay.gmail.com with ESMTPS id
 ez14-20020a0568300f8e00b006e69f8ab890sm18532otb.5.2024.03.18.12.26.17
 (version=TLS1_2 cipher=ECDHE-ECDSA-AES128-GCM-SHA256 bits=128/128);
 Mon, 18 Mar 2024 12:26:17 -0700 (PDT)
X-Relaying-Domain: iol.unh.edu
Date: Mon, 18 Mar 2024 12:26:17 -0700 (PDT)
Message-ID: <65f89559.050a0220.d76dc.10b4SMTPIN_ADDED_MISSING@mx.google.com>
Received: from [172.17.0.6] (unknown [172.18.0.217])
 by postal.iol.unh.edu (Postfix) with ESMTP id D6AB26052471;
 Mon, 18 Mar 2024 15:26:16 -0400 (EDT)
Subject: |SUCCESS| pw138465 [PATCH] doc: add dma perf feature details
From: dpdklab@iol.unh.edu
To: Test Report <test-report@dpdk.org>
Cc: dpdk-test-reports@iol.unh.edu
In-Reply-To: <20240318181730.2725829-1-amitprakashs@marvell.com>
References: <20240318181730.2725829-1-amitprakashs@marvell.com>
Content-Type: text/plain
X-BeenThere: test-report@dpdk.org
X-Mailman-Version: 2.1.29
Precedence: list
List-Id: automatic DPDK test reports <test-report.dpdk.org>
List-Unsubscribe: <https://mails.dpdk.org/options/test-report>,
 <mailto:test-report-request@dpdk.org?subject=unsubscribe>
List-Archive: <http://mails.dpdk.org/archives/test-report/>
List-Post: <mailto:test-report@dpdk.org>
List-Help: <mailto:test-report-request@dpdk.org?subject=help>
List-Subscribe: <https://mails.dpdk.org/listinfo/test-report>,
 <mailto:test-report-request@dpdk.org?subject=subscribe>
Errors-To: test-report-bounces@dpdk.org

Test-Label: iol-abi-testing
Test-Status: SUCCESS
http://dpdk.org/patch/138465

_Testing PASS_

Submitter: Amit Prakash Shukla <amitprakashs@marvell.com>
Date: Monday, March 18 2024 18:17:30 
DPDK git baseline: Repo:dpdk
  Branch: master
  CommitID:80ecef6d1f71fcebc0a51d7cabc51f73ee142ff2

138465 --> testing pass

Test environment and result as below:

+------------------+----------+
|   Environment    | abi_test |
+==================+==========+
| Ubuntu 22.04     | PASS     |
+------------------+----------+
| Debian Bullseye  | PASS     |
+------------------+----------+
| Fedora 38        | PASS     |
+------------------+----------+
| Debian 12 (arm)  | PASS     |
+------------------+----------+
| openSUSE Leap 15 | PASS     |
+------------------+----------+
| Fedora 37        | PASS     |
+------------------+----------+
| CentOS Stream 8  | PASS     |
+------------------+----------+
| RHEL8            | PASS     |
+------------------+----------+
| CentOS Stream 9  | PASS     |
+------------------+----------+


Ubuntu 22.04
	Kernel: 4.18.0-240.10.1.el8_3.x86_64
	Compiler: gcc 11.3.0

Debian Bullseye
	Kernel: 5.4.0-122-generic
	Compiler: gcc 10.2.1-6

Fedora 38
	Kernel: Depends on container host
	Compiler: gcc 13.1.1

Debian 12 (arm)
	Kernel: Container Host Kernel
	Compiler: gcc 11

openSUSE Leap 15
	Kernel: 4.18.0-240.10.1.el8_3.x86_64
	Compiler: gcc 7.5.0

Fedora 37
	Kernel: Depends on container host system
	Compiler: gcc 12.3.1

CentOS Stream 8
	Kernel: 5.4.0-167-generic
	Compiler: gcc 8.5.0 20210514

RHEL8
	Kernel: 4.18.0-240.10.1.el8_3.x86_64
	Compiler: gcc 8.3.1 20191121 (Red Hat 8.3.1-5)

CentOS Stream 9
	Kernel: 5.4.0-167-generic
	Compiler: gcc 11.4.1 20230605

To view detailed results, visit:
https://lab.dpdk.org/results/dashboard/patchsets/29586/

UNH-IOL DPDK Community Lab

To manage your email subscriptions, visit: 
https://lab.dpdk.org/results/dashboard/preferences/subscriptions/