From mboxrd@z Thu Jan  1 00:00:00 1970
Return-Path: <test-report-bounces@dpdk.org>
Received: from mails.dpdk.org (mails.dpdk.org [217.70.189.124])
	by inbox.dpdk.org (Postfix) with ESMTP id 624D74342E
	for <public@inbox.dpdk.org>; Mon, 18 Mar 2024 20:28:25 +0100 (CET)
Received: from mails.dpdk.org (localhost [127.0.0.1])
	by mails.dpdk.org (Postfix) with ESMTP id 556DA40289;
	Mon, 18 Mar 2024 20:28:25 +0100 (CET)
Received: from mail-yw1-f227.google.com (mail-yw1-f227.google.com
 [209.85.128.227])
 by mails.dpdk.org (Postfix) with ESMTP id 1B8484027F
 for <test-report@dpdk.org>; Mon, 18 Mar 2024 20:28:24 +0100 (CET)
Received: by mail-yw1-f227.google.com with SMTP id
 00721157ae682-609fd5fbe50so51133977b3.0
 for <test-report@dpdk.org>; Mon, 18 Mar 2024 12:28:24 -0700 (PDT)
DKIM-Signature: v=1; a=rsa-sha256; c=relaxed/relaxed;
 d=iol.unh.edu; s=unh-iol; t=1710790103; x=1711394903; darn=dpdk.org;
 h=references:in-reply-to:cc:to:from:subject:message-id:date:from:to
 :cc:subject:date:message-id:reply-to;
 bh=5XJIpxvy6fsNIujdevBHHEBQtFkEj/oFTp3o/w+QQpY=;
 b=jlWpBlkCOTcaRR0PcH005RxIRxpHl5gA0zNdjmaHoSERGV/6kgInRDDu8MvgH7I8R8
 FFfM12VOo6wZKYZSAtMddknuYCetweG9Mb6e1vLyk7p1eIFVbQgODh+lKmBfOH/1YEoR
 F8dByOVFU38Dh31q61Vpwh6cGFJiQz4/zmJrY=
X-Google-DKIM-Signature: v=1; a=rsa-sha256; c=relaxed/relaxed;
 d=1e100.net; s=20230601; t=1710790103; x=1711394903;
 h=references:in-reply-to:cc:to:from:subject:message-id:date
 :x-gm-message-state:from:to:cc:subject:date:message-id:reply-to;
 bh=5XJIpxvy6fsNIujdevBHHEBQtFkEj/oFTp3o/w+QQpY=;
 b=eFnB1f3VKWKiGHQZSOHEWPtu6o0BisDY6Jy3f754wYIlKVicThJFCKIJakzYkVkWiQ
 wnJoB1KOhlyHmQB/CGwO4eTZpghn4JO8VLxZdOyLjljGoIVSK8obEX/6atTpbO144zgA
 iHJy5r/HE9qqCibQ8rvQun5rAhLTxOGSi5AwLo185UXjEng5rA7aInyW0XSSfvrvKFvZ
 hBck45TIGJFXaAE+1xFsLsvpzfdP8E6pne5NpQtBHQhmz98T+JR341BEHFNxTYSIhydF
 S4XQzBMQNZw/N2mBlaiW9GW1KgtCxu5WoDYAtZqiwxBLz+TP81nwdpeFcfLrpob206i8
 A8pg==
X-Gm-Message-State: AOJu0Yyfs5a4D/vw5kduQF1KTxjvgoIgAlLJk8LXJApuX8QByqXNEO4Z
 1K6Un2zuBybNDfcrI4JAuHq2LKN1dVUXaS6x7SZYPQwrDedTi93UGjzjcWVEZvQAO9iUszfVntA
 GhG+fkYekFn8trUMT/S211to0B/Qk/k2MxpFhryid
X-Google-Smtp-Source: AGHT+IG7nYFlUMaP5AztT4sqbdzH3tIN9yglrGnGbPaeMzipOdb2V/Uatw5j/laeKYTHekXqy5Mex90bfKBm
X-Received: by 2002:a81:8647:0:b0:610:df5e:4198 with SMTP id
 w68-20020a818647000000b00610df5e4198mr643021ywf.16.1710790103569; 
 Mon, 18 Mar 2024 12:28:23 -0700 (PDT)
Received: from postal.iol.unh.edu (postal.iol.unh.edu. [132.177.123.84])
 by smtp-relay.gmail.com with ESMTPS id
 x204-20020a817cd5000000b00609ffd07132sm712134ywc.65.2024.03.18.12.28.23
 (version=TLS1_2 cipher=ECDHE-ECDSA-AES128-GCM-SHA256 bits=128/128);
 Mon, 18 Mar 2024 12:28:23 -0700 (PDT)
X-Relaying-Domain: iol.unh.edu
Date: Mon, 18 Mar 2024 12:28:23 -0700 (PDT)
Message-ID: <65f895d7.810a0220.540bf.0b14SMTPIN_ADDED_MISSING@mx.google.com>
Received: from [172.17.0.7] (unknown [172.18.0.217])
 by postal.iol.unh.edu (Postfix) with ESMTP id 138786052471;
 Mon, 18 Mar 2024 15:28:23 -0400 (EDT)
Subject: |SUCCESS| pw138465 [PATCH] doc: add dma perf feature details
From: dpdklab@iol.unh.edu
To: Test Report <test-report@dpdk.org>
Cc: dpdk-test-reports@iol.unh.edu
In-Reply-To: <20240318181730.2725829-1-amitprakashs@marvell.com>
References: <20240318181730.2725829-1-amitprakashs@marvell.com>
Content-Type: text/plain
X-BeenThere: test-report@dpdk.org
X-Mailman-Version: 2.1.29
Precedence: list
List-Id: automatic DPDK test reports <test-report.dpdk.org>
List-Unsubscribe: <https://mails.dpdk.org/options/test-report>,
 <mailto:test-report-request@dpdk.org?subject=unsubscribe>
List-Archive: <http://mails.dpdk.org/archives/test-report/>
List-Post: <mailto:test-report@dpdk.org>
List-Help: <mailto:test-report-request@dpdk.org?subject=help>
List-Subscribe: <https://mails.dpdk.org/listinfo/test-report>,
 <mailto:test-report-request@dpdk.org?subject=subscribe>
Errors-To: test-report-bounces@dpdk.org

Test-Label: iol-abi-testing
Test-Status: SUCCESS
http://dpdk.org/patch/138465

_Testing PASS_

Submitter: Amit Prakash Shukla <amitprakashs@marvell.com>
Date: Monday, March 18 2024 18:17:30 
DPDK git baseline: Repo:dpdk
  Branch: master
  CommitID:80ecef6d1f71fcebc0a51d7cabc51f73ee142ff2

138465 --> testing pass

Test environment and result as below:

+------------------+----------+
|   Environment    | abi_test |
+==================+==========+
| Ubuntu 22.04     | PASS     |
+------------------+----------+
| Debian Bullseye  | PASS     |
+------------------+----------+
| Fedora 38        | PASS     |
+------------------+----------+
| Debian 12 (arm)  | PASS     |
+------------------+----------+
| openSUSE Leap 15 | PASS     |
+------------------+----------+
| Fedora 37        | PASS     |
+------------------+----------+
| CentOS Stream 8  | PASS     |
+------------------+----------+
| RHEL8            | PASS     |
+------------------+----------+
| CentOS Stream 9  | PASS     |
+------------------+----------+


Ubuntu 22.04
	Kernel: 4.18.0-240.10.1.el8_3.x86_64
	Compiler: gcc 11.3.0

Debian Bullseye
	Kernel: 5.4.0-122-generic
	Compiler: gcc 10.2.1-6

Fedora 38
	Kernel: Depends on container host
	Compiler: gcc 13.1.1

Debian 12 (arm)
	Kernel: Container Host Kernel
	Compiler: gcc 11

openSUSE Leap 15
	Kernel: 4.18.0-240.10.1.el8_3.x86_64
	Compiler: gcc 7.5.0

Fedora 37
	Kernel: Depends on container host system
	Compiler: gcc 12.3.1

CentOS Stream 8
	Kernel: 5.4.0-167-generic
	Compiler: gcc 8.5.0 20210514

RHEL8
	Kernel: 4.18.0-240.10.1.el8_3.x86_64
	Compiler: gcc 8.3.1 20191121 (Red Hat 8.3.1-5)

CentOS Stream 9
	Kernel: 5.4.0-167-generic
	Compiler: gcc 11.4.1 20230605

To view detailed results, visit:
https://lab.dpdk.org/results/dashboard/patchsets/29586/

UNH-IOL DPDK Community Lab

To manage your email subscriptions, visit: 
https://lab.dpdk.org/results/dashboard/preferences/subscriptions/