From mboxrd@z Thu Jan  1 00:00:00 1970
Return-Path: <test-report-bounces@dpdk.org>
Received: from mails.dpdk.org (mails.dpdk.org [217.70.189.124])
	by inbox.dpdk.org (Postfix) with ESMTP id 310E243CE4
	for <public@inbox.dpdk.org>; Mon, 18 Mar 2024 21:34:51 +0100 (CET)
Received: from mails.dpdk.org (localhost [127.0.0.1])
	by mails.dpdk.org (Postfix) with ESMTP id 28FA14067C;
	Mon, 18 Mar 2024 21:34:51 +0100 (CET)
Received: from mail-yw1-f227.google.com (mail-yw1-f227.google.com
 [209.85.128.227])
 by mails.dpdk.org (Postfix) with ESMTP id BC08040299
 for <test-report@dpdk.org>; Mon, 18 Mar 2024 21:34:49 +0100 (CET)
Received: by mail-yw1-f227.google.com with SMTP id
 00721157ae682-60fff981e2aso26546477b3.3
 for <test-report@dpdk.org>; Mon, 18 Mar 2024 13:34:49 -0700 (PDT)
DKIM-Signature: v=1; a=rsa-sha256; c=relaxed/relaxed;
 d=iol.unh.edu; s=unh-iol; t=1710794089; x=1711398889; darn=dpdk.org;
 h=references:in-reply-to:cc:to:from:subject:message-id:date:from:to
 :cc:subject:date:message-id:reply-to;
 bh=v5/k/SWUYB3X3ZX6mpPa8HvgmCOgM25Ks7I899iwMso=;
 b=CREWBMwCSsroMb/n9i+D8ooHetD9NUHGWSvrhywP49zFo0GpDjw+SrOUP183NTSUtH
 Qx6FdzOUr9RgpaO+TghNPzq8PuWBfSOcsF4WpRnw5HW8YG5im8jOxdVo7jw6EMQ87aDQ
 OQ/41GyRwajh3FHakck8u1IZ7oD3smcc1WUAI=
X-Google-DKIM-Signature: v=1; a=rsa-sha256; c=relaxed/relaxed;
 d=1e100.net; s=20230601; t=1710794089; x=1711398889;
 h=references:in-reply-to:cc:to:from:subject:message-id:date
 :x-gm-message-state:from:to:cc:subject:date:message-id:reply-to;
 bh=v5/k/SWUYB3X3ZX6mpPa8HvgmCOgM25Ks7I899iwMso=;
 b=ltGxVjKjud1u4NaR4ClxdzlvM2ZNmlHSJzgxGbNrbewsWheXEaCNkhddJxazdeHPxn
 hjA1nKbIJM4BSbgCoEIx/vX9V6NB0KQkTX8kIbpBcrxXm81SJvT7yc8dHuv8fhcRY0/e
 Oy2F0nMAfdJk9hkq2BiK/AmgyD4GcK0RgA59fofOAFlQt3qHa/bqje9nT6QdZggzC+hb
 l6BdMTe7vjKVZBbPtk+2+tkTOJD6fG+4yyMBYoIQolwa4Ya+Eviqp4ljFiISTC9j8blW
 pcz3GTAG56ianlsJNq6TKHkOkaEg4gyIXhteDu84Z68dQtE7Z+aUrDTPPCzFG7fTFbVF
 Snmw==
X-Gm-Message-State: AOJu0YziisMg9zjyQq+kmiZ9+6bc2zTtoYE6EDWgewiLy596PdHjKl82
 e9zw9eQfYyRdupe96R4P1vBmtWGkw7a3o2R8YemZtvy81/E3bLaBLoiecGOf2ctVyzqUxUUTMwO
 c0UCWNOrxe4ArJfF2YM9VEb/i2NHtnNS/g6+suJHANcHXtlNU0ldeBVFs
X-Google-Smtp-Source: AGHT+IHl3jmw9sGnj2bPQ85aECIiTwZqhx4rLOtXVzjxvMv2WldkHzud4PT5cjp3iyMrUBeMfS8sgOm8y7YG
X-Received: by 2002:a0d:ea4c:0:b0:609:239a:d0fc with SMTP id
 t73-20020a0dea4c000000b00609239ad0fcmr12035535ywe.38.1710794089171; 
 Mon, 18 Mar 2024 13:34:49 -0700 (PDT)
Received: from postal.iol.unh.edu (postal.iol.unh.edu.
 [2606:4100:3880:1234::84]) by smtp-relay.gmail.com with ESMTPS id
 x64-20020a0dee43000000b00609ff622e75sm734389ywe.17.2024.03.18.13.34.49
 (version=TLS1_2 cipher=ECDHE-ECDSA-AES128-GCM-SHA256 bits=128/128);
 Mon, 18 Mar 2024 13:34:49 -0700 (PDT)
X-Relaying-Domain: iol.unh.edu
Date: Mon, 18 Mar 2024 13:34:49 -0700 (PDT)
Message-ID: <65f8a569.0d0a0220.88d6e.2fbfSMTPIN_ADDED_MISSING@mx.google.com>
Received: from [172.17.0.8] (unknown [172.18.0.217])
 by postal.iol.unh.edu (Postfix) with ESMTP id CB3566052471;
 Mon, 18 Mar 2024 16:34:48 -0400 (EDT)
Subject: |SUCCESS| pw138458-138462 [PATCH] [v5,6/6] examples/vm_power_manager
From: dpdklab@iol.unh.edu
To: Test Report <test-report@dpdk.org>
Cc: dpdk-test-reports@iol.unh.edu
In-Reply-To: <20240318173146.24303-7-sivaprasad.tummala@amd.com>
References: <20240318173146.24303-7-sivaprasad.tummala@amd.com>
Content-Type: text/plain
X-BeenThere: test-report@dpdk.org
X-Mailman-Version: 2.1.29
Precedence: list
List-Id: automatic DPDK test reports <test-report.dpdk.org>
List-Unsubscribe: <https://mails.dpdk.org/options/test-report>,
 <mailto:test-report-request@dpdk.org?subject=unsubscribe>
List-Archive: <http://mails.dpdk.org/archives/test-report/>
List-Post: <mailto:test-report@dpdk.org>
List-Help: <mailto:test-report-request@dpdk.org?subject=help>
List-Subscribe: <https://mails.dpdk.org/listinfo/test-report>,
 <mailto:test-report-request@dpdk.org?subject=subscribe>
Errors-To: test-report-bounces@dpdk.org

Test-Label: iol-compile-amd64-testing
Test-Status: SUCCESS
http://dpdk.org/patch/138462

_Testing PASS_

Submitter: Sivaprasad Tummala <Sivaprasad.Tummala@amd.com>
Date: Monday, March 18 2024 17:31:45 
DPDK git baseline: Repo:dpdk
  Branch: master
  CommitID:80ecef6d1f71fcebc0a51d7cabc51f73ee142ff2

138458-138462 --> testing pass

Test environment and result as below:

+---------------------+--------------------+-------------------+----------------------+
|     Environment     | dpdk_meson_compile | dpdk_msvc_compile | dpdk_mingw64_compile |
+=====================+====================+===================+======================+
| FreeBSD 13.2        | PASS               | SKIPPED           | SKIPPED              |
+---------------------+--------------------+-------------------+----------------------+
| Windows Server 2022 | PASS               | PASS              | PASS                 |
+---------------------+--------------------+-------------------+----------------------+
| Windows Server 2019 | PASS               | SKIPPED           | PASS                 |
+---------------------+--------------------+-------------------+----------------------+
| Debian Bullseye     | PASS               | SKIPPED           | SKIPPED              |
+---------------------+--------------------+-------------------+----------------------+
| Debian 11 (arm)     | PASS               | SKIPPED           | SKIPPED              |
+---------------------+--------------------+-------------------+----------------------+
| Fedora 37           | PASS               | SKIPPED           | SKIPPED              |
+---------------------+--------------------+-------------------+----------------------+
| CentOS Stream 9     | PASS               | SKIPPED           | SKIPPED              |
+---------------------+--------------------+-------------------+----------------------+
| Fedora 38           | PASS               | SKIPPED           | SKIPPED              |
+---------------------+--------------------+-------------------+----------------------+
| Ubuntu 20.04        | PASS               | SKIPPED           | SKIPPED              |
+---------------------+--------------------+-------------------+----------------------+
| Ubuntu 22.04        | PASS               | SKIPPED           | SKIPPED              |
+---------------------+--------------------+-------------------+----------------------+
| RHEL8               | PASS               | SKIPPED           | SKIPPED              |
+---------------------+--------------------+-------------------+----------------------+
| Alpine              | PASS               | SKIPPED           | SKIPPED              |
+---------------------+--------------------+-------------------+----------------------+


FreeBSD 13.2
	Kernel: 13.2
	Compiler: clang 14.0.5

Windows Server 2022
	Kernel: 10.0.20348.2031
	Compiler: clang 15.0.7, gcc 8.1.0 (MinGW), and MSVC VS 17.9

Windows Server 2019
	Kernel: 10.0.17763
	Compiler: clang 14.0 and gcc 8.1.0 (MinGW)

Debian Bullseye
	Kernel: 5.4.0-167-generic
	Compiler: gcc 10.2.1-6

Debian 11 (arm)
	Kernel: Container Host Kernel
	Compiler: gcc 10.2.1

Fedora 37
	Kernel: Depends on container host system
	Compiler: gcc 12.3.1

CentOS Stream 9
	Kernel: 5.4.0-167-generic
	Compiler: gcc 11.4.1 20230605

Fedora 38
	Kernel: Depends on container host
	Compiler: gcc 13.2.1

Ubuntu 20.04
	Kernel: 5.4.0-153-generic
	Compiler: gcc 9.4.0-1ubuntu1~20.04.1

Ubuntu 22.04
	Kernel: 4.18.0-240.10.1.el8_3.x86_64
	Compiler: gcc 11.3.0

RHEL8
	Kernel: 4.18.0-240.10.1.el8_3.x86_64
	Compiler: gcc 8.3.1 20191121 (Red Hat 8.3.1-5)

Alpine
	Kernel: 5.4.0-167-generic
	Compiler: gcc (Alpine 12.2.1_git20220924-r10) 12.2.1 20220924

To view detailed results, visit:
https://lab.dpdk.org/results/dashboard/patchsets/29584/

UNH-IOL DPDK Community Lab

To manage your email subscriptions, visit: 
https://lab.dpdk.org/results/dashboard/preferences/subscriptions/