From mboxrd@z Thu Jan  1 00:00:00 1970
Return-Path: <test-report-bounces@dpdk.org>
Received: from mails.dpdk.org (mails.dpdk.org [217.70.189.124])
	by inbox.dpdk.org (Postfix) with ESMTP id 6883343CE4
	for <public@inbox.dpdk.org>; Mon, 18 Mar 2024 21:38:40 +0100 (CET)
Received: from mails.dpdk.org (localhost [127.0.0.1])
	by mails.dpdk.org (Postfix) with ESMTP id 64D7A40698;
	Mon, 18 Mar 2024 21:38:40 +0100 (CET)
Received: from mail-yb1-f226.google.com (mail-yb1-f226.google.com
 [209.85.219.226])
 by mails.dpdk.org (Postfix) with ESMTP id CA64E40299
 for <test-report@dpdk.org>; Mon, 18 Mar 2024 21:38:28 +0100 (CET)
Received: by mail-yb1-f226.google.com with SMTP id
 3f1490d57ef6-dcc80d6004bso4440462276.0
 for <test-report@dpdk.org>; Mon, 18 Mar 2024 13:38:28 -0700 (PDT)
DKIM-Signature: v=1; a=rsa-sha256; c=relaxed/relaxed;
 d=iol.unh.edu; s=unh-iol; t=1710794308; x=1711399108; darn=dpdk.org;
 h=references:in-reply-to:cc:to:from:subject:message-id:date:from:to
 :cc:subject:date:message-id:reply-to;
 bh=wrOmNccADk2SQFVEc5F21WRSw/UdxXqKZhNsiCfNSWg=;
 b=HlZhIlKV+PcvOMZfPfY9TGPOfEBipiTf265obGA7UWr0RkbQOYKOvoi7zTKmtBAwAn
 9qQxOb1Vj7Jw84ZRRiGyX8NtRrW9X0X7xuGQB/TunyPehspJeV0NIDksiFI3tDztrPd2
 EM5HaLbAWkzoihuDEX18nP/8kUFZOKYL6Ut1E=
X-Google-DKIM-Signature: v=1; a=rsa-sha256; c=relaxed/relaxed;
 d=1e100.net; s=20230601; t=1710794308; x=1711399108;
 h=references:in-reply-to:cc:to:from:subject:message-id:date
 :x-gm-message-state:from:to:cc:subject:date:message-id:reply-to;
 bh=wrOmNccADk2SQFVEc5F21WRSw/UdxXqKZhNsiCfNSWg=;
 b=ZArd571+KXHgFgFJMEoURjikmCvKezX6EZGtLSoSKzV3d4fOiqOGgS8MzeAhFUPLsP
 Nw1a5YDju+B73A8LERRCl9f0xORgyCVScDK32D+4IYnf265nOcgvFmifRx9Sfheqz32Z
 d0vlaapigAtH2PFiPf3nUOhM4WpfwmPBFWBHR3aoNKD8+tsWWQ4svEZc0LFJO8CGLfgY
 8ve7+5RezEXBWAOhA9H/ZpxkGLqKOE+3mYacTubDrbR1ltvjfXL0Sl5piZ1Gwq3Rdopl
 mrH94Ijy70JBcpOU4c1NXdZxgtlCkpiBw8+QEBCNgHmK0MZObRIkNi/mU/T9N8iYDyRQ
 McSA==
X-Gm-Message-State: AOJu0Yzbtlfigy0V9nYL2cGiLN+QNIOQ6nNc44ixtzhHVFEuuV2ficVZ
 968VzxXcFfhQhu0xhj0rTcj5chENxZPgwYKUGQ3dZyk7ufKJUNIEE3YELPkWFcVVrouH8nHfO6e
 8JdnJdb0170EdXbeNVfX6vyTVjWOMWBG1NHq3VSjU
X-Google-Smtp-Source: AGHT+IGlC2v4ql0sHnh5uX4qIhLOk1nycdJvuXjpBjjj+huoEZEpi0WxJDJx869ppQmHUAn6OBw7Vk+BK7bz
X-Received: by 2002:a25:f206:0:b0:dd1:2f58:6a2e with SMTP id
 i6-20020a25f206000000b00dd12f586a2emr8189734ybe.9.1710794308191; 
 Mon, 18 Mar 2024 13:38:28 -0700 (PDT)
Received: from postal.iol.unh.edu (postal.iol.unh.edu. [132.177.123.84])
 by smtp-relay.gmail.com with ESMTPS id
 d20-20020a253614000000b00dc7576cebcasm381020yba.5.2024.03.18.13.38.28
 (version=TLS1_2 cipher=ECDHE-ECDSA-AES128-GCM-SHA256 bits=128/128);
 Mon, 18 Mar 2024 13:38:28 -0700 (PDT)
X-Relaying-Domain: iol.unh.edu
Date: Mon, 18 Mar 2024 13:38:28 -0700 (PDT)
Message-ID: <65f8a644.250a0220.15e5d.994aSMTPIN_ADDED_MISSING@mx.google.com>
Received: from [172.17.0.8] (unknown [172.18.0.217])
 by postal.iol.unh.edu (Postfix) with ESMTP id C83466052471;
 Mon, 18 Mar 2024 16:38:27 -0400 (EDT)
Subject: |SUCCESS| pw138458-138462 [PATCH] [v5,6/6] examples/vm_power_manager
From: dpdklab@iol.unh.edu
To: Test Report <test-report@dpdk.org>
Cc: dpdk-test-reports@iol.unh.edu
In-Reply-To: <20240318173146.24303-7-sivaprasad.tummala@amd.com>
References: <20240318173146.24303-7-sivaprasad.tummala@amd.com>
Content-Type: text/plain
X-BeenThere: test-report@dpdk.org
X-Mailman-Version: 2.1.29
Precedence: list
List-Id: automatic DPDK test reports <test-report.dpdk.org>
List-Unsubscribe: <https://mails.dpdk.org/options/test-report>,
 <mailto:test-report-request@dpdk.org?subject=unsubscribe>
List-Archive: <http://mails.dpdk.org/archives/test-report/>
List-Post: <mailto:test-report@dpdk.org>
List-Help: <mailto:test-report-request@dpdk.org?subject=help>
List-Subscribe: <https://mails.dpdk.org/listinfo/test-report>,
 <mailto:test-report-request@dpdk.org?subject=subscribe>
Errors-To: test-report-bounces@dpdk.org

Test-Label: iol-abi-testing
Test-Status: SUCCESS
http://dpdk.org/patch/138462

_Testing PASS_

Submitter: Sivaprasad Tummala <Sivaprasad.Tummala@amd.com>
Date: Monday, March 18 2024 17:31:45 
DPDK git baseline: Repo:dpdk
  Branch: master
  CommitID:80ecef6d1f71fcebc0a51d7cabc51f73ee142ff2

138458-138462 --> testing pass

Test environment and result as below:

+------------------+----------+
|   Environment    | abi_test |
+==================+==========+
| openSUSE Leap 15 | PASS     |
+------------------+----------+
| Debian Bullseye  | PASS     |
+------------------+----------+
| Fedora 38        | PASS     |
+------------------+----------+
| Ubuntu 22.04     | PASS     |
+------------------+----------+
| Debian 11 (arm)  | PASS     |
+------------------+----------+
| CentOS Stream 8  | PASS     |
+------------------+----------+
| RHEL8            | PASS     |
+------------------+----------+
| CentOS Stream 9  | PASS     |
+------------------+----------+
| Fedora 37        | PASS     |
+------------------+----------+


openSUSE Leap 15
	Kernel: 4.18.0-240.10.1.el8_3.x86_64
	Compiler: gcc 7.5.0

Debian Bullseye
	Kernel: 5.4.0-167-generic
	Compiler: gcc 10.2.1-6

Fedora 38
	Kernel: Depends on container host
	Compiler: clang 16.0.6

Ubuntu 22.04
	Kernel: 4.18.0-240.10.1.el8_3.x86_64
	Compiler: gcc 11.3.0

Debian 11 (arm)
	Kernel: Container Host Kernel
	Compiler: gcc 10.2.1

CentOS Stream 8
	Kernel: 5.4.0-167-generic
	Compiler: gcc 8.5.0 20210514

RHEL8
	Kernel: 4.18.0-240.10.1.el8_3.x86_64
	Compiler: gcc 8.3.1 20191121 (Red Hat 8.3.1-5)

CentOS Stream 9
	Kernel: 5.4.0-167-generic
	Compiler: gcc 11.4.1 20230605

Fedora 37
	Kernel: Depends on container host system
	Compiler: gcc 12.3.1

To view detailed results, visit:
https://lab.dpdk.org/results/dashboard/patchsets/29584/

UNH-IOL DPDK Community Lab

To manage your email subscriptions, visit: 
https://lab.dpdk.org/results/dashboard/preferences/subscriptions/