From mboxrd@z Thu Jan  1 00:00:00 1970
Return-Path: <test-report-bounces@dpdk.org>
Received: from mails.dpdk.org (mails.dpdk.org [217.70.189.124])
	by inbox.dpdk.org (Postfix) with ESMTP id 8478243CE4
	for <public@inbox.dpdk.org>; Mon, 18 Mar 2024 21:39:01 +0100 (CET)
Received: from mails.dpdk.org (localhost [127.0.0.1])
	by mails.dpdk.org (Postfix) with ESMTP id 7E0114067C;
	Mon, 18 Mar 2024 21:39:01 +0100 (CET)
Received: from mail-io1-f99.google.com (mail-io1-f99.google.com
 [209.85.166.99]) by mails.dpdk.org (Postfix) with ESMTP id 2B3C340299
 for <test-report@dpdk.org>; Mon, 18 Mar 2024 21:38:43 +0100 (CET)
Received: by mail-io1-f99.google.com with SMTP id
 ca18e2360f4ac-7cde3cbf03aso14905539f.1
 for <test-report@dpdk.org>; Mon, 18 Mar 2024 13:38:43 -0700 (PDT)
DKIM-Signature: v=1; a=rsa-sha256; c=relaxed/relaxed;
 d=iol.unh.edu; s=unh-iol; t=1710794322; x=1711399122; darn=dpdk.org;
 h=references:in-reply-to:cc:to:from:subject:message-id:date:from:to
 :cc:subject:date:message-id:reply-to;
 bh=IYINDARtah7XRc7Hbk4PtAiraw+A1Sy6oQWzvmVZByM=;
 b=IpeMlEcOJaPRWle11/dLuK3LWGYlldC9pMGWob5eMx7iimDE9upP1Q5p/bN86rR+fZ
 TFsVOF3++MsuTQTj4J0qROn0UlYOFq6H18rXNqGpgr3hc3lhjbtTgnivZiwGf3Mvdm2A
 dYKvoYGWTlRlAyb0/PmVFeokMVgPHFdvsShwU=
X-Google-DKIM-Signature: v=1; a=rsa-sha256; c=relaxed/relaxed;
 d=1e100.net; s=20230601; t=1710794322; x=1711399122;
 h=references:in-reply-to:cc:to:from:subject:message-id:date
 :x-gm-message-state:from:to:cc:subject:date:message-id:reply-to;
 bh=IYINDARtah7XRc7Hbk4PtAiraw+A1Sy6oQWzvmVZByM=;
 b=p2IVsMjLmCTUdYdnmKKFPAvoMXKVePZwLrIDnFje7UAtS95WizpWlJvOIEWExZsNe1
 9KYl/ngDZbB1cEfQhCiWkSkYjFMldG3gwXjcKRIjNU4JdnHnSz5wB8wab08zEmdfQZuI
 yY6M3wtgN/AfKLVK1lUv4O6MTeCZgxdv1iquQtmoBPo/H0nYWXZgXztFteZPxdXs9+Ml
 9dfaMK2dby09/5ip0OyCod8EWcZSnOFsjI87ljgJ8BsheIBM9+YLFXUoKPPl2h/Uoh7F
 Bh0RQwCLKJ+i/qSStoAMTPaGGbej35wg0JtBOMGdzf7TWw9ckL+g1S/04q/Mpt2fnnEG
 4++g==
X-Gm-Message-State: AOJu0Yw1LSJQj7+c9QjnofxyZ/EqHM20//xF4GziXW1k7pc97CDsYkyz
 nB8CsgQSs6wCzPzdcVcx06k11Xli7/Ws/JxuZDmVlKcfMxZ/yTkHD0y9dyWWukQT6+5bFPC17B1
 /QBx6OCYXAfeQKjumkVbdpwfhNAvcrXtB2DMzQ8Ap
X-Google-Smtp-Source: AGHT+IHjDAEbWhYVw2g7Ld4F9dDRxzyqBPciA4ppsNilsl7XjNn6+ID4RA16CiNtUkQ9SJ+Q2cxXugXSrb6E
X-Received: by 2002:a92:2a08:0:b0:366:6dbd:c1bb with SMTP id
 r8-20020a922a08000000b003666dbdc1bbmr12828709ile.8.1710794322575; 
 Mon, 18 Mar 2024 13:38:42 -0700 (PDT)
Received: from postal.iol.unh.edu (postal.iol.unh.edu. [132.177.123.84])
 by smtp-relay.gmail.com with ESMTPS id
 b5-20020a056e02184500b003655dbda602sm440030ilv.76.2024.03.18.13.38.42
 (version=TLS1_2 cipher=ECDHE-ECDSA-AES128-GCM-SHA256 bits=128/128);
 Mon, 18 Mar 2024 13:38:42 -0700 (PDT)
X-Relaying-Domain: iol.unh.edu
Date: Mon, 18 Mar 2024 13:38:42 -0700 (PDT)
Message-ID: <65f8a652.050a0220.3f3a4.e49cSMTPIN_ADDED_MISSING@mx.google.com>
Received: from [172.17.0.8] (unknown [172.18.0.217])
 by postal.iol.unh.edu (Postfix) with ESMTP id 1B9016052471;
 Mon, 18 Mar 2024 16:38:42 -0400 (EDT)
Subject: |SUCCESS| pw138458-138462 [PATCH] [v5,6/6] examples/vm_power_manager
From: dpdklab@iol.unh.edu
To: Test Report <test-report@dpdk.org>
Cc: dpdk-test-reports@iol.unh.edu
In-Reply-To: <20240318173146.24303-7-sivaprasad.tummala@amd.com>
References: <20240318173146.24303-7-sivaprasad.tummala@amd.com>
Content-Type: text/plain
X-BeenThere: test-report@dpdk.org
X-Mailman-Version: 2.1.29
Precedence: list
List-Id: automatic DPDK test reports <test-report.dpdk.org>
List-Unsubscribe: <https://mails.dpdk.org/options/test-report>,
 <mailto:test-report-request@dpdk.org?subject=unsubscribe>
List-Archive: <http://mails.dpdk.org/archives/test-report/>
List-Post: <mailto:test-report@dpdk.org>
List-Help: <mailto:test-report-request@dpdk.org?subject=help>
List-Subscribe: <https://mails.dpdk.org/listinfo/test-report>,
 <mailto:test-report-request@dpdk.org?subject=subscribe>
Errors-To: test-report-bounces@dpdk.org

Test-Label: iol-unit-arm64-testing
Test-Status: SUCCESS
http://dpdk.org/patch/138462

_Testing PASS_

Submitter: Sivaprasad Tummala <Sivaprasad.Tummala@amd.com>
Date: Monday, March 18 2024 17:31:45 
DPDK git baseline: Repo:dpdk
  Branch: master
  CommitID:80ecef6d1f71fcebc0a51d7cabc51f73ee142ff2

138458-138462 --> testing pass

Test environment and result as below:

+-----------------------+----------------+---------------------------+------------------------------+
|      Environment      | dpdk_unit_test | cryptodev_sw_zuc_autotest | cryptodev_sw_snow3g_autotest |
+=======================+================+===========================+==============================+
| Debian 12 (arm)       | PASS           | PASS                      | PASS                         |
+-----------------------+----------------+---------------------------+------------------------------+
| CentOS Stream 9 (ARM) | PASS           | SKIPPED                   | SKIPPED                      |
+-----------------------+----------------+---------------------------+------------------------------+
| Fedora 38 (ARM)       | PASS           | SKIPPED                   | SKIPPED                      |
+-----------------------+----------------+---------------------------+------------------------------+
| Fedora 37 (ARM)       | PASS           | SKIPPED                   | SKIPPED                      |
+-----------------------+----------------+---------------------------+------------------------------+


Debian 12 (arm)
	Kernel: Container Host Kernel
	Compiler: gcc 11

CentOS Stream 9 (ARM)
	Kernel: Container Host Kernel
	Compiler: gcc 11.4.1

Fedora 38 (ARM)
	Kernel: Depends on container host
	Compiler: gcc 13.2.1

Fedora 37 (ARM)
	Kernel: Depends on container host
	Compiler: gcc 12.3.1

To view detailed results, visit:
https://lab.dpdk.org/results/dashboard/patchsets/29584/

UNH-IOL DPDK Community Lab

To manage your email subscriptions, visit: 
https://lab.dpdk.org/results/dashboard/preferences/subscriptions/