From mboxrd@z Thu Jan  1 00:00:00 1970
Return-Path: <test-report-bounces@dpdk.org>
Received: from mails.dpdk.org (mails.dpdk.org [217.70.189.124])
	by inbox.dpdk.org (Postfix) with ESMTP id 39B2E43CE4
	for <public@inbox.dpdk.org>; Mon, 18 Mar 2024 21:39:53 +0100 (CET)
Received: from mails.dpdk.org (localhost [127.0.0.1])
	by mails.dpdk.org (Postfix) with ESMTP id 358D54067C;
	Mon, 18 Mar 2024 21:39:53 +0100 (CET)
Received: from mail-io1-f100.google.com (mail-io1-f100.google.com
 [209.85.166.100])
 by mails.dpdk.org (Postfix) with ESMTP id 7BB0740299
 for <test-report@dpdk.org>; Mon, 18 Mar 2024 21:39:51 +0100 (CET)
Received: by mail-io1-f100.google.com with SMTP id
 ca18e2360f4ac-7cc01644f51so121032039f.2
 for <test-report@dpdk.org>; Mon, 18 Mar 2024 13:39:51 -0700 (PDT)
DKIM-Signature: v=1; a=rsa-sha256; c=relaxed/relaxed;
 d=iol.unh.edu; s=unh-iol; t=1710794391; x=1711399191; darn=dpdk.org;
 h=references:in-reply-to:cc:to:from:subject:message-id:date:from:to
 :cc:subject:date:message-id:reply-to;
 bh=qtFjr2TZ6QxmN5SeShFQTHQUyBuxvudo9TCumaFa9QM=;
 b=AvaGVwDMhxbOLxvhOoamqommWx/IF6X18qkCOJnPDQbdIJDc/VxRYQ+fM5UgA8s0De
 h+hIuyHPUR151JPSfWLMkRz2dJZZGRohyyPAqe4jFKiWyEVopcL0of055q8wMr6uSR/+
 N5glgsXLjJxJhVLWmBo9YljmoOI/gr+6vy3Do=
X-Google-DKIM-Signature: v=1; a=rsa-sha256; c=relaxed/relaxed;
 d=1e100.net; s=20230601; t=1710794391; x=1711399191;
 h=references:in-reply-to:cc:to:from:subject:message-id:date
 :x-gm-message-state:from:to:cc:subject:date:message-id:reply-to;
 bh=qtFjr2TZ6QxmN5SeShFQTHQUyBuxvudo9TCumaFa9QM=;
 b=wxbZ2HeeLvZfClL5Ur5Zg3gP9RK8pUhMOqMyPYIBMmdnGnyGo4Y56MwW5pNYuhtfkb
 gdQwAT1meRYwpTtZLZHD3inOsmCfPOYGYWz8Raj/LlY64owyHyBMZlcHLdHUC3FyAkvg
 SPjJmoj3Zu1wJXs74j9Cr05OrRLMXjqPyMmU39bUuGMB3gO7o/Qe++W4LDL82fQ+YScR
 B8uYs8WW4cUyA5CaL98Um9NFDy4FesGqnEo3/tCa8VaSEN5l+SYDaYn8+xZonihoGySS
 n6UWmNDfI5dSu2Q3ZaxwZ5U46D1advQhK985h09fyefS8MrZ6F0ONtQmNgUfFlMeWaCY
 uECw==
X-Gm-Message-State: AOJu0YwXVluqvWA8XOPPzVfI2DyO2UwBuSkvSmfFWzMlUh2ranpqUmy1
 cAZFpT4CD4jOhaXdoMsNJfqGtKJeXtVzbEyjxmdpHuZh7AEOP/mP+jAMpnQT1MX7hAaI0e/XcMB
 vQSQ25wrbOCbX1uI8Bf/ph0br3Hok4NXr7mrpAIlj
X-Google-Smtp-Source: AGHT+IG4rqyAzDdlhg6AP+GKrOZgyCHmZIQpfCiQG0tVIjjvTB8ki4MrMfz174Q8sC1ingPL2texZpZY6+6l
X-Received: by 2002:a5d:9c0a:0:b0:7c8:e976:7268 with SMTP id
 10-20020a5d9c0a000000b007c8e9767268mr566164ioe.0.1710794390908; 
 Mon, 18 Mar 2024 13:39:50 -0700 (PDT)
Received: from postal.iol.unh.edu (postal.iol.unh.edu. [132.177.123.84])
 by smtp-relay.gmail.com with ESMTPS id
 e3-20020a056602158300b007c8d3d2d134sm152049iow.27.2024.03.18.13.39.50
 (version=TLS1_2 cipher=ECDHE-ECDSA-AES128-GCM-SHA256 bits=128/128);
 Mon, 18 Mar 2024 13:39:50 -0700 (PDT)
X-Relaying-Domain: iol.unh.edu
Date: Mon, 18 Mar 2024 13:39:50 -0700 (PDT)
Message-ID: <65f8a696.050a0220.9f999.9c09SMTPIN_ADDED_MISSING@mx.google.com>
Received: from [172.17.0.8] (unknown [172.18.0.217])
 by postal.iol.unh.edu (Postfix) with ESMTP id 6D96F6052471;
 Mon, 18 Mar 2024 16:39:50 -0400 (EDT)
Subject: |SUCCESS| pw138458-138462 [PATCH] [v5,6/6] examples/vm_power_manager
From: dpdklab@iol.unh.edu
To: Test Report <test-report@dpdk.org>
Cc: dpdk-test-reports@iol.unh.edu
In-Reply-To: <20240318173146.24303-7-sivaprasad.tummala@amd.com>
References: <20240318173146.24303-7-sivaprasad.tummala@amd.com>
Content-Type: text/plain
X-BeenThere: test-report@dpdk.org
X-Mailman-Version: 2.1.29
Precedence: list
List-Id: automatic DPDK test reports <test-report.dpdk.org>
List-Unsubscribe: <https://mails.dpdk.org/options/test-report>,
 <mailto:test-report-request@dpdk.org?subject=unsubscribe>
List-Archive: <http://mails.dpdk.org/archives/test-report/>
List-Post: <mailto:test-report@dpdk.org>
List-Help: <mailto:test-report-request@dpdk.org?subject=help>
List-Subscribe: <https://mails.dpdk.org/listinfo/test-report>,
 <mailto:test-report-request@dpdk.org?subject=subscribe>
Errors-To: test-report-bounces@dpdk.org

Test-Label: iol-compile-amd64-testing
Test-Status: SUCCESS
http://dpdk.org/patch/138462

_Testing PASS_

Submitter: Sivaprasad Tummala <Sivaprasad.Tummala@amd.com>
Date: Monday, March 18 2024 17:31:45 
DPDK git baseline: Repo:dpdk
  Branch: master
  CommitID:80ecef6d1f71fcebc0a51d7cabc51f73ee142ff2

138458-138462 --> testing pass

Test environment and result as below:

+---------------------+--------------------+----------------------+
|     Environment     | dpdk_meson_compile | dpdk_mingw64_compile |
+=====================+====================+======================+
| FreeBSD 13.2        | PASS               | SKIPPED              |
+---------------------+--------------------+----------------------+
| Windows Server 2022 | PASS               | PASS                 |
+---------------------+--------------------+----------------------+
| Windows Server 2019 | PASS               | PASS                 |
+---------------------+--------------------+----------------------+
| Debian Bullseye     | PASS               | SKIPPED              |
+---------------------+--------------------+----------------------+
| Debian 11 (arm)     | PASS               | SKIPPED              |
+---------------------+--------------------+----------------------+
| Fedora 37           | PASS               | SKIPPED              |
+---------------------+--------------------+----------------------+
| CentOS Stream 9     | PASS               | SKIPPED              |
+---------------------+--------------------+----------------------+
| Fedora 38           | PASS               | SKIPPED              |
+---------------------+--------------------+----------------------+
| Ubuntu 20.04        | PASS               | SKIPPED              |
+---------------------+--------------------+----------------------+
| Ubuntu 22.04        | PASS               | SKIPPED              |
+---------------------+--------------------+----------------------+
| RHEL8               | PASS               | SKIPPED              |
+---------------------+--------------------+----------------------+
| Alpine              | PASS               | SKIPPED              |
+---------------------+--------------------+----------------------+
| openSUSE Leap 15    | PASS               | SKIPPED              |
+---------------------+--------------------+----------------------+


FreeBSD 13.2
	Kernel: 13.2
	Compiler: clang 14.0.5

Windows Server 2022
	Kernel: 10.0.20348.2031
	Compiler: clang 15.0.7, gcc 8.1.0 (MinGW), and MSVC VS 17.9

Windows Server 2019
	Kernel: 10.0.17763
	Compiler: clang 14.0 and gcc 8.1.0 (MinGW)

Debian Bullseye
	Kernel: 5.4.0-167-generic
	Compiler: gcc 10.2.1-6

Debian 11 (arm)
	Kernel: Container Host Kernel
	Compiler: gcc 10.2.1

Fedora 37
	Kernel: Depends on container host system
	Compiler: gcc 12.3.1

CentOS Stream 9
	Kernel: 5.4.0-167-generic
	Compiler: gcc 11.4.1 20230605

Fedora 38
	Kernel: Depends on container host
	Compiler: gcc 13.2.1

Ubuntu 20.04
	Kernel: 5.4.0-153-generic
	Compiler: gcc 9.4.0-1ubuntu1~20.04.1

Ubuntu 22.04
	Kernel: 4.18.0-240.10.1.el8_3.x86_64
	Compiler: gcc 11.3.0

RHEL8
	Kernel: 4.18.0-240.10.1.el8_3.x86_64
	Compiler: gcc 8.3.1 20191121 (Red Hat 8.3.1-5)

Alpine
	Kernel: 5.4.0-167-generic
	Compiler: gcc (Alpine 12.2.1_git20220924-r10) 12.2.1 20220924

openSUSE Leap 15
	Kernel: 4.18.0-240.10.1.el8_3.x86_64
	Compiler: gcc 7.5.0

To view detailed results, visit:
https://lab.dpdk.org/results/dashboard/patchsets/29584/

UNH-IOL DPDK Community Lab

To manage your email subscriptions, visit: 
https://lab.dpdk.org/results/dashboard/preferences/subscriptions/