From mboxrd@z Thu Jan  1 00:00:00 1970
Return-Path: <test-report-bounces@dpdk.org>
Received: from mails.dpdk.org (mails.dpdk.org [217.70.189.124])
	by inbox.dpdk.org (Postfix) with ESMTP id 4A12B43CE4
	for <public@inbox.dpdk.org>; Mon, 18 Mar 2024 21:42:15 +0100 (CET)
Received: from mails.dpdk.org (localhost [127.0.0.1])
	by mails.dpdk.org (Postfix) with ESMTP id 45C174067C;
	Mon, 18 Mar 2024 21:42:15 +0100 (CET)
Received: from mail-vs1-f100.google.com (mail-vs1-f100.google.com
 [209.85.217.100])
 by mails.dpdk.org (Postfix) with ESMTP id 0135340299
 for <test-report@dpdk.org>; Mon, 18 Mar 2024 21:42:09 +0100 (CET)
Received: by mail-vs1-f100.google.com with SMTP id
 ada2fe7eead31-4739b6ddc94so609372137.0
 for <test-report@dpdk.org>; Mon, 18 Mar 2024 13:42:08 -0700 (PDT)
DKIM-Signature: v=1; a=rsa-sha256; c=relaxed/relaxed;
 d=iol.unh.edu; s=unh-iol; t=1710794528; x=1711399328; darn=dpdk.org;
 h=references:in-reply-to:cc:to:from:subject:message-id:date:from:to
 :cc:subject:date:message-id:reply-to;
 bh=Ov/Vhffe1f6liiOI8EUdj/I5/mnWRu8MQ9kYoLArvrk=;
 b=OUg/ZvECDEkbW1lHwT1Dm5gbNsqFLqHTOTYFzkF2+QyztJdm7eiAJrduFYygL1fN4G
 rgAc53hl4H5M4yNDq9bXGkjXXuy9WQ5gvwCx+DEu+jDNVq2wrjEC9YEI9haaHjYGyBjX
 OzDFbRqwofGYFClhaNT71CylckezxBhlD9awA=
X-Google-DKIM-Signature: v=1; a=rsa-sha256; c=relaxed/relaxed;
 d=1e100.net; s=20230601; t=1710794528; x=1711399328;
 h=references:in-reply-to:cc:to:from:subject:message-id:date
 :x-gm-message-state:from:to:cc:subject:date:message-id:reply-to;
 bh=Ov/Vhffe1f6liiOI8EUdj/I5/mnWRu8MQ9kYoLArvrk=;
 b=EJGgFZUCJqIfthIx4Dn5ZeMyiqmuNpKyDaOvDb+lMOyw0AXLTxu6e9qqKv5C4/5kve
 PJjStoNKGk9qUUEqli+7qqk4zghhPWQTfE5ZiqWmd+01+NPUCFdgu+F2n+v1Ltor9kFn
 cXjjto1XXn8dM45JuO6/R4AdW4j8bzDieelFbyc39KGQQuvn7PnOwDuSu/MAyDvyzIO0
 Cp7AR+AYoMEjGXZmZZPkmzS2uTKuKauE0U0gZubDQ3oQJGV6waMmbldIy+V9NoHWpk3H
 kj+RvYry6zzQQvLMF6b0DOmRl6KCmVyrYTOij9a018HZ3uyBVud4PIQ5XpjgINy9Gu17
 YkeQ==
X-Gm-Message-State: AOJu0YzUhHnTcDmAItqaq5Fmwcs5YTH0BWIERkSSOZBTHrgR7MjoOspZ
 51HoWki4Ds7tfmQ0pEEQaX/7CdcpqCoh43r9TRe5spmdDI92voz5zohQNrHdSs970akNuJAb3Yd
 19ByB7PQYkcKR0uHqLKqmThItCc34meRaoH1P56WbHiZmyT7JRZxUPRq4
X-Google-Smtp-Source: AGHT+IGY2A3QqF6iH+GVkYX6uj00oOeGZlQYjQjfg8NNyA0fdWN7lqjoE9zk5s+yOooKe6OrbWBW/rhalDmz
X-Received: by 2002:a67:fc87:0:b0:473:2d91:c4d5 with SMTP id
 x7-20020a67fc87000000b004732d91c4d5mr11291542vsp.25.1710794528444; 
 Mon, 18 Mar 2024 13:42:08 -0700 (PDT)
Received: from postal.iol.unh.edu (postal.iol.unh.edu.
 [2606:4100:3880:1234::84]) by smtp-relay.gmail.com with ESMTPS id
 hu12-20020a056214234c00b0068fcc5e85a5sm631887qvb.35.2024.03.18.13.42.08
 (version=TLS1_2 cipher=ECDHE-ECDSA-AES128-GCM-SHA256 bits=128/128);
 Mon, 18 Mar 2024 13:42:08 -0700 (PDT)
X-Relaying-Domain: iol.unh.edu
Date: Mon, 18 Mar 2024 13:42:08 -0700 (PDT)
Message-ID: <65f8a720.050a0220.77339.ba71SMTPIN_ADDED_MISSING@mx.google.com>
Received: from [172.17.0.7] (unknown [172.18.0.217])
 by postal.iol.unh.edu (Postfix) with ESMTP id 27D476052471;
 Mon, 18 Mar 2024 16:42:08 -0400 (EDT)
Subject: |SUCCESS| pw138458-138462 [PATCH] [v5,6/6] examples/vm_power_manager
From: dpdklab@iol.unh.edu
To: Test Report <test-report@dpdk.org>
Cc: dpdk-test-reports@iol.unh.edu
In-Reply-To: <20240318173146.24303-7-sivaprasad.tummala@amd.com>
References: <20240318173146.24303-7-sivaprasad.tummala@amd.com>
Content-Type: text/plain
X-BeenThere: test-report@dpdk.org
X-Mailman-Version: 2.1.29
Precedence: list
List-Id: automatic DPDK test reports <test-report.dpdk.org>
List-Unsubscribe: <https://mails.dpdk.org/options/test-report>,
 <mailto:test-report-request@dpdk.org?subject=unsubscribe>
List-Archive: <http://mails.dpdk.org/archives/test-report/>
List-Post: <mailto:test-report@dpdk.org>
List-Help: <mailto:test-report-request@dpdk.org?subject=help>
List-Subscribe: <https://mails.dpdk.org/listinfo/test-report>,
 <mailto:test-report-request@dpdk.org?subject=subscribe>
Errors-To: test-report-bounces@dpdk.org

Test-Label: iol-compile-arm64-testing
Test-Status: SUCCESS
http://dpdk.org/patch/138462

_Testing PASS_

Submitter: Sivaprasad Tummala <Sivaprasad.Tummala@amd.com>
Date: Monday, March 18 2024 17:31:45 
DPDK git baseline: Repo:dpdk
  Branch: master
  CommitID:80ecef6d1f71fcebc0a51d7cabc51f73ee142ff2

138458-138462 --> testing pass

Test environment and result as below:

+----------------------------------------+--------------------+
|              Environment               | dpdk_meson_compile |
+========================================+====================+
| Ubuntu 20.04 ARM SVE                   | PASS               |
+----------------------------------------+--------------------+
| Ubuntu 20.04 ARM GCC Cross Compile     | PASS               |
+----------------------------------------+--------------------+
| Debian 12 with MUSDK                   | PASS               |
+----------------------------------------+--------------------+
| Ubuntu 20.04 aarch32 GCC Cross Compile | PASS               |
+----------------------------------------+--------------------+
| Fedora 37 (ARM)                        | PASS               |
+----------------------------------------+--------------------+
| Fedora 38 (ARM)                        | PASS               |
+----------------------------------------+--------------------+
| CentOS Stream 9 (ARM)                  | PASS               |
+----------------------------------------+--------------------+
| Debian 12 (arm)                        | PASS               |
+----------------------------------------+--------------------+
| Ubuntu 20.04 (ARM)                     | PASS               |
+----------------------------------------+--------------------+


Ubuntu 20.04 ARM SVE
	Kernel: 5.4.0-80-generic
	Compiler: gcc 10.3.0 (Ubuntu 10.3.0-1ubuntu1~20.04)

Ubuntu 20.04 ARM GCC Cross Compile
	Kernel: 5.4.0-72-generic
	Compiler: aarch64-linux-gnu-gcc (Ubuntu 9.3.0-17ubuntu1~20.04) 9.3.0

Debian 12 with MUSDK
	Kernel: Container Host Kernel
	Compiler: gcc 12.2.0

Ubuntu 20.04 aarch32 GCC Cross Compile
	Kernel: 5.4.0-72-generic
	Compiler: gcc 9.3.0

Fedora 37 (ARM)
	Kernel: Depends on container host
	Compiler: gcc 12.3.1

Fedora 38 (ARM)
	Kernel: Depends on container host
	Compiler: gcc 13.2.1

CentOS Stream 9 (ARM)
	Kernel: Container Host Kernel
	Compiler: gcc 11.4.1

Debian 12 (arm)
	Kernel: Container Host Kernel
	Compiler: gcc 11

Ubuntu 20.04 (ARM)
	Kernel: Container Host Kernel
	Compiler: gcc 9.4.0

To view detailed results, visit:
https://lab.dpdk.org/results/dashboard/patchsets/29584/

UNH-IOL DPDK Community Lab

To manage your email subscriptions, visit: 
https://lab.dpdk.org/results/dashboard/preferences/subscriptions/