From mboxrd@z Thu Jan  1 00:00:00 1970
Return-Path: <test-report-bounces@dpdk.org>
Received: from mails.dpdk.org (mails.dpdk.org [217.70.189.124])
	by inbox.dpdk.org (Postfix) with ESMTP id D143F43CEA
	for <public@inbox.dpdk.org>; Mon, 18 Mar 2024 22:22:34 +0100 (CET)
Received: from mails.dpdk.org (localhost [127.0.0.1])
	by mails.dpdk.org (Postfix) with ESMTP id C74034067C;
	Mon, 18 Mar 2024 22:22:34 +0100 (CET)
Received: from mail-pf1-f225.google.com (mail-pf1-f225.google.com
 [209.85.210.225])
 by mails.dpdk.org (Postfix) with ESMTP id 93E4B40299
 for <test-report@dpdk.org>; Mon, 18 Mar 2024 22:22:33 +0100 (CET)
Received: by mail-pf1-f225.google.com with SMTP id
 d2e1a72fcca58-6e6b54a28d0so3682612b3a.2
 for <test-report@dpdk.org>; Mon, 18 Mar 2024 14:22:33 -0700 (PDT)
DKIM-Signature: v=1; a=rsa-sha256; c=relaxed/relaxed;
 d=iol.unh.edu; s=unh-iol; t=1710796953; x=1711401753; darn=dpdk.org;
 h=references:in-reply-to:cc:to:from:subject:message-id:date:from:to
 :cc:subject:date:message-id:reply-to;
 bh=HSykif6wev72BDZQj0QWFc2oUPvU3ns61Kd79dbUkhQ=;
 b=DzemfC7XzLEt32aoobFjnF1QwEKj+2YKc7GyPDMT4so35BEOzkhp5EdryA6nEacGOs
 qPuxR8Fd0U0mLn1LZpFDuE37dkkRCxd8Z81G3HKcP0cRQKo4wffuD+M+tyHEn1EhUd4X
 Zimv9IkHeK/SvDl17pmZiKXq4vpXKcCZfUhtg=
X-Google-DKIM-Signature: v=1; a=rsa-sha256; c=relaxed/relaxed;
 d=1e100.net; s=20230601; t=1710796953; x=1711401753;
 h=references:in-reply-to:cc:to:from:subject:message-id:date
 :x-gm-message-state:from:to:cc:subject:date:message-id:reply-to;
 bh=HSykif6wev72BDZQj0QWFc2oUPvU3ns61Kd79dbUkhQ=;
 b=OR+S4gOAZYtA2eImMjYDPB+gycqL7WEq8m+0Og02/XynoOmObEmN5K0aptWXZQLNeJ
 tdM5yPpqI5Na8YFFNqGYY0SiXwA2UTebjfo5NnWTrnV8DQWq3YkdNaU/PZK5gjfMY9iW
 8unVqVCYduLDosFv7hr2tMOsGBQ6opKXuA06vrtZ5e2T6T6QvOIJtyy86fAiUGBYbKZr
 bBGMNt7DzyjjCBEvRyGms9zHINvy0hCszwQmiQpSQG7tJi/3hWFodi660/SprmkgptGU
 Xz6Pb7nUcB/bsoU8OPwpusS4tHm90UCHAG6XFma1DUleL3A+O9iCCv+zHT4jO06P/Oih
 j6tQ==
X-Gm-Message-State: AOJu0YwJ+4RP3Hx+QVUUTXDeVhrNx8BaoHw4ofqWlUF5QUa9YXrfpst5
 owrIK+VcT7AI6w6bZwjYF3eKqzZQFT7OGvtG09pD4pEJdYAdnNWY6MbeD1rrfZUbd51ca3SRiTm
 fV4SbjkEEHp4HF+CsuODz2RD5za2ZVmMDfCkEX1FQ
X-Google-Smtp-Source: AGHT+IEDLWJumoC866m6MkcwvLyNP72XKv+Jsvhi7+zqqs8KiZTL98ATMrUI4jQbI3OCEZfFu2hZE7hyIxGw
X-Received: by 2002:a05:6a21:3a4b:b0:1a3:6958:2f5d with SMTP id
 zu11-20020a056a213a4b00b001a369582f5dmr2808466pzb.41.1710796952653; 
 Mon, 18 Mar 2024 14:22:32 -0700 (PDT)
Received: from postal.iol.unh.edu (postal.iol.unh.edu. [132.177.123.84])
 by smtp-relay.gmail.com with ESMTPS id
 x4-20020a634a04000000b005dc87314070sm302835pga.4.2024.03.18.14.22.32
 (version=TLS1_2 cipher=ECDHE-ECDSA-AES128-GCM-SHA256 bits=128/128);
 Mon, 18 Mar 2024 14:22:32 -0700 (PDT)
X-Relaying-Domain: iol.unh.edu
Date: Mon, 18 Mar 2024 14:22:32 -0700 (PDT)
Message-ID: <65f8b098.630a0220.69e09.3f48SMTPIN_ADDED_MISSING@mx.google.com>
Received: from [172.17.0.6] (unknown [172.18.0.217])
 by postal.iol.unh.edu (Postfix) with ESMTP id 95BA46052471;
 Mon, 18 Mar 2024 17:22:31 -0400 (EDT)
Subject: |SUCCESS| pw138458-138462 [PATCH] [v5,6/6] examples/vm_power_manager
From: dpdklab@iol.unh.edu
To: Test Report <test-report@dpdk.org>
Cc: dpdk-test-reports@iol.unh.edu
In-Reply-To: <20240318173146.24303-7-sivaprasad.tummala@amd.com>
References: <20240318173146.24303-7-sivaprasad.tummala@amd.com>
Content-Type: text/plain
X-BeenThere: test-report@dpdk.org
X-Mailman-Version: 2.1.29
Precedence: list
List-Id: automatic DPDK test reports <test-report.dpdk.org>
List-Unsubscribe: <https://mails.dpdk.org/options/test-report>,
 <mailto:test-report-request@dpdk.org?subject=unsubscribe>
List-Archive: <http://mails.dpdk.org/archives/test-report/>
List-Post: <mailto:test-report@dpdk.org>
List-Help: <mailto:test-report-request@dpdk.org?subject=help>
List-Subscribe: <https://mails.dpdk.org/listinfo/test-report>,
 <mailto:test-report-request@dpdk.org?subject=subscribe>
Errors-To: test-report-bounces@dpdk.org

Test-Label: iol-unit-arm64-testing
Test-Status: SUCCESS
http://dpdk.org/patch/138462

_Testing PASS_

Submitter: Sivaprasad Tummala <Sivaprasad.Tummala@amd.com>
Date: Monday, March 18 2024 17:31:45 
DPDK git baseline: Repo:dpdk
  Branch: master
  CommitID:80ecef6d1f71fcebc0a51d7cabc51f73ee142ff2

138458-138462 --> testing pass

Test environment and result as below:

+--------------------------+----------------+---------------------------+------------------------------+--------------+
|       Environment        | dpdk_unit_test | cryptodev_sw_zuc_autotest | cryptodev_sw_snow3g_autotest | lpm_autotest |
+==========================+================+===========================+==============================+==============+
| Debian 12 (arm)          | PASS           | PASS                      | PASS                         | SKIPPED      |
+--------------------------+----------------+---------------------------+------------------------------+--------------+
| CentOS Stream 9 (ARM)    | PASS           | SKIPPED                   | SKIPPED                      | SKIPPED      |
+--------------------------+----------------+---------------------------+------------------------------+--------------+
| Fedora 38 (ARM)          | PASS           | SKIPPED                   | SKIPPED                      | SKIPPED      |
+--------------------------+----------------+---------------------------+------------------------------+--------------+
| Fedora 37 (ARM)          | PASS           | SKIPPED                   | SKIPPED                      | SKIPPED      |
+--------------------------+----------------+---------------------------+------------------------------+--------------+
| Ubuntu 20.04 (ARM)       | PASS           | SKIPPED                   | SKIPPED                      | SKIPPED      |
+--------------------------+----------------+---------------------------+------------------------------+--------------+
| Debian 11 (Buster) (ARM) | PASS           | SKIPPED                   | SKIPPED                      | SKIPPED      |
+--------------------------+----------------+---------------------------+------------------------------+--------------+
| Fedora 38 (ARM Clang)    | PASS           | SKIPPED                   | SKIPPED                      | SKIPPED      |
+--------------------------+----------------+---------------------------+------------------------------+--------------+
| Ubuntu 20.04 ARM SVE     | SKIPPED        | SKIPPED                   | SKIPPED                      | PASS         |
+--------------------------+----------------+---------------------------+------------------------------+--------------+


Debian 12 (arm)
	Kernel: Container Host Kernel
	Compiler: gcc 11

CentOS Stream 9 (ARM)
	Kernel: Container Host Kernel
	Compiler: gcc 11.4.1

Fedora 38 (ARM)
	Kernel: Depends on container host
	Compiler: gcc 13.2.1

Fedora 37 (ARM)
	Kernel: Depends on container host
	Compiler: gcc 12.3.1

Ubuntu 20.04 (ARM)
	Kernel: Container Host Kernel
	Compiler: gcc 9.4.0

Debian 11 (Buster) (ARM)
	Kernel: Container Host Kernel
	Compiler: gcc 10.2.1

Fedora 38 (ARM Clang)
	Kernel: Depends on container host
	Compiler: clang 16.0.6

Ubuntu 20.04 ARM SVE
	Kernel: 5.4.0-167-generic
	Compiler: gcc (Ubuntu 10.5.0-1ubuntu1~20.04) 10.5.0

To view detailed results, visit:
https://lab.dpdk.org/results/dashboard/patchsets/29584/

UNH-IOL DPDK Community Lab

To manage your email subscriptions, visit: 
https://lab.dpdk.org/results/dashboard/preferences/subscriptions/