From mboxrd@z Thu Jan  1 00:00:00 1970
Return-Path: <test-report-bounces@dpdk.org>
Received: from mails.dpdk.org (mails.dpdk.org [217.70.189.124])
	by inbox.dpdk.org (Postfix) with ESMTP id 010FD43CE8
	for <public@inbox.dpdk.org>; Mon, 18 Mar 2024 23:50:47 +0100 (CET)
Received: from mails.dpdk.org (localhost [127.0.0.1])
	by mails.dpdk.org (Postfix) with ESMTP id CFDD14067C;
	Mon, 18 Mar 2024 23:50:47 +0100 (CET)
Received: from mail-il1-f225.google.com (mail-il1-f225.google.com
 [209.85.166.225])
 by mails.dpdk.org (Postfix) with ESMTP id 901EA40299
 for <test-report@dpdk.org>; Mon, 18 Mar 2024 23:50:46 +0100 (CET)
Received: by mail-il1-f225.google.com with SMTP id
 e9e14a558f8ab-366b45a1515so8881195ab.0
 for <test-report@dpdk.org>; Mon, 18 Mar 2024 15:50:46 -0700 (PDT)
DKIM-Signature: v=1; a=rsa-sha256; c=relaxed/relaxed;
 d=iol.unh.edu; s=unh-iol; t=1710802246; x=1711407046; darn=dpdk.org;
 h=references:in-reply-to:cc:to:from:subject:message-id:date:from:to
 :cc:subject:date:message-id:reply-to;
 bh=mVg9KAcPm7PDGGntFeTct9PU2s6cTzgYWiSQbqG8PA8=;
 b=RSCMR0U+YgXvR3pMGsUyCvrYZK0A2x5FBVXkFlGS/KrYWgzVkR9H2u42ryU8egwn5P
 azKwJ9ZtFEsjc0a4ugzIlTxZN+i6LSIUTqnSBWJCQxz5fqWBm4cWuHI+i7MpDJe2PIHd
 O+B73NYdcVd/0p2bn6MF5JVJyHPhO0rOQ9Fb4=
X-Google-DKIM-Signature: v=1; a=rsa-sha256; c=relaxed/relaxed;
 d=1e100.net; s=20230601; t=1710802246; x=1711407046;
 h=references:in-reply-to:cc:to:from:subject:message-id:date
 :x-gm-message-state:from:to:cc:subject:date:message-id:reply-to;
 bh=mVg9KAcPm7PDGGntFeTct9PU2s6cTzgYWiSQbqG8PA8=;
 b=VcPsmXh4aZEstmYM6G66GzvQbfizvd4O/PpDgdDrAihqjUwb+t0FjVG9miwvtB6Zux
 VHdXmPaw2jlKCdYXLL37TzrSHLjkcwxxDiP33iTmBjVtcXliPc86HU4LCEp+1c8PNPs7
 MmbpaMk73PWm33/a9srl6+u69aFmKnNdvULHjweXve+mHSoZjmsviPvdm+leuPp8pZU9
 8xwGy1J3uS26TDBX/gN30SH8mFnIoyLSBZTfCalDXkuGObrBRwffcoUJx4aF3itPZuf1
 8ujBymtY3zFa9noXjqiq0OxsGYO/9Ixk06IOw6/1g3GymJhRAJcDLxQRtOybe7d7lMWY
 1pDQ==
X-Gm-Message-State: AOJu0Yy/EMnDA/x6V36HLk5vJigOZFVZ+yBb7Hxv2Mc/JX4QkTLewd6g
 OVKII7VsGg74hugygMl7iRwMQ4tkpz7L8JAPek4NA1fEGcDNpl8CvHWbP30lSdoMm7TqTcCuHjG
 6g9e+SIwFHfjmpNnVYhtBzHslJHP+WlhAsZeYokRm2oDOso6pqLZ36nkF
X-Google-Smtp-Source: AGHT+IGYerbiCTLGu1UcFY9/P7XqAl+GUgePJn8BB4Nwv4EuAJf4f4ubZBo+eGNC8kIJ/r/jMh9XUolYwYzb
X-Received: by 2002:a05:6e02:1a8a:b0:366:c779:f955 with SMTP id
 k10-20020a056e021a8a00b00366c779f955mr5755794ilv.17.1710802245965; 
 Mon, 18 Mar 2024 15:50:45 -0700 (PDT)
Received: from postal.iol.unh.edu (postal.iol.unh.edu.
 [2606:4100:3880:1234::84]) by smtp-relay.gmail.com with ESMTPS id
 z2-20020a92cec2000000b00366935fbd52sm505440ilq.41.2024.03.18.15.50.45
 (version=TLS1_2 cipher=ECDHE-ECDSA-AES128-GCM-SHA256 bits=128/128);
 Mon, 18 Mar 2024 15:50:45 -0700 (PDT)
X-Relaying-Domain: iol.unh.edu
Date: Mon, 18 Mar 2024 15:50:45 -0700 (PDT)
Message-ID: <65f8c545.920a0220.02dc.26deSMTPIN_ADDED_MISSING@mx.google.com>
Received: from [172.21.0.6] (unknown [172.18.0.240])
 by postal.iol.unh.edu (Postfix) with ESMTP id 6DF216052471;
 Mon, 18 Mar 2024 18:50:45 -0400 (EDT)
Subject: |SUCCESS| pw138472-138476 [PATCH] [v9,5/5] eal: add option to put ti
From: dpdklab@iol.unh.edu
To: Test Report <test-report@dpdk.org>
Cc: dpdk-test-reports@iol.unh.edu
In-Reply-To: <20240318220432.7486-6-stephen@networkplumber.org>
References: <20240318220432.7486-6-stephen@networkplumber.org>
Content-Type: text/plain
X-BeenThere: test-report@dpdk.org
X-Mailman-Version: 2.1.29
Precedence: list
List-Id: automatic DPDK test reports <test-report.dpdk.org>
List-Unsubscribe: <https://mails.dpdk.org/options/test-report>,
 <mailto:test-report-request@dpdk.org?subject=unsubscribe>
List-Archive: <http://mails.dpdk.org/archives/test-report/>
List-Post: <mailto:test-report@dpdk.org>
List-Help: <mailto:test-report-request@dpdk.org?subject=help>
List-Subscribe: <https://mails.dpdk.org/listinfo/test-report>,
 <mailto:test-report-request@dpdk.org?subject=subscribe>
Errors-To: test-report-bounces@dpdk.org

Test-Label: iol-abi-testing
Test-Status: SUCCESS
http://dpdk.org/patch/138476

_Testing PASS_

Submitter: Stephen Hemminger <stephen@networkplumber.org>
Date: Monday, March 18 2024 22:03:01 
DPDK git baseline: Repo:dpdk
  Branch: master
  CommitID:80ecef6d1f71fcebc0a51d7cabc51f73ee142ff2

138472-138476 --> testing pass

Test environment and result as below:

+------------------+----------+
|   Environment    | abi_test |
+==================+==========+
| Debian 11 (arm)  | PASS     |
+------------------+----------+
| Debian Bullseye  | PASS     |
+------------------+----------+
| Ubuntu 22.04     | PASS     |
+------------------+----------+
| CentOS Stream 9  | PASS     |
+------------------+----------+
| Fedora 37        | PASS     |
+------------------+----------+
| openSUSE Leap 15 | PASS     |
+------------------+----------+
| Fedora 38        | PASS     |
+------------------+----------+
| CentOS Stream 8  | PASS     |
+------------------+----------+


Debian 11 (arm)
	Kernel: Container Host Kernel
	Compiler: gcc 10.2.1

Debian Bullseye
	Kernel: 5.4.0-167-generic
	Compiler: gcc 10.2.1-6

Ubuntu 22.04
	Kernel: 5.4.0-167-generic
	Compiler: gcc 11.4.0

CentOS Stream 9
	Kernel: 5.4.0-167-generic
	Compiler: gcc 11.4.1 20230605

Fedora 37
	Kernel: Depends on container host system
	Compiler: gcc 12.3.1

openSUSE Leap 15
	Kernel: 5.4.0-167-generic
	Compiler: gcc 7.5.0

Fedora 38
	Kernel: Depends on container host
	Compiler: gcc 13.2.1

CentOS Stream 8
	Kernel: 5.4.0-167-generic
	Compiler: gcc 8.5.0 20210514

To view detailed results, visit:
https://lab.dpdk.org/results/dashboard/patchsets/29589/

UNH-IOL DPDK Community Lab

To manage your email subscriptions, visit: 
https://lab.dpdk.org/results/dashboard/preferences/subscriptions/