From mboxrd@z Thu Jan  1 00:00:00 1970
Return-Path: <test-report-bounces@dpdk.org>
Received: from mails.dpdk.org (mails.dpdk.org [217.70.189.124])
	by inbox.dpdk.org (Postfix) with ESMTP id 11C3B43CE8
	for <public@inbox.dpdk.org>; Mon, 18 Mar 2024 23:51:50 +0100 (CET)
Received: from mails.dpdk.org (localhost [127.0.0.1])
	by mails.dpdk.org (Postfix) with ESMTP id 0C98E4067C;
	Mon, 18 Mar 2024 23:51:50 +0100 (CET)
Received: from mail-pl1-f225.google.com (mail-pl1-f225.google.com
 [209.85.214.225])
 by mails.dpdk.org (Postfix) with ESMTP id 7F4CA40299
 for <test-report@dpdk.org>; Mon, 18 Mar 2024 23:51:47 +0100 (CET)
Received: by mail-pl1-f225.google.com with SMTP id
 d9443c01a7336-1e032fc60a0so8902285ad.1
 for <test-report@dpdk.org>; Mon, 18 Mar 2024 15:51:47 -0700 (PDT)
DKIM-Signature: v=1; a=rsa-sha256; c=relaxed/relaxed;
 d=iol.unh.edu; s=unh-iol; t=1710802306; x=1711407106; darn=dpdk.org;
 h=references:in-reply-to:cc:to:from:subject:message-id:date:from:to
 :cc:subject:date:message-id:reply-to;
 bh=mVg9KAcPm7PDGGntFeTct9PU2s6cTzgYWiSQbqG8PA8=;
 b=MC4/XfQkCPvjsqA4veRtVnma7sXMGAScrW7os4qUe8L6J+UJzzo8MvTnI8SbZDvnSH
 p3MF26EWpkHqHDYVCAEBm4mnjmt4BokDZvUzFMwxaghEDBRc0aeHR+MDamVNtx9uVFh7
 90ztEtl5BXETsMbQ9QJYO0oV3Nee7WubCrl10=
X-Google-DKIM-Signature: v=1; a=rsa-sha256; c=relaxed/relaxed;
 d=1e100.net; s=20230601; t=1710802306; x=1711407106;
 h=references:in-reply-to:cc:to:from:subject:message-id:date
 :x-gm-message-state:from:to:cc:subject:date:message-id:reply-to;
 bh=mVg9KAcPm7PDGGntFeTct9PU2s6cTzgYWiSQbqG8PA8=;
 b=vp8DM6RS7zNSnU4h/9JJU2jHqtKaUFfIpMR9y/ZwqK3nBLB+00xPIseQPVsUCxJmjh
 PHE1oBVnUPZBiw4d99ki4W2iXuD9hflZ2d9EaOAdJwiB+FVuESj5tU1eX8QGyQlistm0
 rbTmvxFIrcwhZK5k+wM4GifcTSVOqp+Y6Y0Gkb6C+Wdctqge30+fEcAi3h0FP+wx/d9V
 ytSHxMpgtHXM+iBKl1Y5qiGKJkCTVBs4GuS0ia0ks3vr/eh3NA1n5qvqK7DYkeU5DgEW
 GqhSPijf7OiTSO9/zeE9w2t5QiNunVPAudSW3qXmNHgX6Gp2LIKZr9CJLAeaBjLyMhra
 s6KA==
X-Gm-Message-State: AOJu0YwUmbu90x9R9Hq9gwD6XopBxuNB0qhddnGRh5RiuEkrhlXzHWp1
 FA4yXUB3m2WgQU3OZUw7vhOa4n+QZNPlB7ovQ4vjv7RcRWv6HLOlEwncXI6GYUZ7GWN/BOcu71k
 uSxfdDF9TQAPIqrx3LPwWXHlKa+5fMLIkOL2MhSJTqXh8ZzA4TCGaK6bp
X-Google-Smtp-Source: AGHT+IHhpU1zDKNaV0U84VaQ0Ug+BT7p/mNytNjz46Ea9YrUDlZ5za6lFYgFJVJumAo3CCL54TVP3W1quPXj
X-Received: by 2002:a17:903:2448:b0:1df:f818:8936 with SMTP id
 l8-20020a170903244800b001dff8188936mr1387459pls.21.1710802306643; 
 Mon, 18 Mar 2024 15:51:46 -0700 (PDT)
Received: from postal.iol.unh.edu (postal.iol.unh.edu.
 [2606:4100:3880:1234::84]) by smtp-relay.gmail.com with ESMTPS id
 u10-20020a17090282ca00b001db90db4b92sm148729plz.78.2024.03.18.15.51.46
 (version=TLS1_2 cipher=ECDHE-ECDSA-AES128-GCM-SHA256 bits=128/128);
 Mon, 18 Mar 2024 15:51:46 -0700 (PDT)
X-Relaying-Domain: iol.unh.edu
Date: Mon, 18 Mar 2024 15:51:46 -0700 (PDT)
Message-ID: <65f8c582.170a0220.91679.8890SMTPIN_ADDED_MISSING@mx.google.com>
Received: from [172.21.0.6] (unknown [172.18.0.240])
 by postal.iol.unh.edu (Postfix) with ESMTP id 1CA6A6052471;
 Mon, 18 Mar 2024 18:51:46 -0400 (EDT)
Subject: |SUCCESS| pw138472-138476 [PATCH] [v9,5/5] eal: add option to put ti
From: dpdklab@iol.unh.edu
To: Test Report <test-report@dpdk.org>
Cc: dpdk-test-reports@iol.unh.edu
In-Reply-To: <20240318220432.7486-6-stephen@networkplumber.org>
References: <20240318220432.7486-6-stephen@networkplumber.org>
Content-Type: text/plain
X-BeenThere: test-report@dpdk.org
X-Mailman-Version: 2.1.29
Precedence: list
List-Id: automatic DPDK test reports <test-report.dpdk.org>
List-Unsubscribe: <https://mails.dpdk.org/options/test-report>,
 <mailto:test-report-request@dpdk.org?subject=unsubscribe>
List-Archive: <http://mails.dpdk.org/archives/test-report/>
List-Post: <mailto:test-report@dpdk.org>
List-Help: <mailto:test-report-request@dpdk.org?subject=help>
List-Subscribe: <https://mails.dpdk.org/listinfo/test-report>,
 <mailto:test-report-request@dpdk.org?subject=subscribe>
Errors-To: test-report-bounces@dpdk.org

Test-Label: iol-abi-testing
Test-Status: SUCCESS
http://dpdk.org/patch/138476

_Testing PASS_

Submitter: Stephen Hemminger <stephen@networkplumber.org>
Date: Monday, March 18 2024 22:03:01 
DPDK git baseline: Repo:dpdk
  Branch: master
  CommitID:80ecef6d1f71fcebc0a51d7cabc51f73ee142ff2

138472-138476 --> testing pass

Test environment and result as below:

+------------------+----------+
|   Environment    | abi_test |
+==================+==========+
| Debian 11 (arm)  | PASS     |
+------------------+----------+
| Debian Bullseye  | PASS     |
+------------------+----------+
| Ubuntu 22.04     | PASS     |
+------------------+----------+
| CentOS Stream 9  | PASS     |
+------------------+----------+
| Fedora 37        | PASS     |
+------------------+----------+
| openSUSE Leap 15 | PASS     |
+------------------+----------+
| Fedora 38        | PASS     |
+------------------+----------+
| CentOS Stream 8  | PASS     |
+------------------+----------+


Debian 11 (arm)
	Kernel: Container Host Kernel
	Compiler: gcc 10.2.1

Debian Bullseye
	Kernel: 5.4.0-167-generic
	Compiler: gcc 10.2.1-6

Ubuntu 22.04
	Kernel: 5.4.0-167-generic
	Compiler: gcc 11.4.0

CentOS Stream 9
	Kernel: 5.4.0-167-generic
	Compiler: gcc 11.4.1 20230605

Fedora 37
	Kernel: Depends on container host system
	Compiler: gcc 12.3.1

openSUSE Leap 15
	Kernel: 5.4.0-167-generic
	Compiler: gcc 7.5.0

Fedora 38
	Kernel: Depends on container host
	Compiler: gcc 13.2.1

CentOS Stream 8
	Kernel: 5.4.0-167-generic
	Compiler: gcc 8.5.0 20210514

To view detailed results, visit:
https://lab.dpdk.org/results/dashboard/patchsets/29589/

UNH-IOL DPDK Community Lab

To manage your email subscriptions, visit: 
https://lab.dpdk.org/results/dashboard/preferences/subscriptions/