From mboxrd@z Thu Jan  1 00:00:00 1970
Return-Path: <test-report-bounces@dpdk.org>
Received: from mails.dpdk.org (mails.dpdk.org [217.70.189.124])
	by inbox.dpdk.org (Postfix) with ESMTP id 9F5E443CE8
	for <public@inbox.dpdk.org>; Mon, 18 Mar 2024 23:59:31 +0100 (CET)
Received: from mails.dpdk.org (localhost [127.0.0.1])
	by mails.dpdk.org (Postfix) with ESMTP id 9B0634067C;
	Mon, 18 Mar 2024 23:59:31 +0100 (CET)
Received: from mail-yw1-f227.google.com (mail-yw1-f227.google.com
 [209.85.128.227])
 by mails.dpdk.org (Postfix) with ESMTP id 5653E40299
 for <test-report@dpdk.org>; Mon, 18 Mar 2024 23:59:25 +0100 (CET)
Received: by mail-yw1-f227.google.com with SMTP id
 00721157ae682-60a0579a955so58477707b3.3
 for <test-report@dpdk.org>; Mon, 18 Mar 2024 15:59:25 -0700 (PDT)
DKIM-Signature: v=1; a=rsa-sha256; c=relaxed/relaxed;
 d=iol.unh.edu; s=unh-iol; t=1710802765; x=1711407565; darn=dpdk.org;
 h=references:in-reply-to:cc:to:from:subject:message-id:date:from:to
 :cc:subject:date:message-id:reply-to;
 bh=mricdEnklA7CbSJJ6GvjaZRoZ8ElsQ4PgLBUsCyEmVI=;
 b=K/srfP+k92Mg1QcG5BWEKtzs7wd9Vub0fpcPFgLt+jpHT+6UAuT7dgYL2luaWpk8wm
 +pg6lRuLmqO2SRjpmLBzb8mBB58Ch4ezXQMVwyTIgC7aoXp6+ytjP457OJevZarBxzZd
 eKGmFEnL1W654Dt3M5JQcFwBeTJItY3V3idRE=
X-Google-DKIM-Signature: v=1; a=rsa-sha256; c=relaxed/relaxed;
 d=1e100.net; s=20230601; t=1710802765; x=1711407565;
 h=references:in-reply-to:cc:to:from:subject:message-id:date
 :x-gm-message-state:from:to:cc:subject:date:message-id:reply-to;
 bh=mricdEnklA7CbSJJ6GvjaZRoZ8ElsQ4PgLBUsCyEmVI=;
 b=IcohjGVWTdgMZ5WhT4pgA+yEw4n/gsx8DAtp3nCjlKoYEFsx6EIcVYPsSPyPF5aS5K
 P2vUcLExkySrx2npmGTh+7jzl/fzh1R3AxE5GVvvljnLVrNtxlvNoVUzEKNZDXbjW7+y
 gDOvzeCRkQ/6HaaKWoVAhBqBhbkidlj0mPq9MOlckbcSCPUujbb4qwkCHYfmKyVXA51G
 e3oqTU37yHKIf2gJtfFdOZ540+rsJNmFG35lu0/xsHkeKh9x+BBY1lD4UHVlqrK4g/KF
 JJZ7iA2Lx+Mz75DP+8WMiJrldqP1wmoxfgnjAInR1QljsBuVHbw4I124GUDfv4Vtg76/
 GRLg==
X-Gm-Message-State: AOJu0YzAHpVDpah13Ijwtk3e+FgZDJJ+rG8DRWg1uaBbTgFy8os9wery
 pNadMtwzV4ru4vdUDtqfHA8zssjZjWXR/lMQPuh1faW/g53547btHWxoZB9AyY8MilrAMiTgYR8
 3qq1O1shnsYrZDF7H3jYm/N4XqZ9Wi1XPLKK6UHbCTfjSareSPoj6qIbp
X-Google-Smtp-Source: AGHT+IFKCGcxo6wbX0D1rjhqz6OVdgJN4UrhtYL4vTPSwmYz2jhoj4CT77hT+lC6Sz1Ft13VU7CjAo6fyAM1
X-Received: by 2002:a05:690c:2e0e:b0:610:e34e:1184 with SMTP id
 et14-20020a05690c2e0e00b00610e34e1184mr116789ywb.7.1710802764839; 
 Mon, 18 Mar 2024 15:59:24 -0700 (PDT)
Received: from postal.iol.unh.edu (postal.iol.unh.edu.
 [2606:4100:3880:1234::84]) by smtp-relay.gmail.com with ESMTPS id
 g204-20020a0dddd5000000b0060ac64d1288sm751800ywe.6.2024.03.18.15.59.24
 (version=TLS1_2 cipher=ECDHE-ECDSA-AES128-GCM-SHA256 bits=128/128);
 Mon, 18 Mar 2024 15:59:24 -0700 (PDT)
X-Relaying-Domain: iol.unh.edu
Date: Mon, 18 Mar 2024 15:59:24 -0700 (PDT)
Message-ID: <65f8c74c.0d0a0220.ac150.4d1bSMTPIN_ADDED_MISSING@mx.google.com>
Received: from [172.17.0.6] (unknown [172.18.0.217])
 by postal.iol.unh.edu (Postfix) with ESMTP id 5C2166052471;
 Mon, 18 Mar 2024 18:59:24 -0400 (EDT)
Subject: |SUCCESS| pw138472-138476 [PATCH] [v9,5/5] eal: add option to put ti
From: dpdklab@iol.unh.edu
To: Test Report <test-report@dpdk.org>
Cc: dpdk-test-reports@iol.unh.edu
In-Reply-To: <20240318220432.7486-6-stephen@networkplumber.org>
References: <20240318220432.7486-6-stephen@networkplumber.org>
Content-Type: text/plain
X-BeenThere: test-report@dpdk.org
X-Mailman-Version: 2.1.29
Precedence: list
List-Id: automatic DPDK test reports <test-report.dpdk.org>
List-Unsubscribe: <https://mails.dpdk.org/options/test-report>,
 <mailto:test-report-request@dpdk.org?subject=unsubscribe>
List-Archive: <http://mails.dpdk.org/archives/test-report/>
List-Post: <mailto:test-report@dpdk.org>
List-Help: <mailto:test-report-request@dpdk.org?subject=help>
List-Subscribe: <https://mails.dpdk.org/listinfo/test-report>,
 <mailto:test-report-request@dpdk.org?subject=subscribe>
Errors-To: test-report-bounces@dpdk.org

Test-Label: iol-compile-arm64-testing
Test-Status: SUCCESS
http://dpdk.org/patch/138476

_Testing PASS_

Submitter: Stephen Hemminger <stephen@networkplumber.org>
Date: Monday, March 18 2024 22:03:01 
DPDK git baseline: Repo:dpdk
  Branch: master
  CommitID:80ecef6d1f71fcebc0a51d7cabc51f73ee142ff2

138472-138476 --> testing pass

Test environment and result as below:

+----------------------------------------+--------------------+
|              Environment               | dpdk_meson_compile |
+========================================+====================+
| Ubuntu 20.04 ARM SVE                   | PASS               |
+----------------------------------------+--------------------+
| Debian 12 with MUSDK                   | PASS               |
+----------------------------------------+--------------------+
| Ubuntu 20.04 aarch32 GCC Cross Compile | PASS               |
+----------------------------------------+--------------------+
| Fedora 37 (ARM)                        | PASS               |
+----------------------------------------+--------------------+
| Fedora 38 (ARM)                        | PASS               |
+----------------------------------------+--------------------+
| Ubuntu 20.04 (ARM)                     | PASS               |
+----------------------------------------+--------------------+
| Debian 11 (Buster) (ARM)               | PASS               |
+----------------------------------------+--------------------+
| CentOS Stream 9 (ARM)                  | PASS               |
+----------------------------------------+--------------------+
| Debian 12 (arm)                        | PASS               |
+----------------------------------------+--------------------+


Ubuntu 20.04 ARM SVE
	Kernel: 5.4.0-167-generic
	Compiler: gcc (Ubuntu 10.5.0-1ubuntu1~20.04) 10.5.0

Debian 12 with MUSDK
	Kernel: Container Host Kernel
	Compiler: gcc 12.2.0

Ubuntu 20.04 aarch32 GCC Cross Compile
	Kernel: 5.4.0-167-generic
	Compiler: gcc 9.4.0

Fedora 37 (ARM)
	Kernel: Depends on container host
	Compiler: gcc 12.3.1

Fedora 38 (ARM)
	Kernel: Depends on container host
	Compiler: gcc 13.2.1

Ubuntu 20.04 (ARM)
	Kernel: Container Host Kernel
	Compiler: gcc 9.4.0

Debian 11 (Buster) (ARM)
	Kernel: Container Host Kernel
	Compiler: gcc 10.2.1

CentOS Stream 9 (ARM)
	Kernel: Container Host Kernel
	Compiler: gcc 11.4.1

Debian 12 (arm)
	Kernel: Container Host Kernel
	Compiler: gcc 11

To view detailed results, visit:
https://lab.dpdk.org/results/dashboard/patchsets/29589/

UNH-IOL DPDK Community Lab

To manage your email subscriptions, visit: 
https://lab.dpdk.org/results/dashboard/preferences/subscriptions/