From mboxrd@z Thu Jan  1 00:00:00 1970
Return-Path: <test-report-bounces@dpdk.org>
Received: from mails.dpdk.org (mails.dpdk.org [217.70.189.124])
	by inbox.dpdk.org (Postfix) with ESMTP id 96E7C43CEB
	for <public@inbox.dpdk.org>; Tue, 19 Mar 2024 00:04:20 +0100 (CET)
Received: from mails.dpdk.org (localhost [127.0.0.1])
	by mails.dpdk.org (Postfix) with ESMTP id 86B394028A;
	Tue, 19 Mar 2024 00:04:20 +0100 (CET)
Received: from mail-io1-f98.google.com (mail-io1-f98.google.com
 [209.85.166.98]) by mails.dpdk.org (Postfix) with ESMTP id D504D40281
 for <test-report@dpdk.org>; Tue, 19 Mar 2024 00:04:16 +0100 (CET)
Received: by mail-io1-f98.google.com with SMTP id
 ca18e2360f4ac-7cc0e0dba0fso55223139f.3
 for <test-report@dpdk.org>; Mon, 18 Mar 2024 16:04:16 -0700 (PDT)
DKIM-Signature: v=1; a=rsa-sha256; c=relaxed/relaxed;
 d=iol.unh.edu; s=unh-iol; t=1710803056; x=1711407856; darn=dpdk.org;
 h=references:in-reply-to:cc:to:from:subject:message-id:date:from:to
 :cc:subject:date:message-id:reply-to;
 bh=h4gd/XmaCRYnRMC//WabuDojuq4uLMKSqd3JUlnAOoE=;
 b=CwZQ+6V9yP7RQe38Vj0d6A5mxr42icILCCxSyJdmwbbSBfLA8nfdqcPKi8tZbdK24D
 kgHiyjhRDAOkhj0grRrp8nsnGhUzjcUG2x5mikY4DrurBmaHSFPMp7NCWxbGzZKf/IyC
 uty+/lA+enW9t7HiCL8CuvBt7J2G+S/Ha2RVg=
X-Google-DKIM-Signature: v=1; a=rsa-sha256; c=relaxed/relaxed;
 d=1e100.net; s=20230601; t=1710803056; x=1711407856;
 h=references:in-reply-to:cc:to:from:subject:message-id:date
 :x-gm-message-state:from:to:cc:subject:date:message-id:reply-to;
 bh=h4gd/XmaCRYnRMC//WabuDojuq4uLMKSqd3JUlnAOoE=;
 b=vwV5IDlA7QGv5PP1EfEo1tEY0t6mQSy6ktdVB9EvJGVs+NqxgwIC2LR+Mh5X76Hclq
 R05tXPkw/XIrV4n9WSRKjNpdQyedjUd7FrW/hfA4xcbFw9UC5c+H/6LHHrD+8Ta39BeO
 cm4hVy7mK6DhfUxVQckiikcSVgOjcEDEl99UOiHnxu/wN//CcdD5LfUqEU23hfxvyHBp
 luOJ/g2dX/3XFb2KsrlZ8eNkHPCkdBo0wKtfUZZdXccviSdQ+xUE1bglq6kUdUhSjnwG
 tS7MFtG35u/NNsxC848bS9GAEevs6O0Vab3zQQ/nSBnEdG4zu4TO9pBMHvdu793O+Zz9
 jN4g==
X-Gm-Message-State: AOJu0Yzd75qyq6PwtS8Q5o5mswu8h8wEO1c6p3wy15KKvUoXzMvQGQnA
 MJQfj1qYWxLJr+Q84jG+Gr7Mjlfd1B9r4XlM5Stf8ZSEyw60Y8gZubwVyOSP/g+jYK9gg8lRrrr
 ac+TSaLupkl6+ry+SHu4n5sdFIu7MNgPfLIGaXBJ/cz9Fg1y72Xl/ZLWY
X-Google-Smtp-Source: AGHT+IH1tatqNk9bhKGroI4saRbeF1/mZ6/9OZvWCiUI6+R3S3VukOSK6W73oeCORYN+NZ6LjAzLYnJlueio
X-Received: by 2002:a05:6602:587:b0:7cc:6ae5:910b with SMTP id
 v7-20020a056602058700b007cc6ae5910bmr779830iox.14.1710803056320; 
 Mon, 18 Mar 2024 16:04:16 -0700 (PDT)
Received: from postal.iol.unh.edu (postal.iol.unh.edu.
 [2606:4100:3880:1234::84]) by smtp-relay.gmail.com with ESMTPS id
 g8-20020a05663811c800b004773a3eb465sm241226jas.6.2024.03.18.16.04.16
 (version=TLS1_2 cipher=ECDHE-ECDSA-AES128-GCM-SHA256 bits=128/128);
 Mon, 18 Mar 2024 16:04:16 -0700 (PDT)
X-Relaying-Domain: iol.unh.edu
Date: Mon, 18 Mar 2024 16:04:16 -0700 (PDT)
Message-ID: <65f8c870.050a0220.b3b71.feb4SMTPIN_ADDED_MISSING@mx.google.com>
Received: from [172.21.0.6] (unknown [172.18.0.240])
 by postal.iol.unh.edu (Postfix) with ESMTP id D61356052471;
 Mon, 18 Mar 2024 19:04:15 -0400 (EDT)
Subject: |SUCCESS| pw138472-138476 [PATCH] [v9,5/5] eal: add option to put ti
From: dpdklab@iol.unh.edu
To: Test Report <test-report@dpdk.org>
Cc: dpdk-test-reports@iol.unh.edu
In-Reply-To: <20240318220432.7486-6-stephen@networkplumber.org>
References: <20240318220432.7486-6-stephen@networkplumber.org>
Content-Type: text/plain
X-BeenThere: test-report@dpdk.org
X-Mailman-Version: 2.1.29
Precedence: list
List-Id: automatic DPDK test reports <test-report.dpdk.org>
List-Unsubscribe: <https://mails.dpdk.org/options/test-report>,
 <mailto:test-report-request@dpdk.org?subject=unsubscribe>
List-Archive: <http://mails.dpdk.org/archives/test-report/>
List-Post: <mailto:test-report@dpdk.org>
List-Help: <mailto:test-report-request@dpdk.org?subject=help>
List-Subscribe: <https://mails.dpdk.org/listinfo/test-report>,
 <mailto:test-report-request@dpdk.org?subject=subscribe>
Errors-To: test-report-bounces@dpdk.org

Test-Label: iol-unit-arm64-testing
Test-Status: SUCCESS
http://dpdk.org/patch/138476

_Testing PASS_

Submitter: Stephen Hemminger <stephen@networkplumber.org>
Date: Monday, March 18 2024 22:03:01 
DPDK git baseline: Repo:dpdk
  Branch: master
  CommitID:80ecef6d1f71fcebc0a51d7cabc51f73ee142ff2

138472-138476 --> testing pass

Test environment and result as below:

+--------------------------+---------------------------+------------------------------+----------------+--------------+
|       Environment        | cryptodev_sw_zuc_autotest | cryptodev_sw_snow3g_autotest | dpdk_unit_test | lpm_autotest |
+==========================+===========================+==============================+================+==============+
| Debian 12 (arm)          | PASS                      | PASS                         | PASS           | SKIPPED      |
+--------------------------+---------------------------+------------------------------+----------------+--------------+
| Debian 11 (Buster) (ARM) | SKIPPED                   | SKIPPED                      | PASS           | SKIPPED      |
+--------------------------+---------------------------+------------------------------+----------------+--------------+
| CentOS Stream 9 (ARM)    | SKIPPED                   | SKIPPED                      | PASS           | SKIPPED      |
+--------------------------+---------------------------+------------------------------+----------------+--------------+
| Fedora 38 (ARM)          | SKIPPED                   | SKIPPED                      | PASS           | SKIPPED      |
+--------------------------+---------------------------+------------------------------+----------------+--------------+
| Ubuntu 20.04 ARM SVE     | SKIPPED                   | SKIPPED                      | SKIPPED        | PASS         |
+--------------------------+---------------------------+------------------------------+----------------+--------------+


Debian 12 (arm)
	Kernel: Container Host Kernel
	Compiler: gcc 12.2.0

Debian 11 (Buster) (ARM)
	Kernel: Container Host Kernel
	Compiler: gcc 10.2.1

CentOS Stream 9 (ARM)
	Kernel: Container Host Kernel
	Compiler: gcc 11.4.1

Fedora 38 (ARM)
	Kernel: Depends on container host
	Compiler: gcc 13.2.1

Ubuntu 20.04 ARM SVE
	Kernel: 5.4.0-167-generic
	Compiler: gcc (Ubuntu 10.5.0-1ubuntu1~20.04) 10.5.0

To view detailed results, visit:
https://lab.dpdk.org/results/dashboard/patchsets/29589/

UNH-IOL DPDK Community Lab

To manage your email subscriptions, visit: 
https://lab.dpdk.org/results/dashboard/preferences/subscriptions/