From mboxrd@z Thu Jan  1 00:00:00 1970
Return-Path: <test-report-bounces@dpdk.org>
Received: from mails.dpdk.org (mails.dpdk.org [217.70.189.124])
	by inbox.dpdk.org (Postfix) with ESMTP id 3313743CEB
	for <public@inbox.dpdk.org>; Tue, 19 Mar 2024 00:06:14 +0100 (CET)
Received: from mails.dpdk.org (localhost [127.0.0.1])
	by mails.dpdk.org (Postfix) with ESMTP id 2F8624028A;
	Tue, 19 Mar 2024 00:06:14 +0100 (CET)
Received: from mail-qv1-f99.google.com (mail-qv1-f99.google.com
 [209.85.219.99]) by mails.dpdk.org (Postfix) with ESMTP id 329A840281
 for <test-report@dpdk.org>; Tue, 19 Mar 2024 00:06:13 +0100 (CET)
Received: by mail-qv1-f99.google.com with SMTP id
 6a1803df08f44-69625f89aa2so6265196d6.3
 for <test-report@dpdk.org>; Mon, 18 Mar 2024 16:06:13 -0700 (PDT)
DKIM-Signature: v=1; a=rsa-sha256; c=relaxed/relaxed;
 d=iol.unh.edu; s=unh-iol; t=1710803172; x=1711407972; darn=dpdk.org;
 h=references:in-reply-to:cc:to:from:subject:message-id:date:from:to
 :cc:subject:date:message-id:reply-to;
 bh=fIlgyi+mIwi4oeyYp9oGgTwZacOzvAxRzZDSE+eu7Ck=;
 b=ICKDPZJiytci/j6S7xpibNvGxG9f485XS7Rwx2nWnurfWCheVflEB1VtpiDCqV2VIG
 s5YBuJbOJL2bMhmX0MKUClkr0GlOZzlIfOjfMjVd6F/s8l6NW9gVTgyhGiSfzyx4z6fH
 lDj78PngCZXfko1H7zcJmSytaoSL8T5kyMZ1c=
X-Google-DKIM-Signature: v=1; a=rsa-sha256; c=relaxed/relaxed;
 d=1e100.net; s=20230601; t=1710803172; x=1711407972;
 h=references:in-reply-to:cc:to:from:subject:message-id:date
 :x-gm-message-state:from:to:cc:subject:date:message-id:reply-to;
 bh=fIlgyi+mIwi4oeyYp9oGgTwZacOzvAxRzZDSE+eu7Ck=;
 b=nJh6YNxeMvcYgYx/nxHePgDxIslZwDK5sZVtt2TmyAhA0VcOjxj5CKBY3v+UX3U6oG
 gIBJZWlVmoTyQqxNW8leHAIGtzXndX7lYnxpOsm9tKygWI6HYAjPvdB/t7PPjk8Vx+Zt
 punA+VFjZ7L2jYyZdLJ3DY224NmDVyN3Jox8Cmo92CpBMwxeGxrcu6pA1iGKC181LzLD
 QGE/ts2r4BrV7GN5YXr+GP/kYtRsvHnkawpq5EtOCXrA9HsBai3RjEC7JxajtynlPFy6
 +ks/ksZpwIxFVLqFO8caKruc9oDLeh6A27WsKn94ioD94Z8woWCN/RGhHRtnH8OLj1Ls
 hTIQ==
X-Gm-Message-State: AOJu0YxCySW2pwTWQPdvSdCyJBXPC9+uitvWQ/uZm3M6owo6pd3UMmnX
 mHdYkldXBL1H3Sz0/friKCEvJaVCCk/o6PKJmm7gxFL7n8a90DbLe2PBsANrWzTl1vgFNHY4y1q
 ddQKYD0A4i6JaaXstlF3RDv4DVelFQ5arbLcMrz9Zo/Kqo1tLagKazoG7
X-Google-Smtp-Source: AGHT+IHRE3wSuF/D9x79a3VwOf3L3LWsIEM0hXzpDFj486IpXYdfgdkDMHHWgQ0nO4XEhBuKNY/B7kFD51dy
X-Received: by 2002:a05:6214:5605:b0:691:59ad:ff48 with SMTP id
 mg5-20020a056214560500b0069159adff48mr849104qvb.28.1710803172631; 
 Mon, 18 Mar 2024 16:06:12 -0700 (PDT)
Received: from postal.iol.unh.edu (postal.iol.unh.edu.
 [2606:4100:3880:1234::84]) by smtp-relay.gmail.com with ESMTPS id
 kc13-20020a056214410d00b006915412d653sm581998qvb.47.2024.03.18.16.06.12
 (version=TLS1_2 cipher=ECDHE-ECDSA-AES128-GCM-SHA256 bits=128/128);
 Mon, 18 Mar 2024 16:06:12 -0700 (PDT)
X-Relaying-Domain: iol.unh.edu
Date: Mon, 18 Mar 2024 16:06:12 -0700 (PDT)
Message-ID: <65f8c8e4.050a0220.c0edc.76baSMTPIN_ADDED_MISSING@mx.google.com>
Received: from [172.21.0.7] (unknown [172.18.0.240])
 by postal.iol.unh.edu (Postfix) with ESMTP id 55FB76052471;
 Mon, 18 Mar 2024 19:06:12 -0400 (EDT)
Subject: |SUCCESS| pw138472-138476 [PATCH] [v9,5/5] eal: add option to put ti
From: dpdklab@iol.unh.edu
To: Test Report <test-report@dpdk.org>
Cc: dpdk-test-reports@iol.unh.edu
In-Reply-To: <20240318220432.7486-6-stephen@networkplumber.org>
References: <20240318220432.7486-6-stephen@networkplumber.org>
Content-Type: text/plain
X-BeenThere: test-report@dpdk.org
X-Mailman-Version: 2.1.29
Precedence: list
List-Id: automatic DPDK test reports <test-report.dpdk.org>
List-Unsubscribe: <https://mails.dpdk.org/options/test-report>,
 <mailto:test-report-request@dpdk.org?subject=unsubscribe>
List-Archive: <http://mails.dpdk.org/archives/test-report/>
List-Post: <mailto:test-report@dpdk.org>
List-Help: <mailto:test-report-request@dpdk.org?subject=help>
List-Subscribe: <https://mails.dpdk.org/listinfo/test-report>,
 <mailto:test-report-request@dpdk.org?subject=subscribe>
Errors-To: test-report-bounces@dpdk.org

Test-Label: iol-unit-arm64-testing
Test-Status: SUCCESS
http://dpdk.org/patch/138476

_Testing PASS_

Submitter: Stephen Hemminger <stephen@networkplumber.org>
Date: Monday, March 18 2024 22:03:01 
DPDK git baseline: Repo:dpdk
  Branch: master
  CommitID:80ecef6d1f71fcebc0a51d7cabc51f73ee142ff2

138472-138476 --> testing pass

Test environment and result as below:

+--------------------------+---------------------------+------------------------------+----------------+--------------+
|       Environment        | cryptodev_sw_zuc_autotest | cryptodev_sw_snow3g_autotest | dpdk_unit_test | lpm_autotest |
+==========================+===========================+==============================+================+==============+
| Debian 12 (arm)          | PASS                      | PASS                         | PASS           | SKIPPED      |
+--------------------------+---------------------------+------------------------------+----------------+--------------+
| Debian 11 (Buster) (ARM) | SKIPPED                   | SKIPPED                      | PASS           | SKIPPED      |
+--------------------------+---------------------------+------------------------------+----------------+--------------+
| CentOS Stream 9 (ARM)    | SKIPPED                   | SKIPPED                      | PASS           | SKIPPED      |
+--------------------------+---------------------------+------------------------------+----------------+--------------+
| Fedora 38 (ARM)          | SKIPPED                   | SKIPPED                      | PASS           | SKIPPED      |
+--------------------------+---------------------------+------------------------------+----------------+--------------+
| Fedora 37 (ARM)          | SKIPPED                   | SKIPPED                      | PASS           | SKIPPED      |
+--------------------------+---------------------------+------------------------------+----------------+--------------+
| Ubuntu 20.04 ARM SVE     | SKIPPED                   | SKIPPED                      | SKIPPED        | PASS         |
+--------------------------+---------------------------+------------------------------+----------------+--------------+


Debian 12 (arm)
	Kernel: Container Host Kernel
	Compiler: gcc 12.2.0

Debian 11 (Buster) (ARM)
	Kernel: Container Host Kernel
	Compiler: gcc 10.2.1

CentOS Stream 9 (ARM)
	Kernel: Container Host Kernel
	Compiler: gcc 11.4.1

Fedora 38 (ARM)
	Kernel: Depends on container host
	Compiler: gcc 13.2.1

Fedora 37 (ARM)
	Kernel: Depends on container host
	Compiler: gcc 12.3.1

Ubuntu 20.04 ARM SVE
	Kernel: 5.4.0-167-generic
	Compiler: gcc (Ubuntu 10.5.0-1ubuntu1~20.04) 10.5.0

To view detailed results, visit:
https://lab.dpdk.org/results/dashboard/patchsets/29589/

UNH-IOL DPDK Community Lab

To manage your email subscriptions, visit: 
https://lab.dpdk.org/results/dashboard/preferences/subscriptions/