From mboxrd@z Thu Jan  1 00:00:00 1970
Return-Path: <test-report-bounces@dpdk.org>
Received: from mails.dpdk.org (mails.dpdk.org [217.70.189.124])
	by inbox.dpdk.org (Postfix) with ESMTP id 4F48443CF6
	for <public@inbox.dpdk.org>; Tue, 19 Mar 2024 08:13:12 +0100 (CET)
Received: from mails.dpdk.org (localhost [127.0.0.1])
	by mails.dpdk.org (Postfix) with ESMTP id 4A9304028A;
	Tue, 19 Mar 2024 08:13:12 +0100 (CET)
Received: from mail-io1-f99.google.com (mail-io1-f99.google.com
 [209.85.166.99]) by mails.dpdk.org (Postfix) with ESMTP id B7A764021E
 for <test-report@dpdk.org>; Tue, 19 Mar 2024 08:12:59 +0100 (CET)
Received: by mail-io1-f99.google.com with SMTP id
 ca18e2360f4ac-7c7476a11e0so146818339f.3
 for <test-report@dpdk.org>; Tue, 19 Mar 2024 00:12:59 -0700 (PDT)
DKIM-Signature: v=1; a=rsa-sha256; c=relaxed/relaxed;
 d=iol.unh.edu; s=unh-iol; t=1710832379; x=1711437179; darn=dpdk.org;
 h=references:in-reply-to:cc:to:from:subject:message-id:date:from:to
 :cc:subject:date:message-id:reply-to;
 bh=PgFNt6biOBo+FYxL3Is3C7r+TMUTwseHHzi9KCcGc2Y=;
 b=LtWmcsBXYoBJlJV0rhhGLsuApMf7wQA2eqjkYvU7qb9yr+riVlSe5ivmCpn8uXY9Fh
 f2VWKHTbXmcJ5k2l6uoF8RtXzuJIvqBZLcK26JpmSL0Zq4hBNrIOtSlbPXVFL8EJOla5
 PFI8/62bGDGWg5UXJlZ9ol0S6VzM7CMZ5z7ko=
X-Google-DKIM-Signature: v=1; a=rsa-sha256; c=relaxed/relaxed;
 d=1e100.net; s=20230601; t=1710832379; x=1711437179;
 h=references:in-reply-to:cc:to:from:subject:message-id:date
 :x-gm-message-state:from:to:cc:subject:date:message-id:reply-to;
 bh=PgFNt6biOBo+FYxL3Is3C7r+TMUTwseHHzi9KCcGc2Y=;
 b=nTVqwufpie6M9EvcLEKztj2vVUrdigjMdelJvQlRmE3VGJfueXMLBB77L9EFhoOZRu
 qW9kZzobn9haEjK/JRVe0L8BSIUEb0fduKEd6o8kV1UWmvv+sPpoAji5xWcRijxRCoHt
 s8MtXaNILxK5SCjJoIbVut7qtJzaoZywi029vUz1XILHO5adGSd1JuDL6BK7mg1/h33r
 kblVghxVi1I2sPgsj7V2qLJ6KZ3EeDMVOdIwXZoajSddU2V2PinGa818df95J99cVVuR
 nSuoplIaSSfmVuknp1zobHzTaln4D9mUI025Znrm03XU/dCetNcyuZ47sAsQkdQ4kcfg
 bsjQ==
X-Gm-Message-State: AOJu0Yw/e7AUiP2SPl0sJAxhB/gg5frJrEMYexFPTFBgH9p7Muh7E6Ht
 NDqOda02gSJwIm/wrzQoXZ6BBjBMyK9I+Ci23wtpmN6cEU/e4s89bEhjtYNIXl9nmdgf/XQ5JaZ
 hm+PFEmCK3fJUzbRHWCvs8sLraq4rNAjjvtgTlUd3NJE7pRaYic/yiD4I
X-Google-Smtp-Source: AGHT+IG3qhBKFUMu0ASFMkHCSxLrdr4Zk/PyuE8vr0650ySDmonoUc5Yw3tCyIdgsaOK5fewI2i7hLoGz6wc
X-Received: by 2002:a05:6e02:13e3:b0:366:4b49:d412 with SMTP id
 w3-20020a056e0213e300b003664b49d412mr14159397ilj.29.1710832379200; 
 Tue, 19 Mar 2024 00:12:59 -0700 (PDT)
Received: from postal.iol.unh.edu (postal.iol.unh.edu.
 [2606:4100:3880:1234::84]) by smtp-relay.gmail.com with ESMTPS id
 g8-20020a92c7c8000000b0036639048980sm578914ilk.7.2024.03.19.00.12.59
 (version=TLS1_2 cipher=ECDHE-ECDSA-AES128-GCM-SHA256 bits=128/128);
 Tue, 19 Mar 2024 00:12:59 -0700 (PDT)
X-Relaying-Domain: iol.unh.edu
Date: Tue, 19 Mar 2024 00:12:59 -0700 (PDT)
Message-ID: <65f93afb.920a0220.5e666.9807SMTPIN_ADDED_MISSING@mx.google.com>
Received: from [172.17.0.8] (unknown [172.18.0.217])
 by postal.iol.unh.edu (Postfix) with ESMTP id B3FDF6052471;
 Tue, 19 Mar 2024 03:12:58 -0400 (EDT)
Subject: |SUCCESS| pw138477 [PATCH] graph: fix head move when graph walk in m
From: dpdklab@iol.unh.edu
To: Test Report <test-report@dpdk.org>
Cc: dpdk-test-reports@iol.unh.edu
In-Reply-To: <20240319141454.3275543-1-jingjing.wu@intel.com>
References: <20240319141454.3275543-1-jingjing.wu@intel.com>
Content-Type: text/plain
X-BeenThere: test-report@dpdk.org
X-Mailman-Version: 2.1.29
Precedence: list
List-Id: automatic DPDK test reports <test-report.dpdk.org>
List-Unsubscribe: <https://mails.dpdk.org/options/test-report>,
 <mailto:test-report-request@dpdk.org?subject=unsubscribe>
List-Archive: <http://mails.dpdk.org/archives/test-report/>
List-Post: <mailto:test-report@dpdk.org>
List-Help: <mailto:test-report-request@dpdk.org?subject=help>
List-Subscribe: <https://mails.dpdk.org/listinfo/test-report>,
 <mailto:test-report-request@dpdk.org?subject=subscribe>
Errors-To: test-report-bounces@dpdk.org

Test-Label: iol-compile-amd64-testing
Test-Status: SUCCESS
http://dpdk.org/patch/138477

_Testing PASS_

Submitter: Jingjing Wu <jingjing.wu@intel.com>
Date: Tuesday, March 19 2024 14:14:54 
DPDK git baseline: Repo:dpdk
  Branch: master
  CommitID:80ecef6d1f71fcebc0a51d7cabc51f73ee142ff2

138477 --> testing pass

Test environment and result as below:

+---------------------+--------------------+----------------------+
|     Environment     | dpdk_meson_compile | dpdk_mingw64_compile |
+=====================+====================+======================+
| Debian Bullseye     | PASS               | SKIPPED              |
+---------------------+--------------------+----------------------+
| CentOS Stream 9     | PASS               | SKIPPED              |
+---------------------+--------------------+----------------------+
| CentOS Stream 8     | PASS               | SKIPPED              |
+---------------------+--------------------+----------------------+
| Debian 11 (arm)     | PASS               | SKIPPED              |
+---------------------+--------------------+----------------------+
| Fedora 37           | PASS               | SKIPPED              |
+---------------------+--------------------+----------------------+
| Windows Server 2019 | PASS               | PASS                 |
+---------------------+--------------------+----------------------+
| Windows Server 2022 | PASS               | PASS                 |
+---------------------+--------------------+----------------------+
| FreeBSD 13.2        | PASS               | SKIPPED              |
+---------------------+--------------------+----------------------+
| Ubuntu 20.04        | PASS               | SKIPPED              |
+---------------------+--------------------+----------------------+
| Ubuntu 22.04        | PASS               | SKIPPED              |
+---------------------+--------------------+----------------------+
| Fedora 38           | PASS               | SKIPPED              |
+---------------------+--------------------+----------------------+
| Alpine              | PASS               | SKIPPED              |
+---------------------+--------------------+----------------------+
| RHEL8               | PASS               | SKIPPED              |
+---------------------+--------------------+----------------------+
| openSUSE Leap 15    | PASS               | SKIPPED              |
+---------------------+--------------------+----------------------+


Debian Bullseye
	Kernel: 5.4.0-167-generic
	Compiler: gcc 10.2.1-6

CentOS Stream 9
	Kernel: 5.4.0-167-generic
	Compiler: gcc 11.4.1 20230605

CentOS Stream 8
	Kernel: 5.4.0-167-generic
	Compiler: gcc 8.5.0 20210514

Debian 11 (arm)
	Kernel: Container Host Kernel
	Compiler: gcc 10.2.1

Fedora 37
	Kernel: Depends on container host system
	Compiler: gcc 12.3.1

Windows Server 2019
	Kernel: 10.0.17763
	Compiler: clang 14.0 and gcc 8.1.0 (MinGW)

Windows Server 2022
	Kernel: 10.0.20348.2031
	Compiler: clang 15.0.7, gcc 8.1.0 (MinGW), and MSVC VS 17.9

FreeBSD 13.2
	Kernel: 13.2
	Compiler: clang 14.0.5

Ubuntu 20.04
	Kernel: 5.4.0-167-generic
	Compiler: gcc 9.4.0-1ubuntu1~20.04.1

Ubuntu 22.04
	Kernel: 5.4.0-167-generic
	Compiler: gcc 11.4.0

Fedora 38
	Kernel: Depends on container host
	Compiler: gcc 13.2.1

Alpine
	Kernel: 5.4.0-167-generic
	Compiler: gcc (Alpine 12.2.1_git20220924-r10) 12.2.1 20220924

RHEL8
	Kernel: 5.4.0-167-generic
	Compiler: gcc 8.5.0 20210514 (Red Hat 8.5.0-20)

openSUSE Leap 15
	Kernel: 5.4.0-167-generic
	Compiler: gcc 7.5.0

To view detailed results, visit:
https://lab.dpdk.org/results/dashboard/patchsets/29590/

UNH-IOL DPDK Community Lab

To manage your email subscriptions, visit: 
https://lab.dpdk.org/results/dashboard/preferences/subscriptions/