From mboxrd@z Thu Jan  1 00:00:00 1970
Return-Path: <test-report-bounces@dpdk.org>
Received: from mails.dpdk.org (mails.dpdk.org [217.70.189.124])
	by inbox.dpdk.org (Postfix) with ESMTP id 12C9643CF6
	for <public@inbox.dpdk.org>; Tue, 19 Mar 2024 08:14:18 +0100 (CET)
Received: from mails.dpdk.org (localhost [127.0.0.1])
	by mails.dpdk.org (Postfix) with ESMTP id 0E66240DDB;
	Tue, 19 Mar 2024 08:14:18 +0100 (CET)
Received: from mail-oo1-f100.google.com (mail-oo1-f100.google.com
 [209.85.161.100])
 by mails.dpdk.org (Postfix) with ESMTP id 7DDA84021E
 for <test-report@dpdk.org>; Tue, 19 Mar 2024 08:14:12 +0100 (CET)
Received: by mail-oo1-f100.google.com with SMTP id
 006d021491bc7-5a4a2d99598so1131709eaf.2
 for <test-report@dpdk.org>; Tue, 19 Mar 2024 00:14:12 -0700 (PDT)
DKIM-Signature: v=1; a=rsa-sha256; c=relaxed/relaxed;
 d=iol.unh.edu; s=unh-iol; t=1710832452; x=1711437252; darn=dpdk.org;
 h=references:in-reply-to:cc:to:from:subject:message-id:date:from:to
 :cc:subject:date:message-id:reply-to;
 bh=HAGzuAl3P0KQ+CMVoj9wmuOcqqBYIqDhoXt9hwGPnIE=;
 b=VtFjDHQs7LB4jgNxBWqBDmEKPQpBuzOo5vg1exNpDvP3o8TqjBa7UkvC+0NEsgf4ia
 tMkFVNdKAoYsu1kCVDoy1EYL8y4Tk2PdMmdq4+biuXe8xeXUTqEfKGWotxMpZSONHPfH
 KHEBuLrEEL2hAp6dzuwdkb6UKXiQY7SxQvxhc=
X-Google-DKIM-Signature: v=1; a=rsa-sha256; c=relaxed/relaxed;
 d=1e100.net; s=20230601; t=1710832452; x=1711437252;
 h=references:in-reply-to:cc:to:from:subject:message-id:date
 :x-gm-message-state:from:to:cc:subject:date:message-id:reply-to;
 bh=HAGzuAl3P0KQ+CMVoj9wmuOcqqBYIqDhoXt9hwGPnIE=;
 b=q60ydRyBnydXmIDCLnlwbT5pJqssdOb3h2maetWX+c5D8nR8XNwlFjDZ0/8sP6243M
 m6R5gPa+EeW28KuqqYm7PKDBL/PS/z8933XAp4hH46D8vemvPOXqiQMTyOyLiMEBk1XA
 FUCYSNNHetZa1cLxYidlAcjDypaduq5S88SBBUNf2h+K9JbFp0pyugPlFXChRqSJ3+FE
 gCKxVZN6pwxeFp7D0MfAAAw3G7KBMo8F78TJccssa2rR4Pk1mfL6FPDgKsYye793EeNR
 QE+aWumOBxbzW5vuBLxN+wHz1MWvSPs3xCER0YjBByymvdgaaM9TxPrDILm8If/kQo4R
 W8Bw==
X-Gm-Message-State: AOJu0Yw9XZ3TLV4jxQBwG3zWTG1sEh5A3LrKTFNRFdgLXqRJzOS+sCH0
 GNqGA/leZvwMARfj3lhzWSNZvEUn1bEwIyaI+WG7zeLA+ETPDMX+x6DukzQ1MEwxUxLxJ3QgAoU
 8UrJATzvnE+whEVhQT921tJQZv4elCm7U5CVeYgef
X-Google-Smtp-Source: AGHT+IFKhwxW55J6+TOFA/e3zEnxv7w1f1jyiT7rVb6goWChkTgsyuqWoe8dEbHoruUMaKo9AZCnW+RD1bxK
X-Received: by 2002:a05:6870:a926:b0:21e:c176:9642 with SMTP id
 eq38-20020a056870a92600b0021ec1769642mr14725859oab.29.1710832451852; 
 Tue, 19 Mar 2024 00:14:11 -0700 (PDT)
Received: from postal.iol.unh.edu (postal.iol.unh.edu. [132.177.123.84])
 by smtp-relay.gmail.com with ESMTPS id
 z15-20020a02938f000000b0047b410abbe3sm144381jah.85.2024.03.19.00.14.11
 (version=TLS1_2 cipher=ECDHE-ECDSA-AES128-GCM-SHA256 bits=128/128);
 Tue, 19 Mar 2024 00:14:11 -0700 (PDT)
X-Relaying-Domain: iol.unh.edu
Date: Tue, 19 Mar 2024 00:14:11 -0700 (PDT)
Message-ID: <65f93b43.020a0220.ce81.ba48SMTPIN_ADDED_MISSING@mx.google.com>
Received: from [172.17.0.8] (unknown [172.18.0.217])
 by postal.iol.unh.edu (Postfix) with ESMTP id 5DF546052471;
 Tue, 19 Mar 2024 03:14:11 -0400 (EDT)
Subject: |SUCCESS| pw138477 [PATCH] graph: fix head move when graph walk in m
From: dpdklab@iol.unh.edu
To: Test Report <test-report@dpdk.org>
Cc: dpdk-test-reports@iol.unh.edu
In-Reply-To: <20240319141454.3275543-1-jingjing.wu@intel.com>
References: <20240319141454.3275543-1-jingjing.wu@intel.com>
Content-Type: text/plain
X-BeenThere: test-report@dpdk.org
X-Mailman-Version: 2.1.29
Precedence: list
List-Id: automatic DPDK test reports <test-report.dpdk.org>
List-Unsubscribe: <https://mails.dpdk.org/options/test-report>,
 <mailto:test-report-request@dpdk.org?subject=unsubscribe>
List-Archive: <http://mails.dpdk.org/archives/test-report/>
List-Post: <mailto:test-report@dpdk.org>
List-Help: <mailto:test-report-request@dpdk.org?subject=help>
List-Subscribe: <https://mails.dpdk.org/listinfo/test-report>,
 <mailto:test-report-request@dpdk.org?subject=subscribe>
Errors-To: test-report-bounces@dpdk.org

Test-Label: iol-compile-arm64-testing
Test-Status: SUCCESS
http://dpdk.org/patch/138477

_Testing PASS_

Submitter: Jingjing Wu <jingjing.wu@intel.com>
Date: Tuesday, March 19 2024 14:14:54 
DPDK git baseline: Repo:dpdk
  Branch: master
  CommitID:80ecef6d1f71fcebc0a51d7cabc51f73ee142ff2

138477 --> testing pass

Test environment and result as below:

+----------------------------------------+--------------------+
|              Environment               | dpdk_meson_compile |
+========================================+====================+
| Ubuntu 20.04 ARM SVE                   | PASS               |
+----------------------------------------+--------------------+
| Debian 12 with MUSDK                   | PASS               |
+----------------------------------------+--------------------+
| Fedora 37 (ARM)                        | PASS               |
+----------------------------------------+--------------------+
| Ubuntu 20.04 aarch32 GCC Cross Compile | PASS               |
+----------------------------------------+--------------------+
| Fedora 38 (ARM)                        | PASS               |
+----------------------------------------+--------------------+
| Ubuntu 20.04 (ARM)                     | PASS               |
+----------------------------------------+--------------------+
| Debian 12 (arm)                        | PASS               |
+----------------------------------------+--------------------+
| Debian 11 (Buster) (ARM)               | PASS               |
+----------------------------------------+--------------------+
| CentOS Stream 9 (ARM)                  | PASS               |
+----------------------------------------+--------------------+


Ubuntu 20.04 ARM SVE
	Kernel: 5.4.0-167-generic
	Compiler: gcc (Ubuntu 10.5.0-1ubuntu1~20.04) 10.5.0

Debian 12 with MUSDK
	Kernel: Container Host Kernel
	Compiler: gcc 12.2.0

Fedora 37 (ARM)
	Kernel: Depends on container host
	Compiler: gcc 12.3.1

Ubuntu 20.04 aarch32 GCC Cross Compile
	Kernel: 5.4.0-167-generic
	Compiler: gcc 9.4.0

Fedora 38 (ARM)
	Kernel: Depends on container host
	Compiler: gcc 13.2.1

Ubuntu 20.04 (ARM)
	Kernel: Container Host Kernel
	Compiler: gcc 9.4.0

Debian 12 (arm)
	Kernel: Container Host Kernel
	Compiler: gcc 11

Debian 11 (Buster) (ARM)
	Kernel: Container Host Kernel
	Compiler: gcc 10.2.1

CentOS Stream 9 (ARM)
	Kernel: Container Host Kernel
	Compiler: gcc 11.4.1

To view detailed results, visit:
https://lab.dpdk.org/results/dashboard/patchsets/29590/

UNH-IOL DPDK Community Lab

To manage your email subscriptions, visit: 
https://lab.dpdk.org/results/dashboard/preferences/subscriptions/