From mboxrd@z Thu Jan  1 00:00:00 1970
Return-Path: <test-report-bounces@dpdk.org>
Received: from mails.dpdk.org (mails.dpdk.org [217.70.189.124])
	by inbox.dpdk.org (Postfix) with ESMTP id B8EC843CF6
	for <public@inbox.dpdk.org>; Tue, 19 Mar 2024 08:15:14 +0100 (CET)
Received: from mails.dpdk.org (localhost [127.0.0.1])
	by mails.dpdk.org (Postfix) with ESMTP id B3DA540DDB;
	Tue, 19 Mar 2024 08:15:14 +0100 (CET)
Received: from mail-io1-f98.google.com (mail-io1-f98.google.com
 [209.85.166.98]) by mails.dpdk.org (Postfix) with ESMTP id 2BC324021E
 for <test-report@dpdk.org>; Tue, 19 Mar 2024 08:15:12 +0100 (CET)
Received: by mail-io1-f98.google.com with SMTP id
 ca18e2360f4ac-7c897ac777aso115174039f.2
 for <test-report@dpdk.org>; Tue, 19 Mar 2024 00:15:12 -0700 (PDT)
DKIM-Signature: v=1; a=rsa-sha256; c=relaxed/relaxed;
 d=iol.unh.edu; s=unh-iol; t=1710832511; x=1711437311; darn=dpdk.org;
 h=references:in-reply-to:cc:to:from:subject:message-id:date:from:to
 :cc:subject:date:message-id:reply-to;
 bh=8vcjJ+wshp8lCqDWIrkarCAr1KapG0I9sDRDvuErlc0=;
 b=i/M2rnN1V2l7NFf+4i0ysvzNUF/oqtPlXAvxJdalk5Xhu+8VAaV3fAY69JoU5bLFOh
 wqYaEbQQxDWqVr1xNWyUCw73YHZV9jvzL50zKUcnTRmZrmPMkHN02rv0txGukKs0rzKj
 5xyWVfcQX4BIh5fvDgP4jtwXW2wRJlxcd2oLU=
X-Google-DKIM-Signature: v=1; a=rsa-sha256; c=relaxed/relaxed;
 d=1e100.net; s=20230601; t=1710832511; x=1711437311;
 h=references:in-reply-to:cc:to:from:subject:message-id:date
 :x-gm-message-state:from:to:cc:subject:date:message-id:reply-to;
 bh=8vcjJ+wshp8lCqDWIrkarCAr1KapG0I9sDRDvuErlc0=;
 b=qSqJbk8J+zVjIczwUZ/cjqqGEdTpQaa2Jmlajq8Vfg/1mLGsgCzNz4Pk7d1JwXwuiy
 XVQ72e1ToFLQZlZKxMMOetWZ4UIuMC90eKuHxvIlv/A5F9/9UN14ibmnOVF4CuEEgkGi
 iNH2reje56CI6trZ9BBCPfpeUCOV12VqJ8R1OrXmthX0P0/ET7VRdDuxLhuz9fhNsLnW
 EAn0Zd2dR08v4LCwa2VImvxFtv5cOyLLSyfLpcwTkCDmBuBOPfin3llk5Sr8I1JRN/Y9
 EXliGZl7fXbEpziWDPPneobGcCYNFuN5aic0REyvzpW3AHQ++s5HYd2mGsYjiv842KYc
 5Wag==
X-Gm-Message-State: AOJu0YwFiY5RQywcmBo4w3R6DxxvFtQM28/kizD6iZhWBDiKNgdxysSz
 ECzgMIr+S4s7hF3qdvECopwDNsqSbbQwUeqdtDkANVpul+TGuw66MpjXNAMipb7kdGGBPkSHuV4
 Tn8zfO9EgZPQRMpZKqfd5FRyDizZ/iztIBSAGD1rD
X-Google-Smtp-Source: AGHT+IGwqTF5WTbYdUUoHEhkmHWkBFo0Au/S+x3gx1FKmTlFTv4Sb+GlhF+JCXTE2Gkc8mZ+JYvn307jWda7
X-Received: by 2002:a6b:f408:0:b0:7cb:f759:56c4 with SMTP id
 i8-20020a6bf408000000b007cbf75956c4mr1822990iog.10.1710832511578; 
 Tue, 19 Mar 2024 00:15:11 -0700 (PDT)
Received: from postal.iol.unh.edu (postal.iol.unh.edu. [132.177.123.84])
 by smtp-relay.gmail.com with ESMTPS id
 d28-20020a0566022bfc00b007cc058ebae9sm293410ioy.13.2024.03.19.00.15.11
 (version=TLS1_2 cipher=ECDHE-ECDSA-AES128-GCM-SHA256 bits=128/128);
 Tue, 19 Mar 2024 00:15:11 -0700 (PDT)
X-Relaying-Domain: iol.unh.edu
Date: Tue, 19 Mar 2024 00:15:11 -0700 (PDT)
Message-ID: <65f93b7f.050a0220.26d96.2c41SMTPIN_ADDED_MISSING@mx.google.com>
Received: from [172.21.0.8] (unknown [172.18.0.240])
 by postal.iol.unh.edu (Postfix) with ESMTP id 2A4D06052471;
 Tue, 19 Mar 2024 03:15:11 -0400 (EDT)
Subject: |SUCCESS| pw138477 [PATCH] graph: fix head move when graph walk in m
From: dpdklab@iol.unh.edu
To: Test Report <test-report@dpdk.org>
Cc: dpdk-test-reports@iol.unh.edu
In-Reply-To: <20240319141454.3275543-1-jingjing.wu@intel.com>
References: <20240319141454.3275543-1-jingjing.wu@intel.com>
Content-Type: text/plain
X-BeenThere: test-report@dpdk.org
X-Mailman-Version: 2.1.29
Precedence: list
List-Id: automatic DPDK test reports <test-report.dpdk.org>
List-Unsubscribe: <https://mails.dpdk.org/options/test-report>,
 <mailto:test-report-request@dpdk.org?subject=unsubscribe>
List-Archive: <http://mails.dpdk.org/archives/test-report/>
List-Post: <mailto:test-report@dpdk.org>
List-Help: <mailto:test-report-request@dpdk.org?subject=help>
List-Subscribe: <https://mails.dpdk.org/listinfo/test-report>,
 <mailto:test-report-request@dpdk.org?subject=subscribe>
Errors-To: test-report-bounces@dpdk.org

Test-Label: iol-unit-arm64-testing
Test-Status: SUCCESS
http://dpdk.org/patch/138477

_Testing PASS_

Submitter: Jingjing Wu <jingjing.wu@intel.com>
Date: Tuesday, March 19 2024 14:14:54 
DPDK git baseline: Repo:dpdk
  Branch: master
  CommitID:80ecef6d1f71fcebc0a51d7cabc51f73ee142ff2

138477 --> testing pass

Test environment and result as below:

+----------------------+---------------------------+------------------------------+--------------+
|     Environment      | cryptodev_sw_zuc_autotest | cryptodev_sw_snow3g_autotest | lpm_autotest |
+======================+===========================+==============================+==============+
| Debian 12 (arm)      | PASS                      | PASS                         | SKIPPED      |
+----------------------+---------------------------+------------------------------+--------------+
| Ubuntu 20.04 ARM SVE | SKIPPED                   | SKIPPED                      | PASS         |
+----------------------+---------------------------+------------------------------+--------------+


Debian 12 (arm)
	Kernel: Container Host Kernel
	Compiler: gcc 12.2.0

Ubuntu 20.04 ARM SVE
	Kernel: 5.4.0-167-generic
	Compiler: gcc (Ubuntu 10.5.0-1ubuntu1~20.04) 10.5.0

To view detailed results, visit:
https://lab.dpdk.org/results/dashboard/patchsets/29590/

UNH-IOL DPDK Community Lab

To manage your email subscriptions, visit: 
https://lab.dpdk.org/results/dashboard/preferences/subscriptions/