From mboxrd@z Thu Jan  1 00:00:00 1970
Return-Path: <test-report-bounces@dpdk.org>
Received: from mails.dpdk.org (mails.dpdk.org [217.70.189.124])
	by inbox.dpdk.org (Postfix) with ESMTP id DE81343CF6
	for <public@inbox.dpdk.org>; Tue, 19 Mar 2024 08:20:13 +0100 (CET)
Received: from mails.dpdk.org (localhost [127.0.0.1])
	by mails.dpdk.org (Postfix) with ESMTP id D78284028A;
	Tue, 19 Mar 2024 08:20:13 +0100 (CET)
Received: from mail-il1-f225.google.com (mail-il1-f225.google.com
 [209.85.166.225])
 by mails.dpdk.org (Postfix) with ESMTP id 1A95C4021E
 for <test-report@dpdk.org>; Tue, 19 Mar 2024 08:20:13 +0100 (CET)
Received: by mail-il1-f225.google.com with SMTP id
 e9e14a558f8ab-366bc265e58so8481475ab.1
 for <test-report@dpdk.org>; Tue, 19 Mar 2024 00:20:13 -0700 (PDT)
DKIM-Signature: v=1; a=rsa-sha256; c=relaxed/relaxed;
 d=iol.unh.edu; s=unh-iol; t=1710832812; x=1711437612; darn=dpdk.org;
 h=references:in-reply-to:cc:to:from:subject:message-id:date:from:to
 :cc:subject:date:message-id:reply-to;
 bh=IgRUdXQ1I8mM2YLj/OlbG5xw0W0/CGdvM8QyBkymZKE=;
 b=GYAUdxSs6JryeRLy7DQTsi+x/OQAC99AcfwxglUjnrrQfYRHhVMbYf07/P9VGDl9b1
 noe99IFsAXQ12E0IIlrArXFMA+3Pm1mMkjKr4KgTvMm0Az0vtYsCSK86CjraPN+lSV40
 lDNTqPA/1imf6MSMA3Qy0XtXrO7PBHhRTSKaA=
X-Google-DKIM-Signature: v=1; a=rsa-sha256; c=relaxed/relaxed;
 d=1e100.net; s=20230601; t=1710832812; x=1711437612;
 h=references:in-reply-to:cc:to:from:subject:message-id:date
 :x-gm-message-state:from:to:cc:subject:date:message-id:reply-to;
 bh=IgRUdXQ1I8mM2YLj/OlbG5xw0W0/CGdvM8QyBkymZKE=;
 b=vDX8+UFVP/cGBExA0h3256xe086saXyeU3eB9ZCHjT3Unf9UyXbG5PcNXs7gvMR7y3
 Az26PLN4wwMCSc31fRS7GW58gUdZhQ7QELhsM3cLCXzfS6J/QSlSXI70l/vrWoObm025
 v5pcS+B08tsLjZ+o6MujsL6AUTjesHJV/ynYoV88L65uK9Qf6AC7RNrUcUY1eLpUvPT/
 wusYS/zondQFISFBLrJjdXej/CnuKXHgmvEATetWbjTL4iWbyUGPNaxwOwSZ8AtJ9toA
 PcrcsJAr97d8gAhf3FhjAL3jBOIU3KOv1aARoXFxtzkDhJGJ2pjFpsvJXx9TS495U39x
 iA9w==
X-Gm-Message-State: AOJu0YxmQ7qX9G81PGIBA9EYngfFVN6FVdt0yHhYq+Uw9c3BtM8MtgNs
 cmosKBFUpPRhF6dGiOCgbMZ0FXRXwDBbQhXxuzNU2hYlbSeYZYvTmz974VKnVFBQ/y+EKzSloaA
 MPDiA5ujOvZXUdZ3c9QIgx7kgd9mTnVM+uYMF1ePj
X-Google-Smtp-Source: AGHT+IGaE8zSYYIIB69zmFyr/jHXrJiIknXLg13n/iOsFfP6xv8NYEBeB8UPdmzNhC7jzmKy1jxuSs0hR+Yy
X-Received: by 2002:a05:6e02:106f:b0:366:9511:dece with SMTP id
 q15-20020a056e02106f00b003669511decemr9944873ilj.17.1710832812256; 
 Tue, 19 Mar 2024 00:20:12 -0700 (PDT)
Received: from postal.iol.unh.edu (postal.iol.unh.edu. [132.177.123.84])
 by smtp-relay.gmail.com with ESMTPS id
 f6-20020a056e02168600b00366af2aec7csm424031ila.47.2024.03.19.00.20.12
 (version=TLS1_2 cipher=ECDHE-ECDSA-AES128-GCM-SHA256 bits=128/128);
 Tue, 19 Mar 2024 00:20:12 -0700 (PDT)
X-Relaying-Domain: iol.unh.edu
Date: Tue, 19 Mar 2024 00:20:12 -0700 (PDT)
Message-ID: <65f93cac.050a0220.31b9f.e042SMTPIN_ADDED_MISSING@mx.google.com>
Received: from [172.17.0.9] (unknown [172.18.0.217])
 by postal.iol.unh.edu (Postfix) with ESMTP id B24976052471;
 Tue, 19 Mar 2024 03:20:11 -0400 (EDT)
Subject: |SUCCESS| pw138477 [PATCH] graph: fix head move when graph walk in m
From: dpdklab@iol.unh.edu
To: Test Report <test-report@dpdk.org>
Cc: Jingjing Wu <jingjing.wu@intel.com>
In-Reply-To: <20240319141454.3275543-1-jingjing.wu@intel.com>
References: <20240319141454.3275543-1-jingjing.wu@intel.com>
Content-Type: text/plain
X-BeenThere: test-report@dpdk.org
X-Mailman-Version: 2.1.29
Precedence: list
List-Id: automatic DPDK test reports <test-report.dpdk.org>
List-Unsubscribe: <https://mails.dpdk.org/options/test-report>,
 <mailto:test-report-request@dpdk.org?subject=unsubscribe>
List-Archive: <http://mails.dpdk.org/archives/test-report/>
List-Post: <mailto:test-report@dpdk.org>
List-Help: <mailto:test-report-request@dpdk.org?subject=help>
List-Subscribe: <https://mails.dpdk.org/listinfo/test-report>,
 <mailto:test-report-request@dpdk.org?subject=subscribe>
Errors-To: test-report-bounces@dpdk.org

Test-Label: iol-abi-testing
Test-Status: SUCCESS
http://dpdk.org/patch/138477

_Testing PASS_

Submitter: Jingjing Wu <jingjing.wu@intel.com>
Date: Tuesday, March 19 2024 14:14:54 
DPDK git baseline: Repo:dpdk
  Branch: master
  CommitID:80ecef6d1f71fcebc0a51d7cabc51f73ee142ff2

138477 --> testing pass

Test environment and result as below:

+------------------+----------+
|   Environment    | abi_test |
+==================+==========+
| Fedora 38        | PASS     |
+------------------+----------+
| Debian 11 (arm)  | PASS     |
+------------------+----------+
| Fedora 37        | PASS     |
+------------------+----------+
| openSUSE Leap 15 | PASS     |
+------------------+----------+
| Debian Bullseye  | PASS     |
+------------------+----------+


Fedora 38
	Kernel: Depends on container host
	Compiler: gcc 13.2.1

Debian 11 (arm)
	Kernel: Container Host Kernel
	Compiler: gcc 10.2.1

Fedora 37
	Kernel: Depends on container host system
	Compiler: gcc 12.3.1

openSUSE Leap 15
	Kernel: 5.4.0-167-generic
	Compiler: gcc 7.5.0

Debian Bullseye
	Kernel: 5.4.0-167-generic
	Compiler: gcc 10.2.1-6

To view detailed results, visit:
https://lab.dpdk.org/results/dashboard/patchsets/29590/

UNH-IOL DPDK Community Lab

To manage your email subscriptions, visit: 
https://lab.dpdk.org/results/dashboard/preferences/subscriptions/