From mboxrd@z Thu Jan  1 00:00:00 1970
Return-Path: <test-report-bounces@dpdk.org>
Received: from mails.dpdk.org (mails.dpdk.org [217.70.189.124])
	by inbox.dpdk.org (Postfix) with ESMTP id 5C25343CF6
	for <public@inbox.dpdk.org>; Tue, 19 Mar 2024 08:34:25 +0100 (CET)
Received: from mails.dpdk.org (localhost [127.0.0.1])
	by mails.dpdk.org (Postfix) with ESMTP id 561E940298;
	Tue, 19 Mar 2024 08:34:25 +0100 (CET)
Received: from mail-yw1-f228.google.com (mail-yw1-f228.google.com
 [209.85.128.228])
 by mails.dpdk.org (Postfix) with ESMTP id BBD0C40289
 for <test-report@dpdk.org>; Tue, 19 Mar 2024 08:34:23 +0100 (CET)
Received: by mail-yw1-f228.google.com with SMTP id
 00721157ae682-60a057b6601so51579567b3.2
 for <test-report@dpdk.org>; Tue, 19 Mar 2024 00:34:23 -0700 (PDT)
DKIM-Signature: v=1; a=rsa-sha256; c=relaxed/relaxed;
 d=iol.unh.edu; s=unh-iol; t=1710833663; x=1711438463; darn=dpdk.org;
 h=references:in-reply-to:cc:to:from:subject:message-id:date:from:to
 :cc:subject:date:message-id:reply-to;
 bh=y+mtsjMHAccyN8xjixEC/CviIquslhThAUrdDZ1IXc4=;
 b=GRW1IN6No+Em5vQ+T+pMuhpmnQX0kqHZVA4XC+UV4PKo6mYdacHIFQWdjhmeAAPq2b
 UH6cJm99gLsHPpOoU/vSuzy6ML0y3iF4aITuEfH2cZtNVcIc+nu5HlGRfDl/Xocv95At
 HqEmPhqDJ2Kq1i8ZO7Y6ueAWgTEz+Pnthrl0o=
X-Google-DKIM-Signature: v=1; a=rsa-sha256; c=relaxed/relaxed;
 d=1e100.net; s=20230601; t=1710833663; x=1711438463;
 h=references:in-reply-to:cc:to:from:subject:message-id:date
 :x-gm-message-state:from:to:cc:subject:date:message-id:reply-to;
 bh=y+mtsjMHAccyN8xjixEC/CviIquslhThAUrdDZ1IXc4=;
 b=TczLqBJNoL52bXcjB0knelnN1UEBGu5vc2Pv7sWQXDygUQNpNs6ObvRxytC5aBU7BP
 qaCITEok3RsrUtKWGPOh6ZGyYVszUfIkpQLfPNMW/rL2LeMQxsrWPMhwbAcQovEYI3QO
 Dn8Xfut47Ngtm8xvdSD0MNc3t9/IGrzqMbLv026zsdfW24cKslKT7dv7gbjvdpNzlgkj
 i74Q8qAbdZGsNmFb8lNth3QIgO4qrNBA1LiKmcefI3M2pbd6N5IZD584eW5GPgzgOq9R
 6cYnG0hDVscV4R+lx7219CRAcfjxJjs7Dbl3Aw1NxChVcK43fkZMkkJbg41+9SdfU26O
 n1KA==
X-Gm-Message-State: AOJu0Yxu+pdLbHJzTO/Xluxfex4+dMkPPIRO4U2OUmgNhfqe4WvyqzNK
 Zcy59iSsFep3HeIgvuCHwprr+6ju7D30YEU7DSUhM1twi+6KL7P0tPpqZM4SlQXqSAWuw2JKKKU
 C4DeZiRWRqDLvBjfRp/TTkGysNrs5cBD/PexxS08Z
X-Google-Smtp-Source: AGHT+IGbMtw1L17cKr4VkEkKMg8pMd8AZSVf0NXw93OX0ytfJAhZqp9rKLiE+0FlvOLPzhkx2T0nAYuTl0MK
X-Received: by 2002:a0d:d742:0:b0:60a:bb0:cd37 with SMTP id
 z63-20020a0dd742000000b0060a0bb0cd37mr1948720ywd.25.1710833663154; 
 Tue, 19 Mar 2024 00:34:23 -0700 (PDT)
Received: from postal.iol.unh.edu (postal.iol.unh.edu. [132.177.123.84])
 by smtp-relay.gmail.com with ESMTPS id
 l71-20020a81574a000000b006084192c77dsm750975ywb.62.2024.03.19.00.34.23
 (version=TLS1_2 cipher=ECDHE-ECDSA-AES128-GCM-SHA256 bits=128/128);
 Tue, 19 Mar 2024 00:34:23 -0700 (PDT)
X-Relaying-Domain: iol.unh.edu
Date: Tue, 19 Mar 2024 00:34:23 -0700 (PDT)
Message-ID: <65f93fff.810a0220.9113d.5addSMTPIN_ADDED_MISSING@mx.google.com>
Received: from [172.17.0.6] (unknown [172.18.0.217])
 by postal.iol.unh.edu (Postfix) with ESMTP id C3EF26052471;
 Tue, 19 Mar 2024 03:34:22 -0400 (EDT)
Subject: |SUCCESS| pw138477 [PATCH] graph: fix head move when graph walk in m
From: dpdklab@iol.unh.edu
To: Test Report <test-report@dpdk.org>
Cc: dpdk-test-reports@iol.unh.edu
In-Reply-To: <20240319141454.3275543-1-jingjing.wu@intel.com>
References: <20240319141454.3275543-1-jingjing.wu@intel.com>
Content-Type: text/plain
X-BeenThere: test-report@dpdk.org
X-Mailman-Version: 2.1.29
Precedence: list
List-Id: automatic DPDK test reports <test-report.dpdk.org>
List-Unsubscribe: <https://mails.dpdk.org/options/test-report>,
 <mailto:test-report-request@dpdk.org?subject=unsubscribe>
List-Archive: <http://mails.dpdk.org/archives/test-report/>
List-Post: <mailto:test-report@dpdk.org>
List-Help: <mailto:test-report-request@dpdk.org?subject=help>
List-Subscribe: <https://mails.dpdk.org/listinfo/test-report>,
 <mailto:test-report-request@dpdk.org?subject=subscribe>
Errors-To: test-report-bounces@dpdk.org

Test-Label: iol-compile-arm64-testing
Test-Status: SUCCESS
http://dpdk.org/patch/138477

_Testing PASS_

Submitter: Jingjing Wu <jingjing.wu@intel.com>
Date: Tuesday, March 19 2024 14:14:54 
DPDK git baseline: Repo:dpdk
  Branch: master
  CommitID:80ecef6d1f71fcebc0a51d7cabc51f73ee142ff2

138477 --> testing pass

Test environment and result as below:

+----------------------------------------+--------------------+
|              Environment               | dpdk_meson_compile |
+========================================+====================+
| Ubuntu 20.04 ARM SVE                   | PASS               |
+----------------------------------------+--------------------+
| Debian 12 with MUSDK                   | PASS               |
+----------------------------------------+--------------------+
| Fedora 37 (ARM)                        | PASS               |
+----------------------------------------+--------------------+
| Ubuntu 20.04 aarch32 GCC Cross Compile | PASS               |
+----------------------------------------+--------------------+
| Fedora 38 (ARM)                        | PASS               |
+----------------------------------------+--------------------+
| Ubuntu 20.04 (ARM)                     | PASS               |
+----------------------------------------+--------------------+
| Debian 12 (arm)                        | PASS               |
+----------------------------------------+--------------------+
| Debian 11 (Buster) (ARM)               | PASS               |
+----------------------------------------+--------------------+
| CentOS Stream 9 (ARM)                  | PASS               |
+----------------------------------------+--------------------+
| Ubuntu 20.04 ARM Clang Cross Compile   | PASS               |
+----------------------------------------+--------------------+
| Ubuntu 20.04 ARM GCC Cross Compile     | PASS               |
+----------------------------------------+--------------------+


Ubuntu 20.04 ARM SVE
	Kernel: 5.4.0-167-generic
	Compiler: gcc (Ubuntu 10.5.0-1ubuntu1~20.04) 10.5.0

Debian 12 with MUSDK
	Kernel: Container Host Kernel
	Compiler: gcc 12.2.0

Fedora 37 (ARM)
	Kernel: Depends on container host
	Compiler: gcc 12.3.1

Ubuntu 20.04 aarch32 GCC Cross Compile
	Kernel: 5.4.0-167-generic
	Compiler: gcc 9.4.0

Fedora 38 (ARM)
	Kernel: Depends on container host
	Compiler: gcc 13.2.1

Ubuntu 20.04 (ARM)
	Kernel: Container Host Kernel
	Compiler: gcc 9.4.0

Debian 12 (arm)
	Kernel: Container Host Kernel
	Compiler: gcc 11

Debian 11 (Buster) (ARM)
	Kernel: Container Host Kernel
	Compiler: gcc 10.2.1

CentOS Stream 9 (ARM)
	Kernel: Container Host Kernel
	Compiler: gcc 11.4.1

Ubuntu 20.04 ARM Clang Cross Compile
	Kernel: 5.4.0-72-generic
	Compiler: clang 10.0.0-4ubuntu1

Ubuntu 20.04 ARM GCC Cross Compile
	Kernel: 5.4.0-167-generic
	Compiler: aarch64-linux-gnu-gcc (Ubuntu 9.4.0-1ubuntu1~20.04.2) 9.4.0

To view detailed results, visit:
https://lab.dpdk.org/results/dashboard/patchsets/29590/

UNH-IOL DPDK Community Lab

To manage your email subscriptions, visit: 
https://lab.dpdk.org/results/dashboard/preferences/subscriptions/