From mboxrd@z Thu Jan  1 00:00:00 1970
Return-Path: <test-report-bounces@dpdk.org>
Received: from mails.dpdk.org (mails.dpdk.org [217.70.189.124])
	by inbox.dpdk.org (Postfix) with ESMTP id B5B9243CEA
	for <public@inbox.dpdk.org>; Tue, 19 Mar 2024 17:59:02 +0100 (CET)
Received: from mails.dpdk.org (localhost [127.0.0.1])
	by mails.dpdk.org (Postfix) with ESMTP id AC296402D5;
	Tue, 19 Mar 2024 17:59:02 +0100 (CET)
Received: from mail-io1-f99.google.com (mail-io1-f99.google.com
 [209.85.166.99]) by mails.dpdk.org (Postfix) with ESMTP id ECE7040298
 for <test-report@dpdk.org>; Tue, 19 Mar 2024 17:59:01 +0100 (CET)
Received: by mail-io1-f99.google.com with SMTP id
 ca18e2360f4ac-7cbf307213fso170277539f.0
 for <test-report@dpdk.org>; Tue, 19 Mar 2024 09:59:01 -0700 (PDT)
DKIM-Signature: v=1; a=rsa-sha256; c=relaxed/relaxed;
 d=iol.unh.edu; s=unh-iol; t=1710867541; x=1711472341; darn=dpdk.org;
 h=references:in-reply-to:cc:to:from:subject:message-id:date:from:to
 :cc:subject:date:message-id:reply-to;
 bh=m6dmSIkZbbJaeMFniUIM8KYIFiFBsKfAHBSitmdWr+8=;
 b=BGIWanzoNuGM7JuvaQGqZ+fqqKWW1qQ43SfKNtWFm/3exEN9Xeq/91tyx9iwBlIhXW
 j+Y8hpImS1v2snlxVaYPOZMs8/lCrwedJsvCP1ytDcCnWea9FwZJjVQiuc0MZmqfAMdG
 qSCSoOZ6TZ8PwvK36PYie671NA7CaaB23oeFU=
X-Google-DKIM-Signature: v=1; a=rsa-sha256; c=relaxed/relaxed;
 d=1e100.net; s=20230601; t=1710867541; x=1711472341;
 h=references:in-reply-to:cc:to:from:subject:message-id:date
 :x-gm-message-state:from:to:cc:subject:date:message-id:reply-to;
 bh=m6dmSIkZbbJaeMFniUIM8KYIFiFBsKfAHBSitmdWr+8=;
 b=cxHgeJK9tbArAbr2+sWcaq89xLCjHzGK9KNrzdZfEraaei7aDw31BLdp3A+gd/BgXd
 BTTgCLg+sBjqVAjXzAdy7J6FYysyXDpFSzF5pJKpVAoLIdzTECamcMBjS6GMUuvzQBMH
 IphwW39ucNEvI2JuDuxGJe+KT11eUTS8i/pkcrOGd0Bj3h1bLS2uqxNCpZtODgtkPNFu
 V93WUFAzN/WmFWFaazGz3jPpNB4dC8E0qqJCEWbgDyXIgucsLL155NzH1ULNQGrNliQt
 unBtzWmNRr6A8TqXjpdIR3ZXApCFwL0Y8nsVKnVtBqUxmrBvppghRUvmn1R0/UpeA9kc
 L7ng==
X-Gm-Message-State: AOJu0YwNEt7bmQwb1SeS1Z+L9twpmaGweqWOfFDl1YMJck6JkKmkLmAn
 vE9zjshyyu/11Ylw6FglSNC368Qr8TzsPsdsiOoew2a2ZVTHQaVE2rVdFBHKpP7+q+RwC9OvhQQ
 mxVCNKLUK371oHXpLJR0ZcT3MXyXbZKEWSAEGuTHd
X-Google-Smtp-Source: AGHT+IFog/Jj4o1IBcICz74vqRr9dSQyGHG0YEtaq9Q+Em/2e068Bdye9is4f1N2Gh4CG6WCjQSTq9jPrOM9
X-Received: by 2002:a6b:f303:0:b0:7cc:75fd:cd37 with SMTP id
 m3-20020a6bf303000000b007cc75fdcd37mr7400697ioh.19.1710867541385; 
 Tue, 19 Mar 2024 09:59:01 -0700 (PDT)
Received: from postal.iol.unh.edu (postal.iol.unh.edu. [132.177.123.84])
 by smtp-relay.gmail.com with ESMTPS id
 d5-20020a5d8885000000b007c84aed4d00sm486951ioo.31.2024.03.19.09.59.01
 (version=TLS1_2 cipher=ECDHE-ECDSA-AES128-GCM-SHA256 bits=128/128);
 Tue, 19 Mar 2024 09:59:01 -0700 (PDT)
X-Relaying-Domain: iol.unh.edu
Date: Tue, 19 Mar 2024 09:59:01 -0700 (PDT)
Message-ID: <65f9c455.5d0a0220.ee05e.eeecSMTPIN_ADDED_MISSING@mx.google.com>
Received: from [172.21.0.6] (unknown [172.18.0.240])
 by postal.iol.unh.edu (Postfix) with ESMTP id E2AC36052471;
 Tue, 19 Mar 2024 12:59:00 -0400 (EDT)
Subject: |SUCCESS| pw138484 [PATCH] net/ixgbe: using dpdk-dumpcap capture pac
From: dpdklab@iol.unh.edu
To: Test Report <test-report@dpdk.org>
Cc: dpdk-test-reports@iol.unh.edu
In-Reply-To: <1710865092-2796-1-git-send-email-junwang01@cestc.cn>
References: <1710865092-2796-1-git-send-email-junwang01@cestc.cn>
Content-Type: text/plain
X-BeenThere: test-report@dpdk.org
X-Mailman-Version: 2.1.29
Precedence: list
List-Id: automatic DPDK test reports <test-report.dpdk.org>
List-Unsubscribe: <https://mails.dpdk.org/options/test-report>,
 <mailto:test-report-request@dpdk.org?subject=unsubscribe>
List-Archive: <http://mails.dpdk.org/archives/test-report/>
List-Post: <mailto:test-report@dpdk.org>
List-Help: <mailto:test-report-request@dpdk.org?subject=help>
List-Subscribe: <https://mails.dpdk.org/listinfo/test-report>,
 <mailto:test-report-request@dpdk.org?subject=subscribe>
Errors-To: test-report-bounces@dpdk.org

Test-Label: iol-abi-testing
Test-Status: SUCCESS
http://dpdk.org/patch/138484

_Testing PASS_

Submitter: Jun Wang <junwang01@cestc.cn>
Date: Tuesday, March 19 2024 16:18:12 
DPDK git baseline: Repo:dpdk
  Branch: master
  CommitID:2c54ea7a59dfc0a819d3527309c62846fc8853af

138484 --> testing pass

Test environment and result as below:

+-----------------+----------+
|   Environment   | abi_test |
+=================+==========+
| Fedora 38       | PASS     |
+-----------------+----------+
| Ubuntu 22.04    | PASS     |
+-----------------+----------+
| RHEL8           | PASS     |
+-----------------+----------+
| Fedora 37       | PASS     |
+-----------------+----------+
| CentOS Stream 8 | PASS     |
+-----------------+----------+


Fedora 38
	Kernel: Depends on container host
	Compiler: gcc 13.2.1

Ubuntu 22.04
	Kernel: 5.4.0-167-generic
	Compiler: gcc 11.4.0

RHEL8
	Kernel: 5.4.0-167-generic
	Compiler: gcc 8.5.0 20210514 (Red Hat 8.5.0-20)

Fedora 37
	Kernel: Depends on container host system
	Compiler: gcc 12.3.1

CentOS Stream 8
	Kernel: 5.4.0-167-generic
	Compiler: gcc 8.5.0 20210514

To view detailed results, visit:
https://lab.dpdk.org/results/dashboard/patchsets/29597/

UNH-IOL DPDK Community Lab

To manage your email subscriptions, visit: 
https://lab.dpdk.org/results/dashboard/preferences/subscriptions/