From mboxrd@z Thu Jan  1 00:00:00 1970
Return-Path: <test-report-bounces@dpdk.org>
Received: from mails.dpdk.org (mails.dpdk.org [217.70.189.124])
	by inbox.dpdk.org (Postfix) with ESMTP id 01EBF43CEC
	for <public@inbox.dpdk.org>; Tue, 19 Mar 2024 18:00:51 +0100 (CET)
Received: from mails.dpdk.org (localhost [127.0.0.1])
	by mails.dpdk.org (Postfix) with ESMTP id F1D8C402D5;
	Tue, 19 Mar 2024 18:00:50 +0100 (CET)
Received: from mail-pl1-f228.google.com (mail-pl1-f228.google.com
 [209.85.214.228])
 by mails.dpdk.org (Postfix) with ESMTP id 41CD640298
 for <test-report@dpdk.org>; Tue, 19 Mar 2024 18:00:50 +0100 (CET)
Received: by mail-pl1-f228.google.com with SMTP id
 d9443c01a7336-1def89f0cfdso629175ad.0
 for <test-report@dpdk.org>; Tue, 19 Mar 2024 10:00:50 -0700 (PDT)
DKIM-Signature: v=1; a=rsa-sha256; c=relaxed/relaxed;
 d=iol.unh.edu; s=unh-iol; t=1710867649; x=1711472449; darn=dpdk.org;
 h=references:in-reply-to:cc:to:from:subject:message-id:date:from:to
 :cc:subject:date:message-id:reply-to;
 bh=tiLswmF7sZ0BdjwrZK4ERejAYdbORNuW1zcbpf3wSuY=;
 b=Lof9IH9cfw6cFzsJJ3g521zjQxXkLtHsCKAfpTPEUt5MZuTAxeY9zDM1N0FPFWGPMI
 Wyuv0SKpvwd/0XEjfgGu5aQEWz4HRQX7jcO7vGbm5tdSCeXsopWyKTCMJJek7rnPD5wU
 RJ8IuNmHeBdtALWniR6Vp/IcpNn57XGTK93FU=
X-Google-DKIM-Signature: v=1; a=rsa-sha256; c=relaxed/relaxed;
 d=1e100.net; s=20230601; t=1710867649; x=1711472449;
 h=references:in-reply-to:cc:to:from:subject:message-id:date
 :x-gm-message-state:from:to:cc:subject:date:message-id:reply-to;
 bh=tiLswmF7sZ0BdjwrZK4ERejAYdbORNuW1zcbpf3wSuY=;
 b=XNorqSCdKKRsIh3zEXdHE5Zvrt9BW2PxzKhwAB37DEW2W7uNoDJMOjzaf5K+2j8Zi5
 5psJIfh8WhjyjWu1/+bPK3v/Qe4b9/hYCUm4GIt8k/Bl0HRJ7xf2je3awJpzCRPhikp0
 FRsatLezMiBAcsT/3FGCwfoYIGHPB9pdrUWUeELCOsUyqbIvWCpbXSfnsIRSYx3WTV2F
 H/bLuFIxdxCUkG0xH6q7DCgJEnL4zdTIHYvw1mCsgvxrUcev0nAZYumqi0sAoznIRlDz
 XRrTADOBCWOCoPoFycGdFrvzZ99uoUCIoM2n9vg9GwVFyvsQMoGbzsR6XdNU3EdIPxDG
 yNgA==
X-Gm-Message-State: AOJu0Yy1b8FQpWXeb+mWzncAbF1Dl+itrfagIwe9DcgA2FhjzNCUG6bA
 NG8uZPvMWMxuI38jhOKrlM7V+xYi7UEdEGu+sKUaGb6aQh2+f75S3HkJ5DimMPWjc+0Tke5cUlC
 MVEtwbsAQ+T78493Eeh7QRYvFVBsUZfV8tAb7x56J
X-Google-Smtp-Source: AGHT+IFO9M0ntkt/QAwMwsHxayoVKH36IOtkrHR6z70hFNUvuyJU80MICTH8pZivRMjT3r08d6EMu8C4cH2O
X-Received: by 2002:a17:903:244b:b0:1e0:185d:16e0 with SMTP id
 l11-20020a170903244b00b001e0185d16e0mr4909485pls.24.1710867649125; 
 Tue, 19 Mar 2024 10:00:49 -0700 (PDT)
Received: from postal.iol.unh.edu (postal.iol.unh.edu. [132.177.123.84])
 by smtp-relay.gmail.com with ESMTPS id
 lh6-20020a170903290600b001db2dcb6d20sm201263plb.69.2024.03.19.10.00.48
 (version=TLS1_2 cipher=ECDHE-ECDSA-AES128-GCM-SHA256 bits=128/128);
 Tue, 19 Mar 2024 10:00:49 -0700 (PDT)
X-Relaying-Domain: iol.unh.edu
Date: Tue, 19 Mar 2024 10:00:49 -0700 (PDT)
Message-ID: <65f9c4c1.170a0220.66af6.c0b6SMTPIN_ADDED_MISSING@mx.google.com>
Received: from [172.21.0.6] (unknown [172.18.0.240])
 by postal.iol.unh.edu (Postfix) with ESMTP id 439CF6052471;
 Tue, 19 Mar 2024 13:00:48 -0400 (EDT)
Subject: |SUCCESS| pw138484 [PATCH] net/ixgbe: using dpdk-dumpcap capture pac
From: dpdklab@iol.unh.edu
To: Test Report <test-report@dpdk.org>
Cc: dpdk-test-reports@iol.unh.edu
In-Reply-To: <1710865092-2796-1-git-send-email-junwang01@cestc.cn>
References: <1710865092-2796-1-git-send-email-junwang01@cestc.cn>
Content-Type: text/plain
X-BeenThere: test-report@dpdk.org
X-Mailman-Version: 2.1.29
Precedence: list
List-Id: automatic DPDK test reports <test-report.dpdk.org>
List-Unsubscribe: <https://mails.dpdk.org/options/test-report>,
 <mailto:test-report-request@dpdk.org?subject=unsubscribe>
List-Archive: <http://mails.dpdk.org/archives/test-report/>
List-Post: <mailto:test-report@dpdk.org>
List-Help: <mailto:test-report-request@dpdk.org?subject=help>
List-Subscribe: <https://mails.dpdk.org/listinfo/test-report>,
 <mailto:test-report-request@dpdk.org?subject=subscribe>
Errors-To: test-report-bounces@dpdk.org

Test-Label: iol-compile-amd64-testing
Test-Status: SUCCESS
http://dpdk.org/patch/138484

_Testing PASS_

Submitter: Jun Wang <junwang01@cestc.cn>
Date: Tuesday, March 19 2024 16:18:12 
DPDK git baseline: Repo:dpdk
  Branch: master
  CommitID:2c54ea7a59dfc0a819d3527309c62846fc8853af

138484 --> testing pass

Test environment and result as below:

+---------------------+--------------------+----------------------+
|     Environment     | dpdk_meson_compile | dpdk_mingw64_compile |
+=====================+====================+======================+
| FreeBSD 13.2        | PASS               | SKIPPED              |
+---------------------+--------------------+----------------------+
| Debian Bullseye     | PASS               | SKIPPED              |
+---------------------+--------------------+----------------------+
| Debian 11 (arm)     | PASS               | SKIPPED              |
+---------------------+--------------------+----------------------+
| CentOS Stream 8     | PASS               | SKIPPED              |
+---------------------+--------------------+----------------------+
| Fedora 37           | PASS               | SKIPPED              |
+---------------------+--------------------+----------------------+
| CentOS Stream 9     | PASS               | SKIPPED              |
+---------------------+--------------------+----------------------+
| Windows Server 2019 | PASS               | PASS                 |
+---------------------+--------------------+----------------------+
| Fedora 38           | PASS               | SKIPPED              |
+---------------------+--------------------+----------------------+
| openSUSE Leap 15    | PASS               | SKIPPED              |
+---------------------+--------------------+----------------------+
| Windows Server 2022 | PASS               | PASS                 |
+---------------------+--------------------+----------------------+
| RHEL8               | PASS               | SKIPPED              |
+---------------------+--------------------+----------------------+
| Alpine              | PASS               | SKIPPED              |
+---------------------+--------------------+----------------------+


FreeBSD 13.2
	Kernel: 13.2
	Compiler: clang 14.0.5

Debian Bullseye
	Kernel: 5.4.0-167-generic
	Compiler: gcc 10.2.1-6

Debian 11 (arm)
	Kernel: Container Host Kernel
	Compiler: gcc 10.2.1

CentOS Stream 8
	Kernel: 5.4.0-167-generic
	Compiler: gcc 8.5.0 20210514

Fedora 37
	Kernel: Depends on container host system
	Compiler: gcc 12.3.1

CentOS Stream 9
	Kernel: 5.4.0-167-generic
	Compiler: gcc 11.4.1 20230605

Windows Server 2019
	Kernel: 10.0.17763
	Compiler: clang 14.0 and gcc 8.1.0 (MinGW)

Fedora 38
	Kernel: Depends on container host
	Compiler: gcc 13.2.1

openSUSE Leap 15
	Kernel: 5.4.0-167-generic
	Compiler: gcc 7.5.0

Windows Server 2022
	Kernel: 10.0.20348.2031
	Compiler: clang 15.0.7, gcc 8.1.0 (MinGW), and MSVC VS 17.9

RHEL8
	Kernel: 5.4.0-167-generic
	Compiler: gcc 8.5.0 20210514 (Red Hat 8.5.0-20)

Alpine
	Kernel: 5.4.0-167-generic
	Compiler: gcc (Alpine 12.2.1_git20220924-r10) 12.2.1 20220924

To view detailed results, visit:
https://lab.dpdk.org/results/dashboard/patchsets/29597/

UNH-IOL DPDK Community Lab

To manage your email subscriptions, visit: 
https://lab.dpdk.org/results/dashboard/preferences/subscriptions/