From mboxrd@z Thu Jan  1 00:00:00 1970
Return-Path: <test-report-bounces@dpdk.org>
Received: from mails.dpdk.org (mails.dpdk.org [217.70.189.124])
	by inbox.dpdk.org (Postfix) with ESMTP id E9BE343CEC
	for <public@inbox.dpdk.org>; Tue, 19 Mar 2024 18:04:22 +0100 (CET)
Received: from mails.dpdk.org (localhost [127.0.0.1])
	by mails.dpdk.org (Postfix) with ESMTP id E49FB402D5;
	Tue, 19 Mar 2024 18:04:22 +0100 (CET)
Received: from mail-pj1-f99.google.com (mail-pj1-f99.google.com
 [209.85.216.99]) by mails.dpdk.org (Postfix) with ESMTP id 91E4540298
 for <test-report@dpdk.org>; Tue, 19 Mar 2024 18:04:21 +0100 (CET)
Received: by mail-pj1-f99.google.com with SMTP id
 98e67ed59e1d1-29f6f8614c8so2311523a91.0
 for <test-report@dpdk.org>; Tue, 19 Mar 2024 10:04:21 -0700 (PDT)
DKIM-Signature: v=1; a=rsa-sha256; c=relaxed/relaxed;
 d=iol.unh.edu; s=unh-iol; t=1710867861; x=1711472661; darn=dpdk.org;
 h=references:in-reply-to:cc:to:from:subject:message-id:date:from:to
 :cc:subject:date:message-id:reply-to;
 bh=tiLswmF7sZ0BdjwrZK4ERejAYdbORNuW1zcbpf3wSuY=;
 b=cgPK67kTVGOrrfdBA/PWHMdG1AzWrdfwL1q8GU4tTURULNhLDMkGSIqF+eC4GyASQy
 ZZls7Y9BWhotq4QpE3BXOvbnsKIua5YVxof79hhoKDvucJg7lYX3lESw7Qa2XRU2rIsT
 iiSD8zH15PZeiPPDvJKLGSfIjwPfkHWYQHNOQ=
X-Google-DKIM-Signature: v=1; a=rsa-sha256; c=relaxed/relaxed;
 d=1e100.net; s=20230601; t=1710867861; x=1711472661;
 h=references:in-reply-to:cc:to:from:subject:message-id:date
 :x-gm-message-state:from:to:cc:subject:date:message-id:reply-to;
 bh=tiLswmF7sZ0BdjwrZK4ERejAYdbORNuW1zcbpf3wSuY=;
 b=Mbmhrqg+b4r5Xghvd1UmOCF9om/zH6cVlYdueKdbRNTeS4R1gKYYIkxp2lpbrDb7FG
 CREly90WyAI3DieCDFPePhVOXyrlkkBAewvqOAkKmAr2i4KpWuXLLFPDQS6GCo1Q7bRg
 qjhrIt11sJ0VCO8qG29ok4acbMsZji50ree0qbKdkm4tIG/REt8UcpY6FVjl5F+QoQvU
 43u6FT2eli5IH76tioFNNKoymMrmZLPO1ayH4WrWuiYLsaCgJw8jBZqxmJg+joYOc3H9
 4bAj1oacofBZgLVpR+lXAW1rYpo+5xfrc3eAAtqHkGv4hjHx7y04cUBcuRpYytgcNbWL
 D50A==
X-Gm-Message-State: AOJu0Yw7msP9/vUWN2f8tpCeJQlqfWicb4upm9KDeYyPOxghhQpK5qgf
 wMFwvj9kijFTv20KFSp2j4ex1j3J8mNF/KvD+IDiHatqoP/snim1iz1bLG0i+YevnXMtR7iyD3d
 Acz0mdWktDmLMRjAx4DvcxD+/ARQewIqskacbsO38/62/ZTIA0fgkq4EC
X-Google-Smtp-Source: AGHT+IHOwKoi7pN9vKjkrf779mxNq1lX/0UWN7I73Pc7v1sBliETmICTwpFIQCjjqVSVtvIxn34VIp4CPEpe
X-Received: by 2002:a17:90b:3798:b0:29c:6a5c:b8f5 with SMTP id
 mz24-20020a17090b379800b0029c6a5cb8f5mr3046575pjb.43.1710867860801; 
 Tue, 19 Mar 2024 10:04:20 -0700 (PDT)
Received: from postal.iol.unh.edu (postal.iol.unh.edu.
 [2606:4100:3880:1234::84]) by smtp-relay.gmail.com with ESMTPS id
 j8-20020a17090aeb0800b0029c74185669sm541509pjz.2.2024.03.19.10.04.20
 (version=TLS1_2 cipher=ECDHE-ECDSA-AES128-GCM-SHA256 bits=128/128);
 Tue, 19 Mar 2024 10:04:20 -0700 (PDT)
X-Relaying-Domain: iol.unh.edu
Date: Tue, 19 Mar 2024 10:04:20 -0700 (PDT)
Message-ID: <65f9c594.170a0220.64ba4.4af4SMTPIN_ADDED_MISSING@mx.google.com>
Received: from [172.21.0.6] (unknown [172.18.0.240])
 by postal.iol.unh.edu (Postfix) with ESMTP id F1EBC6052471;
 Tue, 19 Mar 2024 13:04:19 -0400 (EDT)
Subject: |SUCCESS| pw138484 [PATCH] net/ixgbe: using dpdk-dumpcap capture pac
From: dpdklab@iol.unh.edu
To: Test Report <test-report@dpdk.org>
Cc: dpdk-test-reports@iol.unh.edu
In-Reply-To: <1710865092-2796-1-git-send-email-junwang01@cestc.cn>
References: <1710865092-2796-1-git-send-email-junwang01@cestc.cn>
Content-Type: text/plain
X-BeenThere: test-report@dpdk.org
X-Mailman-Version: 2.1.29
Precedence: list
List-Id: automatic DPDK test reports <test-report.dpdk.org>
List-Unsubscribe: <https://mails.dpdk.org/options/test-report>,
 <mailto:test-report-request@dpdk.org?subject=unsubscribe>
List-Archive: <http://mails.dpdk.org/archives/test-report/>
List-Post: <mailto:test-report@dpdk.org>
List-Help: <mailto:test-report-request@dpdk.org?subject=help>
List-Subscribe: <https://mails.dpdk.org/listinfo/test-report>,
 <mailto:test-report-request@dpdk.org?subject=subscribe>
Errors-To: test-report-bounces@dpdk.org

Test-Label: iol-compile-amd64-testing
Test-Status: SUCCESS
http://dpdk.org/patch/138484

_Testing PASS_

Submitter: Jun Wang <junwang01@cestc.cn>
Date: Tuesday, March 19 2024 16:18:12 
DPDK git baseline: Repo:dpdk
  Branch: master
  CommitID:2c54ea7a59dfc0a819d3527309c62846fc8853af

138484 --> testing pass

Test environment and result as below:

+---------------------+--------------------+----------------------+
|     Environment     | dpdk_meson_compile | dpdk_mingw64_compile |
+=====================+====================+======================+
| FreeBSD 13.2        | PASS               | SKIPPED              |
+---------------------+--------------------+----------------------+
| Debian Bullseye     | PASS               | SKIPPED              |
+---------------------+--------------------+----------------------+
| Debian 11 (arm)     | PASS               | SKIPPED              |
+---------------------+--------------------+----------------------+
| CentOS Stream 8     | PASS               | SKIPPED              |
+---------------------+--------------------+----------------------+
| Fedora 37           | PASS               | SKIPPED              |
+---------------------+--------------------+----------------------+
| CentOS Stream 9     | PASS               | SKIPPED              |
+---------------------+--------------------+----------------------+
| Windows Server 2019 | PASS               | PASS                 |
+---------------------+--------------------+----------------------+
| Fedora 38           | PASS               | SKIPPED              |
+---------------------+--------------------+----------------------+
| openSUSE Leap 15    | PASS               | SKIPPED              |
+---------------------+--------------------+----------------------+
| Windows Server 2022 | PASS               | PASS                 |
+---------------------+--------------------+----------------------+
| RHEL8               | PASS               | SKIPPED              |
+---------------------+--------------------+----------------------+
| Alpine              | PASS               | SKIPPED              |
+---------------------+--------------------+----------------------+


FreeBSD 13.2
	Kernel: 13.2
	Compiler: clang 14.0.5

Debian Bullseye
	Kernel: 5.4.0-167-generic
	Compiler: gcc 10.2.1-6

Debian 11 (arm)
	Kernel: Container Host Kernel
	Compiler: gcc 10.2.1

CentOS Stream 8
	Kernel: 5.4.0-167-generic
	Compiler: gcc 8.5.0 20210514

Fedora 37
	Kernel: Depends on container host system
	Compiler: gcc 12.3.1

CentOS Stream 9
	Kernel: 5.4.0-167-generic
	Compiler: gcc 11.4.1 20230605

Windows Server 2019
	Kernel: 10.0.17763
	Compiler: clang 14.0 and gcc 8.1.0 (MinGW)

Fedora 38
	Kernel: Depends on container host
	Compiler: gcc 13.2.1

openSUSE Leap 15
	Kernel: 5.4.0-167-generic
	Compiler: gcc 7.5.0

Windows Server 2022
	Kernel: 10.0.20348.2031
	Compiler: clang 15.0.7, gcc 8.1.0 (MinGW), and MSVC VS 17.9

RHEL8
	Kernel: 5.4.0-167-generic
	Compiler: gcc 8.5.0 20210514 (Red Hat 8.5.0-20)

Alpine
	Kernel: 5.4.0-167-generic
	Compiler: gcc (Alpine 12.2.1_git20220924-r10) 12.2.1 20220924

To view detailed results, visit:
https://lab.dpdk.org/results/dashboard/patchsets/29597/

UNH-IOL DPDK Community Lab

To manage your email subscriptions, visit: 
https://lab.dpdk.org/results/dashboard/preferences/subscriptions/