From mboxrd@z Thu Jan  1 00:00:00 1970
Return-Path: <test-report-bounces@dpdk.org>
Received: from mails.dpdk.org (mails.dpdk.org [217.70.189.124])
	by inbox.dpdk.org (Postfix) with ESMTP id 44A9B43CEC
	for <public@inbox.dpdk.org>; Tue, 19 Mar 2024 18:05:09 +0100 (CET)
Received: from mails.dpdk.org (localhost [127.0.0.1])
	by mails.dpdk.org (Postfix) with ESMTP id 40691402D5;
	Tue, 19 Mar 2024 18:05:09 +0100 (CET)
Received: from mail-io1-f99.google.com (mail-io1-f99.google.com
 [209.85.166.99]) by mails.dpdk.org (Postfix) with ESMTP id 9661E40298
 for <test-report@dpdk.org>; Tue, 19 Mar 2024 18:05:08 +0100 (CET)
Received: by mail-io1-f99.google.com with SMTP id
 ca18e2360f4ac-7cc05d36c86so1758239f.1
 for <test-report@dpdk.org>; Tue, 19 Mar 2024 10:05:08 -0700 (PDT)
DKIM-Signature: v=1; a=rsa-sha256; c=relaxed/relaxed;
 d=iol.unh.edu; s=unh-iol; t=1710867908; x=1711472708; darn=dpdk.org;
 h=references:in-reply-to:cc:to:from:subject:message-id:date:from:to
 :cc:subject:date:message-id:reply-to;
 bh=tiLswmF7sZ0BdjwrZK4ERejAYdbORNuW1zcbpf3wSuY=;
 b=O45eTtI++Oc8RQTVTW7MVmWnJSwmdUp4YHVJHhKfsXlzUHVlzEAgea6ZayXFwkG4yU
 AbrEg+fCjIGeQOJAfW21NFR5GMrUwT6g/x2RhRVnMPtTlNoBoc4ZSOl6PuX2mZ7KvT9S
 RwmVnYWz8/xm/HskDNZrMKTJ+d28ziaOKxWyU=
X-Google-DKIM-Signature: v=1; a=rsa-sha256; c=relaxed/relaxed;
 d=1e100.net; s=20230601; t=1710867908; x=1711472708;
 h=references:in-reply-to:cc:to:from:subject:message-id:date
 :x-gm-message-state:from:to:cc:subject:date:message-id:reply-to;
 bh=tiLswmF7sZ0BdjwrZK4ERejAYdbORNuW1zcbpf3wSuY=;
 b=TfHTRFucextgk5pFV0y62NLe0femK4+RChrbwa1XMmzr0AoFkCvDIQzvBJQRgwOIeD
 W5WzPQOTGKas7V3hSr1frg6l414ElyR5b1Ml5J7wjVKg+QwrY/TbxT+oqXJExPHrVUpS
 rWcdT5KzEYnDVoqUlj+Ugxc4elSS9DtXBXHdtXdIiEagIhbWjXZFnd0JnENKF/Lx8bY5
 1dTj5mpX99JOZerm0xuW5HOu6BGRCLgCR+pEYvGANedLXqY87dTVDIbb969LX8fz0aDX
 s52qEPrUALwT5B5Deks4XfjHBeSNAct8VXpusOPAiJrfdjB5MqE8EX+gntOa/kqujp6R
 iPZg==
X-Gm-Message-State: AOJu0Yx6bvRGti8pkE5+qC15iPtqX/n5D595Hz0bMKCqPnUqfmAGYL9z
 c/Z8stvqyV8ZSEpOfILwzJNwFYjSf7VW8OO8HT2Jx11wDfhMKmVVu26AGEswxjNMVNpeStWTT9p
 U535zSb7Mmi0JCo7HNEt6WVbLyMXicXhiFMhpTygH3bpxDZeT/bHfvWsE
X-Google-Smtp-Source: AGHT+IHfcojGV3REpy+gbZpj9CIBDhXWL51BevDcS0v/xx0TvmWFxAzNPJ6NH3p8JOSBmMdzwoJdwqStGd4F
X-Received: by 2002:a05:6e02:1d86:b0:366:41b6:d7e1 with SMTP id
 h6-20020a056e021d8600b0036641b6d7e1mr5067216ila.4.1710867907812; 
 Tue, 19 Mar 2024 10:05:07 -0700 (PDT)
Received: from postal.iol.unh.edu (postal.iol.unh.edu.
 [2606:4100:3880:1234::84]) by smtp-relay.gmail.com with ESMTPS id
 h7-20020a02cd27000000b00476d08428ccsm470711jaq.20.2024.03.19.10.05.07
 (version=TLS1_2 cipher=ECDHE-ECDSA-AES128-GCM-SHA256 bits=128/128);
 Tue, 19 Mar 2024 10:05:07 -0700 (PDT)
X-Relaying-Domain: iol.unh.edu
Date: Tue, 19 Mar 2024 10:05:07 -0700 (PDT)
Message-ID: <65f9c5c3.020a0220.f3e23.ea9fSMTPIN_ADDED_MISSING@mx.google.com>
Received: from [172.21.0.6] (unknown [172.18.0.240])
 by postal.iol.unh.edu (Postfix) with ESMTP id 6C90A6052471;
 Tue, 19 Mar 2024 13:05:07 -0400 (EDT)
Subject: |SUCCESS| pw138484 [PATCH] net/ixgbe: using dpdk-dumpcap capture pac
From: dpdklab@iol.unh.edu
To: Test Report <test-report@dpdk.org>
Cc: dpdk-test-reports@iol.unh.edu
In-Reply-To: <1710865092-2796-1-git-send-email-junwang01@cestc.cn>
References: <1710865092-2796-1-git-send-email-junwang01@cestc.cn>
Content-Type: text/plain
X-BeenThere: test-report@dpdk.org
X-Mailman-Version: 2.1.29
Precedence: list
List-Id: automatic DPDK test reports <test-report.dpdk.org>
List-Unsubscribe: <https://mails.dpdk.org/options/test-report>,
 <mailto:test-report-request@dpdk.org?subject=unsubscribe>
List-Archive: <http://mails.dpdk.org/archives/test-report/>
List-Post: <mailto:test-report@dpdk.org>
List-Help: <mailto:test-report-request@dpdk.org?subject=help>
List-Subscribe: <https://mails.dpdk.org/listinfo/test-report>,
 <mailto:test-report-request@dpdk.org?subject=subscribe>
Errors-To: test-report-bounces@dpdk.org

Test-Label: iol-compile-amd64-testing
Test-Status: SUCCESS
http://dpdk.org/patch/138484

_Testing PASS_

Submitter: Jun Wang <junwang01@cestc.cn>
Date: Tuesday, March 19 2024 16:18:12 
DPDK git baseline: Repo:dpdk
  Branch: master
  CommitID:2c54ea7a59dfc0a819d3527309c62846fc8853af

138484 --> testing pass

Test environment and result as below:

+---------------------+--------------------+----------------------+
|     Environment     | dpdk_meson_compile | dpdk_mingw64_compile |
+=====================+====================+======================+
| FreeBSD 13.2        | PASS               | SKIPPED              |
+---------------------+--------------------+----------------------+
| Debian Bullseye     | PASS               | SKIPPED              |
+---------------------+--------------------+----------------------+
| Debian 11 (arm)     | PASS               | SKIPPED              |
+---------------------+--------------------+----------------------+
| CentOS Stream 8     | PASS               | SKIPPED              |
+---------------------+--------------------+----------------------+
| Fedora 37           | PASS               | SKIPPED              |
+---------------------+--------------------+----------------------+
| CentOS Stream 9     | PASS               | SKIPPED              |
+---------------------+--------------------+----------------------+
| Windows Server 2019 | PASS               | PASS                 |
+---------------------+--------------------+----------------------+
| Fedora 38           | PASS               | SKIPPED              |
+---------------------+--------------------+----------------------+
| openSUSE Leap 15    | PASS               | SKIPPED              |
+---------------------+--------------------+----------------------+
| Windows Server 2022 | PASS               | PASS                 |
+---------------------+--------------------+----------------------+
| RHEL8               | PASS               | SKIPPED              |
+---------------------+--------------------+----------------------+
| Alpine              | PASS               | SKIPPED              |
+---------------------+--------------------+----------------------+


FreeBSD 13.2
	Kernel: 13.2
	Compiler: clang 14.0.5

Debian Bullseye
	Kernel: 5.4.0-167-generic
	Compiler: gcc 10.2.1-6

Debian 11 (arm)
	Kernel: Container Host Kernel
	Compiler: gcc 10.2.1

CentOS Stream 8
	Kernel: 5.4.0-167-generic
	Compiler: gcc 8.5.0 20210514

Fedora 37
	Kernel: Depends on container host system
	Compiler: gcc 12.3.1

CentOS Stream 9
	Kernel: 5.4.0-167-generic
	Compiler: gcc 11.4.1 20230605

Windows Server 2019
	Kernel: 10.0.17763
	Compiler: clang 14.0 and gcc 8.1.0 (MinGW)

Fedora 38
	Kernel: Depends on container host
	Compiler: gcc 13.2.1

openSUSE Leap 15
	Kernel: 5.4.0-167-generic
	Compiler: gcc 7.5.0

Windows Server 2022
	Kernel: 10.0.20348.2031
	Compiler: clang 15.0.7, gcc 8.1.0 (MinGW), and MSVC VS 17.9

RHEL8
	Kernel: 5.4.0-167-generic
	Compiler: gcc 8.5.0 20210514 (Red Hat 8.5.0-20)

Alpine
	Kernel: 5.4.0-167-generic
	Compiler: gcc (Alpine 12.2.1_git20220924-r10) 12.2.1 20220924

To view detailed results, visit:
https://lab.dpdk.org/results/dashboard/patchsets/29597/

UNH-IOL DPDK Community Lab

To manage your email subscriptions, visit: 
https://lab.dpdk.org/results/dashboard/preferences/subscriptions/