From mboxrd@z Thu Jan  1 00:00:00 1970
Return-Path: <test-report-bounces@dpdk.org>
Received: from mails.dpdk.org (mails.dpdk.org [217.70.189.124])
	by inbox.dpdk.org (Postfix) with ESMTP id 77EC043CEC
	for <public@inbox.dpdk.org>; Tue, 19 Mar 2024 18:05:54 +0100 (CET)
Received: from mails.dpdk.org (localhost [127.0.0.1])
	by mails.dpdk.org (Postfix) with ESMTP id 74288402D5;
	Tue, 19 Mar 2024 18:05:54 +0100 (CET)
Received: from mail-oa1-f99.google.com (mail-oa1-f99.google.com
 [209.85.160.99]) by mails.dpdk.org (Postfix) with ESMTP id 2BB8340298
 for <test-report@dpdk.org>; Tue, 19 Mar 2024 18:05:53 +0100 (CET)
Received: by mail-oa1-f99.google.com with SMTP id
 586e51a60fabf-2226572ccf8so3486024fac.2
 for <test-report@dpdk.org>; Tue, 19 Mar 2024 10:05:53 -0700 (PDT)
DKIM-Signature: v=1; a=rsa-sha256; c=relaxed/relaxed;
 d=iol.unh.edu; s=unh-iol; t=1710867952; x=1711472752; darn=dpdk.org;
 h=references:in-reply-to:cc:to:from:subject:message-id:date:from:to
 :cc:subject:date:message-id:reply-to;
 bh=U6gwGB0KyoGCvbmwecg4dV5WNU6KafGjU+ccez/QYKU=;
 b=NPE2kFhkVnGaWJAUQNF/exv9xBfwJ2OHGVt9tEz0lyglbPVQ4CUT87mo3q0vhgZ7fI
 biWfT0cWeUFbz2gA3zjvSy4kKvCikhkT9v1h0KyATxcq5/q+AUwyoudQ0TxtdmMeDhrM
 pN3L6Gmq+ZrWPQTO6tYepM8ZbnI8e8A4rBPaw=
X-Google-DKIM-Signature: v=1; a=rsa-sha256; c=relaxed/relaxed;
 d=1e100.net; s=20230601; t=1710867952; x=1711472752;
 h=references:in-reply-to:cc:to:from:subject:message-id:date
 :x-gm-message-state:from:to:cc:subject:date:message-id:reply-to;
 bh=U6gwGB0KyoGCvbmwecg4dV5WNU6KafGjU+ccez/QYKU=;
 b=Cdhf2XdidYhS17ovu3TK1XH9pym9qbm6O9MVbr1HqdX6QQvocqNvI3vv09RPBLujxR
 v9GWKMdP2b1fNVGcS9V/9d8jIRhKVH3YTnk9xnN0U/EiSpFN5c5l1ZE8jVkAJhu7ZvNZ
 NM0LV7t9jZ8mXtZOI1HF/AnwtyWhtIENxvAUZYaeaIXpMpiLJVuyjME4nTFG/0aRcIxu
 xkgLGWL4ckp9vmP+V0BL7ysCsrSyCXT+i0RH/8wSvZ+Qkv0Kie3zM91eV0qmAyyt+Jsq
 KLZVNyCG3/IOpSYlP0L8s/uU5XM8EfOa5LKi/uDqIobgy1RrFBphPlPDpxvhXrvh3yIU
 zrtg==
X-Gm-Message-State: AOJu0Yz0pjgdUb/gaelpFwqyqKByYx/tqjmHXUAQ/Sv0H3Au651uragH
 joqYlVMMe2LEpY+2a/JCoRoa1pBXG/65Cp7vaSb6X+70xNZ7oJpQF1jiMMXU8LTmn4YzEXtWSGr
 CkPHv4Hb17COVGi+lg56xHR7UKnIXDgomKALvSj9OTkPPTuydWIJyaSaD
X-Google-Smtp-Source: AGHT+IGU1R/bTemCqTt7uQiSuQ4YLBXzCizdMgpTFUkl8pYYb/NxBtCfrLXSh/H44phWPyvESd68q7OqpXqm
X-Received: by 2002:a05:6870:3119:b0:21e:fc35:73ef with SMTP id
 v25-20020a056870311900b0021efc3573efmr17979595oaa.38.1710867952428; 
 Tue, 19 Mar 2024 10:05:52 -0700 (PDT)
Received: from postal.iol.unh.edu (postal.iol.unh.edu.
 [2606:4100:3880:1234::84]) by smtp-relay.gmail.com with ESMTPS id
 n17-20020a056638211100b004744f568a11sm458791jaj.64.2024.03.19.10.05.52
 (version=TLS1_2 cipher=ECDHE-ECDSA-AES128-GCM-SHA256 bits=128/128);
 Tue, 19 Mar 2024 10:05:52 -0700 (PDT)
X-Relaying-Domain: iol.unh.edu
Date: Tue, 19 Mar 2024 10:05:52 -0700 (PDT)
Message-ID: <65f9c5f0.050a0220.ca35a.f303SMTPIN_ADDED_MISSING@mx.google.com>
Received: from [172.21.0.6] (unknown [172.18.0.240])
 by postal.iol.unh.edu (Postfix) with ESMTP id ED6086052471;
 Tue, 19 Mar 2024 13:05:51 -0400 (EDT)
Subject: |SUCCESS| pw138484 [PATCH] net/ixgbe: using dpdk-dumpcap capture pac
From: dpdklab@iol.unh.edu
To: Test Report <test-report@dpdk.org>
Cc: dpdk-test-reports@iol.unh.edu
In-Reply-To: <1710865092-2796-1-git-send-email-junwang01@cestc.cn>
References: <1710865092-2796-1-git-send-email-junwang01@cestc.cn>
Content-Type: text/plain
X-BeenThere: test-report@dpdk.org
X-Mailman-Version: 2.1.29
Precedence: list
List-Id: automatic DPDK test reports <test-report.dpdk.org>
List-Unsubscribe: <https://mails.dpdk.org/options/test-report>,
 <mailto:test-report-request@dpdk.org?subject=unsubscribe>
List-Archive: <http://mails.dpdk.org/archives/test-report/>
List-Post: <mailto:test-report@dpdk.org>
List-Help: <mailto:test-report-request@dpdk.org?subject=help>
List-Subscribe: <https://mails.dpdk.org/listinfo/test-report>,
 <mailto:test-report-request@dpdk.org?subject=subscribe>
Errors-To: test-report-bounces@dpdk.org

Test-Label: iol-compile-arm64-testing
Test-Status: SUCCESS
http://dpdk.org/patch/138484

_Testing PASS_

Submitter: Jun Wang <junwang01@cestc.cn>
Date: Tuesday, March 19 2024 16:18:12 
DPDK git baseline: Repo:dpdk
  Branch: master
  CommitID:2c54ea7a59dfc0a819d3527309c62846fc8853af

138484 --> testing pass

Test environment and result as below:

+----------------------------------------+--------------------+
|              Environment               | dpdk_meson_compile |
+========================================+====================+
| Ubuntu 20.04 ARM SVE                   | PASS               |
+----------------------------------------+--------------------+
| Debian 12 with MUSDK                   | PASS               |
+----------------------------------------+--------------------+
| Fedora 37 (ARM)                        | PASS               |
+----------------------------------------+--------------------+
| Debian 11 (Buster) (ARM)               | PASS               |
+----------------------------------------+--------------------+
| Ubuntu 20.04 (ARM)                     | PASS               |
+----------------------------------------+--------------------+
| Fedora 38 (ARM)                        | PASS               |
+----------------------------------------+--------------------+
| CentOS Stream 9 (ARM)                  | PASS               |
+----------------------------------------+--------------------+
| Debian 12 (arm)                        | PASS               |
+----------------------------------------+--------------------+
| Ubuntu 20.04 aarch32 GCC Cross Compile | PASS               |
+----------------------------------------+--------------------+


Ubuntu 20.04 ARM SVE
	Kernel: 5.4.0-167-generic
	Compiler: gcc (Ubuntu 10.5.0-1ubuntu1~20.04) 10.5.0

Debian 12 with MUSDK
	Kernel: Container Host Kernel
	Compiler: gcc 12.2.0

Fedora 37 (ARM)
	Kernel: Depends on container host
	Compiler: gcc 12.3.1

Debian 11 (Buster) (ARM)
	Kernel: Container Host Kernel
	Compiler: gcc 10.2.1

Ubuntu 20.04 (ARM)
	Kernel: Container Host Kernel
	Compiler: gcc 9.4.0

Fedora 38 (ARM)
	Kernel: Depends on container host
	Compiler: gcc 13.2.1

CentOS Stream 9 (ARM)
	Kernel: Container Host Kernel
	Compiler: gcc 11.4.1

Debian 12 (arm)
	Kernel: Container Host Kernel
	Compiler: gcc 11

Ubuntu 20.04 aarch32 GCC Cross Compile
	Kernel: 5.4.0-167-generic
	Compiler: gcc 9.4.0

To view detailed results, visit:
https://lab.dpdk.org/results/dashboard/patchsets/29597/

UNH-IOL DPDK Community Lab

To manage your email subscriptions, visit: 
https://lab.dpdk.org/results/dashboard/preferences/subscriptions/