From mboxrd@z Thu Jan  1 00:00:00 1970
Return-Path: <test-report-bounces@dpdk.org>
Received: from mails.dpdk.org (mails.dpdk.org [217.70.189.124])
	by inbox.dpdk.org (Postfix) with ESMTP id 0922C43CEC
	for <public@inbox.dpdk.org>; Tue, 19 Mar 2024 18:14:36 +0100 (CET)
Received: from mails.dpdk.org (localhost [127.0.0.1])
	by mails.dpdk.org (Postfix) with ESMTP id 009AA402D5;
	Tue, 19 Mar 2024 18:14:36 +0100 (CET)
Received: from mail-io1-f100.google.com (mail-io1-f100.google.com
 [209.85.166.100])
 by mails.dpdk.org (Postfix) with ESMTP id A19D340298
 for <test-report@dpdk.org>; Tue, 19 Mar 2024 18:14:26 +0100 (CET)
Received: by mail-io1-f100.google.com with SMTP id
 ca18e2360f4ac-7cf092f6bb7so22325539f.3
 for <test-report@dpdk.org>; Tue, 19 Mar 2024 10:14:26 -0700 (PDT)
DKIM-Signature: v=1; a=rsa-sha256; c=relaxed/relaxed;
 d=iol.unh.edu; s=unh-iol; t=1710868466; x=1711473266; darn=dpdk.org;
 h=references:in-reply-to:cc:to:from:subject:message-id:date:from:to
 :cc:subject:date:message-id:reply-to;
 bh=xswM1DkDkx/mRsBg3VATk9zI2iuLuwYz7S/ubs8bwKA=;
 b=jeBYWYqgQDPTABkaX/oM/N0t89++teOkhyGgH/MR/yC/B0NJoQy6wBBn16cQZyGz2k
 jDU4tH9sHI0WjDoU/1b6sc+Xg4xErs72rCkSRymtEdj9564RL8gXZMJ0dyNEAsSZnPh3
 lowWQQcGmH9KNsRhhRipcPxogQNJXhR/h9r9c=
X-Google-DKIM-Signature: v=1; a=rsa-sha256; c=relaxed/relaxed;
 d=1e100.net; s=20230601; t=1710868466; x=1711473266;
 h=references:in-reply-to:cc:to:from:subject:message-id:date
 :x-gm-message-state:from:to:cc:subject:date:message-id:reply-to;
 bh=xswM1DkDkx/mRsBg3VATk9zI2iuLuwYz7S/ubs8bwKA=;
 b=MnTQPakCGazEvvMvD/rXYpxWVzQoGRWLYOOmlSBGIMFSADlD7t90dF39ILdWO2ty35
 HUBXLoEHlSyfVfD+m7bR7oT0s32ZE5vizBIeRjjf4/SnE50Pj1cyeum7HsKlMRm6YHeV
 HDEYO11BmzBPpm5ZR7AyRenFueEQo/rzV+y/nfBbDfvqeX1QqJpGaDgBL7lXmFBo3MHi
 8OLmBhgKbZG/9l1u0anUPlycm7RURVF5ZSGaFhRpsed+oqoq4aAM4g9pE873DBnxe4WX
 4w9iF94ZQiiR7bOMcDw3zaa1JgULbVfSRYxyldLvy+oEs8CwUnBJSiaiaqI4P5Lp2lA3
 8ApA==
X-Gm-Message-State: AOJu0YyDyiL2S8AIe3qRLaJP43qNvpicxiCUBtvnP6xYyNZltahLB98X
 8Su3TAgMoFkoPJV3sl9YZO4/vnKtjR1CqCL1MaxDV98IBhjrSeaVDwBWoNDTNYhbEUw3Nkpksj4
 Msfux3kBWsD/vAGc8/p7j+GkuPXJACHrHPOJ3XPEF3Kydyh6uuwxGaXMJ
X-Google-Smtp-Source: AGHT+IEj3WMOD9l7pSQrIM+rDCR6tMuKEbXpTIeckXMLIb7KfiXZax4a2vcM83WZWBLnrmPdNffwmRO2Ndqa
X-Received: by 2002:a05:6e02:104c:b0:368:4805:b8cb with SMTP id
 p12-20020a056e02104c00b003684805b8cbmr2875435ilj.18.1710868465954; 
 Tue, 19 Mar 2024 10:14:25 -0700 (PDT)
Received: from postal.iol.unh.edu (postal.iol.unh.edu.
 [2606:4100:3880:1234::84]) by smtp-relay.gmail.com with ESMTPS id
 t7-20020a056638204700b00474f8b9b925sm401440jaj.54.2024.03.19.10.14.25
 (version=TLS1_2 cipher=ECDHE-ECDSA-AES128-GCM-SHA256 bits=128/128);
 Tue, 19 Mar 2024 10:14:25 -0700 (PDT)
X-Relaying-Domain: iol.unh.edu
Date: Tue, 19 Mar 2024 10:14:25 -0700 (PDT)
Message-ID: <65f9c7f1.050a0220.55fd7.a561SMTPIN_ADDED_MISSING@mx.google.com>
Received: from [172.21.0.6] (unknown [172.18.0.240])
 by postal.iol.unh.edu (Postfix) with ESMTP id 787CC6052471;
 Tue, 19 Mar 2024 13:14:25 -0400 (EDT)
Subject: |SUCCESS| pw138484 [PATCH] net/ixgbe: using dpdk-dumpcap capture pac
From: dpdklab@iol.unh.edu
To: Test Report <test-report@dpdk.org>
Cc: dpdk-test-reports@iol.unh.edu
In-Reply-To: <1710865092-2796-1-git-send-email-junwang01@cestc.cn>
References: <1710865092-2796-1-git-send-email-junwang01@cestc.cn>
Content-Type: text/plain
X-BeenThere: test-report@dpdk.org
X-Mailman-Version: 2.1.29
Precedence: list
List-Id: automatic DPDK test reports <test-report.dpdk.org>
List-Unsubscribe: <https://mails.dpdk.org/options/test-report>,
 <mailto:test-report-request@dpdk.org?subject=unsubscribe>
List-Archive: <http://mails.dpdk.org/archives/test-report/>
List-Post: <mailto:test-report@dpdk.org>
List-Help: <mailto:test-report-request@dpdk.org?subject=help>
List-Subscribe: <https://mails.dpdk.org/listinfo/test-report>,
 <mailto:test-report-request@dpdk.org?subject=subscribe>
Errors-To: test-report-bounces@dpdk.org

Test-Label: iol-unit-arm64-testing
Test-Status: SUCCESS
http://dpdk.org/patch/138484

_Testing PASS_

Submitter: Jun Wang <junwang01@cestc.cn>
Date: Tuesday, March 19 2024 16:18:12 
DPDK git baseline: Repo:dpdk
  Branch: master
  CommitID:2c54ea7a59dfc0a819d3527309c62846fc8853af

138484 --> testing pass

Test environment and result as below:

+--------------------------+----------------+---------------------------+------------------------------+
|       Environment        | dpdk_unit_test | cryptodev_sw_zuc_autotest | cryptodev_sw_snow3g_autotest |
+==========================+================+===========================+==============================+
| Debian 12 (arm)          | PASS           | PASS                      | PASS                         |
+--------------------------+----------------+---------------------------+------------------------------+
| Fedora 38 (ARM)          | PASS           | SKIPPED                   | SKIPPED                      |
+--------------------------+----------------+---------------------------+------------------------------+
| Debian 11 (Buster) (ARM) | PASS           | SKIPPED                   | SKIPPED                      |
+--------------------------+----------------+---------------------------+------------------------------+
| Fedora 37 (ARM)          | PASS           | SKIPPED                   | SKIPPED                      |
+--------------------------+----------------+---------------------------+------------------------------+
| Ubuntu 20.04 (ARM)       | PASS           | SKIPPED                   | SKIPPED                      |
+--------------------------+----------------+---------------------------+------------------------------+


Debian 12 (arm)
	Kernel: Container Host Kernel
	Compiler: gcc 11

Fedora 38 (ARM)
	Kernel: Depends on container host
	Compiler: gcc 13.2.1

Debian 11 (Buster) (ARM)
	Kernel: Container Host Kernel
	Compiler: gcc 10.2.1

Fedora 37 (ARM)
	Kernel: Depends on container host
	Compiler: gcc 12.3.1

Ubuntu 20.04 (ARM)
	Kernel: Container Host Kernel
	Compiler: gcc 9.4.0

To view detailed results, visit:
https://lab.dpdk.org/results/dashboard/patchsets/29597/

UNH-IOL DPDK Community Lab

To manage your email subscriptions, visit: 
https://lab.dpdk.org/results/dashboard/preferences/subscriptions/