From mboxrd@z Thu Jan  1 00:00:00 1970
Return-Path: <test-report-bounces@dpdk.org>
Received: from mails.dpdk.org (mails.dpdk.org [217.70.189.124])
	by inbox.dpdk.org (Postfix) with ESMTP id 4A7EE43CEC
	for <public@inbox.dpdk.org>; Tue, 19 Mar 2024 18:15:05 +0100 (CET)
Received: from mails.dpdk.org (localhost [127.0.0.1])
	by mails.dpdk.org (Postfix) with ESMTP id 3C053402D5;
	Tue, 19 Mar 2024 18:15:05 +0100 (CET)
Received: from mail-pf1-f228.google.com (mail-pf1-f228.google.com
 [209.85.210.228])
 by mails.dpdk.org (Postfix) with ESMTP id 9EC4940298
 for <test-report@dpdk.org>; Tue, 19 Mar 2024 18:15:03 +0100 (CET)
Received: by mail-pf1-f228.google.com with SMTP id
 d2e1a72fcca58-6e74bd85f26so494340b3a.1
 for <test-report@dpdk.org>; Tue, 19 Mar 2024 10:15:03 -0700 (PDT)
DKIM-Signature: v=1; a=rsa-sha256; c=relaxed/relaxed;
 d=iol.unh.edu; s=unh-iol; t=1710868503; x=1711473303; darn=dpdk.org;
 h=references:in-reply-to:cc:to:from:subject:message-id:date:from:to
 :cc:subject:date:message-id:reply-to;
 bh=xswM1DkDkx/mRsBg3VATk9zI2iuLuwYz7S/ubs8bwKA=;
 b=Kh3vTcj2O9JCFeoPH1jUBKs3OBWZss4avZigea15Rs9RT5/uWzXifbld5X6nsuYvvL
 AcDDhcPfHCSy9O1I/lcqTQEXnpc87ID6cZYIN/qvfjbbNk0q+BtBO75sgxLl1DCgOUCw
 BfSM/AtnMMcRWzB903yRmz4SC5kydD6AoKrQQ=
X-Google-DKIM-Signature: v=1; a=rsa-sha256; c=relaxed/relaxed;
 d=1e100.net; s=20230601; t=1710868503; x=1711473303;
 h=references:in-reply-to:cc:to:from:subject:message-id:date
 :x-gm-message-state:from:to:cc:subject:date:message-id:reply-to;
 bh=xswM1DkDkx/mRsBg3VATk9zI2iuLuwYz7S/ubs8bwKA=;
 b=cfjhissEWwJJYalCuhl2O5gLljRiBnYG3zl6EsrRPateCV1gN5TJ+gU6/2upcrk8Mw
 v8NAbABenohNTv6HInptfl52rmMyCh2hFV9LOyrZW4aXXPmwvk603RWEzd94NTrOc9Is
 axBR2kR8fRTaJz7gbhIPe07I1ILooQWjQp9W0m3S9LSUuoEXPIo22gkr8GlRagkXrEeO
 M+Lgb37U3BHm/qzStEOtSGb8koJP53cWh77TP2ZZjMOw99x65lXH4sMBoA97B6tg3LO/
 hE+vW57dgq4xQvyOe4T7x2Dg/L5QW1uU2JIWjTaMkEfdHIKioiHNmjB4Et8aEWx+DGBV
 R0RA==
X-Gm-Message-State: AOJu0Yy7TYUNIGEsjx8cJUfw3BZO0HbI+l2zHsUEGMJEii8nMX+ygx/O
 tYmWGfP3HvDRwLwhanZfEZjeTiTrdQ1Qw+SwHeH5OdOixQjks+XnjRmZlFpZYkHVx+oId0rIHlx
 Uf0xo5QOjnKrHlwce06l08r2P7fIU463vNaLLIbcr
X-Google-Smtp-Source: AGHT+IF/2ZwRLlecUucWjLuBTgULMAq8ywzz1ge6KTbTQp31K0hXV+9Wx/V5y2XmStI11A30Opc2rxRjgiIH
X-Received: by 2002:a05:6a20:ce4b:b0:1a3:720b:7bb3 with SMTP id
 id11-20020a056a20ce4b00b001a3720b7bb3mr2576222pzb.55.1710868502814; 
 Tue, 19 Mar 2024 10:15:02 -0700 (PDT)
Received: from postal.iol.unh.edu (postal.iol.unh.edu. [132.177.123.84])
 by smtp-relay.gmail.com with ESMTPS id
 lo15-20020a056a003d0f00b006e736e71535sm176337pfb.27.2024.03.19.10.15.02
 (version=TLS1_2 cipher=ECDHE-ECDSA-AES128-GCM-SHA256 bits=128/128);
 Tue, 19 Mar 2024 10:15:02 -0700 (PDT)
X-Relaying-Domain: iol.unh.edu
Date: Tue, 19 Mar 2024 10:15:02 -0700 (PDT)
Message-ID: <65f9c816.050a0220.cc3ae.bf6cSMTPIN_ADDED_MISSING@mx.google.com>
Received: from [172.21.0.6] (unknown [172.18.0.240])
 by postal.iol.unh.edu (Postfix) with ESMTP id F20EB6052471;
 Tue, 19 Mar 2024 13:15:01 -0400 (EDT)
Subject: |SUCCESS| pw138484 [PATCH] net/ixgbe: using dpdk-dumpcap capture pac
From: dpdklab@iol.unh.edu
To: Test Report <test-report@dpdk.org>
Cc: dpdk-test-reports@iol.unh.edu
In-Reply-To: <1710865092-2796-1-git-send-email-junwang01@cestc.cn>
References: <1710865092-2796-1-git-send-email-junwang01@cestc.cn>
Content-Type: text/plain
X-BeenThere: test-report@dpdk.org
X-Mailman-Version: 2.1.29
Precedence: list
List-Id: automatic DPDK test reports <test-report.dpdk.org>
List-Unsubscribe: <https://mails.dpdk.org/options/test-report>,
 <mailto:test-report-request@dpdk.org?subject=unsubscribe>
List-Archive: <http://mails.dpdk.org/archives/test-report/>
List-Post: <mailto:test-report@dpdk.org>
List-Help: <mailto:test-report-request@dpdk.org?subject=help>
List-Subscribe: <https://mails.dpdk.org/listinfo/test-report>,
 <mailto:test-report-request@dpdk.org?subject=subscribe>
Errors-To: test-report-bounces@dpdk.org

Test-Label: iol-unit-arm64-testing
Test-Status: SUCCESS
http://dpdk.org/patch/138484

_Testing PASS_

Submitter: Jun Wang <junwang01@cestc.cn>
Date: Tuesday, March 19 2024 16:18:12 
DPDK git baseline: Repo:dpdk
  Branch: master
  CommitID:2c54ea7a59dfc0a819d3527309c62846fc8853af

138484 --> testing pass

Test environment and result as below:

+--------------------------+----------------+---------------------------+------------------------------+
|       Environment        | dpdk_unit_test | cryptodev_sw_zuc_autotest | cryptodev_sw_snow3g_autotest |
+==========================+================+===========================+==============================+
| Debian 12 (arm)          | PASS           | PASS                      | PASS                         |
+--------------------------+----------------+---------------------------+------------------------------+
| Fedora 38 (ARM)          | PASS           | SKIPPED                   | SKIPPED                      |
+--------------------------+----------------+---------------------------+------------------------------+
| Debian 11 (Buster) (ARM) | PASS           | SKIPPED                   | SKIPPED                      |
+--------------------------+----------------+---------------------------+------------------------------+
| Fedora 37 (ARM)          | PASS           | SKIPPED                   | SKIPPED                      |
+--------------------------+----------------+---------------------------+------------------------------+
| Ubuntu 20.04 (ARM)       | PASS           | SKIPPED                   | SKIPPED                      |
+--------------------------+----------------+---------------------------+------------------------------+


Debian 12 (arm)
	Kernel: Container Host Kernel
	Compiler: gcc 11

Fedora 38 (ARM)
	Kernel: Depends on container host
	Compiler: gcc 13.2.1

Debian 11 (Buster) (ARM)
	Kernel: Container Host Kernel
	Compiler: gcc 10.2.1

Fedora 37 (ARM)
	Kernel: Depends on container host
	Compiler: gcc 12.3.1

Ubuntu 20.04 (ARM)
	Kernel: Container Host Kernel
	Compiler: gcc 9.4.0

To view detailed results, visit:
https://lab.dpdk.org/results/dashboard/patchsets/29597/

UNH-IOL DPDK Community Lab

To manage your email subscriptions, visit: 
https://lab.dpdk.org/results/dashboard/preferences/subscriptions/