From mboxrd@z Thu Jan  1 00:00:00 1970
Return-Path: <test-report-bounces@dpdk.org>
Received: from mails.dpdk.org (mails.dpdk.org [217.70.189.124])
	by inbox.dpdk.org (Postfix) with ESMTP id 85E1743CEC
	for <public@inbox.dpdk.org>; Tue, 19 Mar 2024 18:15:14 +0100 (CET)
Received: from mails.dpdk.org (localhost [127.0.0.1])
	by mails.dpdk.org (Postfix) with ESMTP id 788F940E96;
	Tue, 19 Mar 2024 18:15:14 +0100 (CET)
Received: from mail-io1-f97.google.com (mail-io1-f97.google.com
 [209.85.166.97]) by mails.dpdk.org (Postfix) with ESMTP id 4CA7240298
 for <test-report@dpdk.org>; Tue, 19 Mar 2024 18:15:09 +0100 (CET)
Received: by mail-io1-f97.google.com with SMTP id
 ca18e2360f4ac-7c8bb44622eso92421539f.0
 for <test-report@dpdk.org>; Tue, 19 Mar 2024 10:15:09 -0700 (PDT)
DKIM-Signature: v=1; a=rsa-sha256; c=relaxed/relaxed;
 d=iol.unh.edu; s=unh-iol; t=1710868508; x=1711473308; darn=dpdk.org;
 h=references:in-reply-to:cc:to:from:subject:message-id:date:from:to
 :cc:subject:date:message-id:reply-to;
 bh=U6gwGB0KyoGCvbmwecg4dV5WNU6KafGjU+ccez/QYKU=;
 b=ak2cAg3Llrma2t2+MCBv2uAnZK0eT3uRx1S2hUREVJ6gf4Iyri1rVFeqF7lDAxUWNu
 iqjYAixVQ0taOEsYhTAtsi8lc0MiSmlRgcxn7EyYvNxfTDsucFb1EFo0jjmXbUGEtnG5
 c6O1UXrEtgIA8eMNlPxDc+ztxW2NNsKjZQodE=
X-Google-DKIM-Signature: v=1; a=rsa-sha256; c=relaxed/relaxed;
 d=1e100.net; s=20230601; t=1710868508; x=1711473308;
 h=references:in-reply-to:cc:to:from:subject:message-id:date
 :x-gm-message-state:from:to:cc:subject:date:message-id:reply-to;
 bh=U6gwGB0KyoGCvbmwecg4dV5WNU6KafGjU+ccez/QYKU=;
 b=v7uPl51aZRjBJBfmrk657QJlpttfs8jGKuOW4+/nAKOFViKe2uauvTUJXWPHn5GPfY
 W7Ly5nScIGTHwrEm8y90mgrUgEuVoIdoKTeVpE+NZpSql6Bz8TdOL+5EYJFNbMW4KSyj
 2QTTLSksD31MjORe2Wvm4AEa4ssBJM7Lt/CleoJ2bBxCGwn5HgOsMz/FY48AXrCtal74
 Pl8iPV4jMazgslVqBTxReghdk46EX/ClOgz9HPUMzjcMSdMAoM0JWc3p9TpnG2Jr2ZHN
 K7Z0jNrAuA+v6BliEi58iTLish30bsJ7zMvi+/ct9bsfNmsNsRwct08lOQOIVdCwq0il
 wkTg==
X-Gm-Message-State: AOJu0YzElu782Iz5UUsQHCEMldMu2wqynn7CESheu3WbLs1yHL0oqpAF
 YuvXG34QGRaXdJNfEe6LXwrUdGTDpFvGeubPnAC4VRsTbLI67FxyM1UgBPyuC2BL6QKDVCkkpUy
 l+sP+pcD+Sd+WbJFddP/WUHkbfD8qGAHUwbRDI469i/7F12ofQhxmIlIL
X-Google-Smtp-Source: AGHT+IGx1MeZRLMZnOSyzfXlOf8MwMMh5X/k1x/5h8Y0SttxFW71Jed9UKpEHfMD4Z/m9vr313CoU6lr0o/7
X-Received: by 2002:a05:6e02:c66:b0:366:2ce0:cdfb with SMTP id
 f6-20020a056e020c6600b003662ce0cdfbmr14893131ilj.25.1710868508740; 
 Tue, 19 Mar 2024 10:15:08 -0700 (PDT)
Received: from postal.iol.unh.edu (postal.iol.unh.edu.
 [2606:4100:3880:1234::84]) by smtp-relay.gmail.com with ESMTPS id
 c16-20020a92b750000000b00366b043ea4asm440631ilm.17.2024.03.19.10.15.08
 (version=TLS1_2 cipher=ECDHE-ECDSA-AES128-GCM-SHA256 bits=128/128);
 Tue, 19 Mar 2024 10:15:08 -0700 (PDT)
X-Relaying-Domain: iol.unh.edu
Date: Tue, 19 Mar 2024 10:15:08 -0700 (PDT)
Message-ID: <65f9c81c.920a0220.f2471.c398SMTPIN_ADDED_MISSING@mx.google.com>
Received: from [172.21.0.8] (unknown [172.18.0.240])
 by postal.iol.unh.edu (Postfix) with ESMTP id 4354C6052471;
 Tue, 19 Mar 2024 13:15:08 -0400 (EDT)
Subject: |SUCCESS| pw138484 [PATCH] net/ixgbe: using dpdk-dumpcap capture pac
From: dpdklab@iol.unh.edu
To: Test Report <test-report@dpdk.org>
Cc: dpdk-test-reports@iol.unh.edu
In-Reply-To: <1710865092-2796-1-git-send-email-junwang01@cestc.cn>
References: <1710865092-2796-1-git-send-email-junwang01@cestc.cn>
Content-Type: text/plain
X-BeenThere: test-report@dpdk.org
X-Mailman-Version: 2.1.29
Precedence: list
List-Id: automatic DPDK test reports <test-report.dpdk.org>
List-Unsubscribe: <https://mails.dpdk.org/options/test-report>,
 <mailto:test-report-request@dpdk.org?subject=unsubscribe>
List-Archive: <http://mails.dpdk.org/archives/test-report/>
List-Post: <mailto:test-report@dpdk.org>
List-Help: <mailto:test-report-request@dpdk.org?subject=help>
List-Subscribe: <https://mails.dpdk.org/listinfo/test-report>,
 <mailto:test-report-request@dpdk.org?subject=subscribe>
Errors-To: test-report-bounces@dpdk.org

Test-Label: iol-compile-arm64-testing
Test-Status: SUCCESS
http://dpdk.org/patch/138484

_Testing PASS_

Submitter: Jun Wang <junwang01@cestc.cn>
Date: Tuesday, March 19 2024 16:18:12 
DPDK git baseline: Repo:dpdk
  Branch: master
  CommitID:2c54ea7a59dfc0a819d3527309c62846fc8853af

138484 --> testing pass

Test environment and result as below:

+----------------------------------------+--------------------+
|              Environment               | dpdk_meson_compile |
+========================================+====================+
| Ubuntu 20.04 ARM SVE                   | PASS               |
+----------------------------------------+--------------------+
| Debian 12 with MUSDK                   | PASS               |
+----------------------------------------+--------------------+
| Fedora 37 (ARM)                        | PASS               |
+----------------------------------------+--------------------+
| Debian 11 (Buster) (ARM)               | PASS               |
+----------------------------------------+--------------------+
| Ubuntu 20.04 (ARM)                     | PASS               |
+----------------------------------------+--------------------+
| Fedora 38 (ARM)                        | PASS               |
+----------------------------------------+--------------------+
| CentOS Stream 9 (ARM)                  | PASS               |
+----------------------------------------+--------------------+
| Debian 12 (arm)                        | PASS               |
+----------------------------------------+--------------------+
| Ubuntu 20.04 aarch32 GCC Cross Compile | PASS               |
+----------------------------------------+--------------------+


Ubuntu 20.04 ARM SVE
	Kernel: 5.4.0-167-generic
	Compiler: gcc (Ubuntu 10.5.0-1ubuntu1~20.04) 10.5.0

Debian 12 with MUSDK
	Kernel: Container Host Kernel
	Compiler: gcc 12.2.0

Fedora 37 (ARM)
	Kernel: Depends on container host
	Compiler: gcc 12.3.1

Debian 11 (Buster) (ARM)
	Kernel: Container Host Kernel
	Compiler: gcc 10.2.1

Ubuntu 20.04 (ARM)
	Kernel: Container Host Kernel
	Compiler: gcc 9.4.0

Fedora 38 (ARM)
	Kernel: Depends on container host
	Compiler: gcc 13.2.1

CentOS Stream 9 (ARM)
	Kernel: Container Host Kernel
	Compiler: gcc 11.4.1

Debian 12 (arm)
	Kernel: Container Host Kernel
	Compiler: gcc 11

Ubuntu 20.04 aarch32 GCC Cross Compile
	Kernel: 5.4.0-167-generic
	Compiler: gcc 9.4.0

To view detailed results, visit:
https://lab.dpdk.org/results/dashboard/patchsets/29597/

UNH-IOL DPDK Community Lab

To manage your email subscriptions, visit: 
https://lab.dpdk.org/results/dashboard/preferences/subscriptions/