From mboxrd@z Thu Jan  1 00:00:00 1970
Return-Path: <test-report-bounces@dpdk.org>
Received: from mails.dpdk.org (mails.dpdk.org [217.70.189.124])
	by inbox.dpdk.org (Postfix) with ESMTP id BB8B243CFF
	for <public@inbox.dpdk.org>; Wed, 20 Mar 2024 12:46:17 +0100 (CET)
Received: from mails.dpdk.org (localhost [127.0.0.1])
	by mails.dpdk.org (Postfix) with ESMTP id B450E402B9;
	Wed, 20 Mar 2024 12:46:17 +0100 (CET)
Received: from mail-vk1-f227.google.com (mail-vk1-f227.google.com
 [209.85.221.227])
 by mails.dpdk.org (Postfix) with ESMTP id A8C8C402A2
 for <test-report@dpdk.org>; Wed, 20 Mar 2024 12:46:16 +0100 (CET)
Received: by mail-vk1-f227.google.com with SMTP id
 71dfb90a1353d-4d44fb48077so1312438e0c.0
 for <test-report@dpdk.org>; Wed, 20 Mar 2024 04:46:16 -0700 (PDT)
DKIM-Signature: v=1; a=rsa-sha256; c=relaxed/relaxed;
 d=iol.unh.edu; s=unh-iol; t=1710935176; x=1711539976; darn=dpdk.org;
 h=references:in-reply-to:cc:to:from:subject:message-id:date:from:to
 :cc:subject:date:message-id:reply-to;
 bh=pxBgZWW7x+rOZzoI2Bdwp0HPLoZTpVPONFQ1ti9Esrw=;
 b=I12ZHZ4tENcKY88MAiddz5lEBV7lfB7VoUON7oPegJ/8E5dYn0n8tDrTKzGiEDpFs9
 +gFhX9Sgq353BLJLnN8wd3AmnDuqrZ4jLRTI+vZMC+aywbuCB1HYQKhCpUz3Rb/BuSAW
 6czymS+aWXuddKLjXF1JEbOgVwhgprP+EMDZg=
X-Google-DKIM-Signature: v=1; a=rsa-sha256; c=relaxed/relaxed;
 d=1e100.net; s=20230601; t=1710935176; x=1711539976;
 h=references:in-reply-to:cc:to:from:subject:message-id:date
 :x-gm-message-state:from:to:cc:subject:date:message-id:reply-to;
 bh=pxBgZWW7x+rOZzoI2Bdwp0HPLoZTpVPONFQ1ti9Esrw=;
 b=gq2O2Z7kAPG4TfzrVULTRNyji3c4vIJF3O03moVpvCpfLlKD+joAxzNRJroYwO+7KO
 zDyUzgJbi2kvI7U2hiNUS5vlHyL5X5/Kd5+Jx9Za2KQ+XmF3rR4wPvPCViVBSBxmSd+e
 UUPZ3HO6Umctb44Y3rZczYWKM9TQ2sA0rcKgvwUvWnDZYnVCYbJ1VFvZAjCvQUhQleY5
 wJpXryNj1OlLI3MRTwJCqonAwkV/FIjFKCjm5sWhSwqFwXwatZ4EaT2d2IX6qY69WA4d
 uSOWtFfIGZay9+wwKuIs2Aj6Ldoiz47t9yQmi6KraluUQL2Nzog2Y3tJuBU4c7e5Tg1o
 mMUw==
X-Gm-Message-State: AOJu0YwX4Mjl7+XUt5Sqxoif7HOpinbJEOoEg7p2v78nJWdiD2lL9F7W
 ke2v7nWf5nCEJEQAhbJiLPhzmtwSVSvHBewieQEkuvD0S4NCS4QFjM3g8kWn9Loi7XssmqQ8Fgo
 9Ou7CpfIXGn0Usukj1pqsSQ2UGQCM1329q6fZLlgR
X-Google-Smtp-Source: AGHT+IGmt7OCf7vbaIGuXm3ep3BRV//7MqqfEL0dT+t+y1X1ugAfYb0Yv2ofrGXYOcYFoIermuZ6Mdd6kL8w
X-Received: by 2002:a1f:f401:0:b0:4d3:3446:6bcb with SMTP id
 s1-20020a1ff401000000b004d334466bcbmr4064321vkh.16.1710935175232; 
 Wed, 20 Mar 2024 04:46:15 -0700 (PDT)
Received: from postal.iol.unh.edu (postal.iol.unh.edu. [132.177.123.84])
 by smtp-relay.gmail.com with ESMTPS id
 cp7-20020a056122430700b004c0255a7384sm568866vkb.1.2024.03.20.04.46.15
 (version=TLS1_2 cipher=ECDHE-ECDSA-AES128-GCM-SHA256 bits=128/128);
 Wed, 20 Mar 2024 04:46:15 -0700 (PDT)
X-Relaying-Domain: iol.unh.edu
Date: Wed, 20 Mar 2024 04:46:15 -0700 (PDT)
Message-ID: <65facc87.050a0220.13c20.f723SMTPIN_ADDED_MISSING@mx.google.com>
Received: from [172.17.0.8] (unknown [172.18.0.217])
 by postal.iol.unh.edu (Postfix) with ESMTP id D42846052471;
 Wed, 20 Mar 2024 07:46:14 -0400 (EDT)
Subject: |SUCCESS| pw138489-138488 [PATCH] [2/2] examples/l3fwd-power: add PM
From: dpdklab@iol.unh.edu
To: Test Report <test-report@dpdk.org>
Cc: dpdk-test-reports@iol.unh.edu
In-Reply-To: <20240320105529.5626-3-lihuisong@huawei.com>
References: <20240320105529.5626-3-lihuisong@huawei.com>
Content-Type: text/plain
X-BeenThere: test-report@dpdk.org
X-Mailman-Version: 2.1.29
Precedence: list
List-Id: automatic DPDK test reports <test-report.dpdk.org>
List-Unsubscribe: <https://mails.dpdk.org/options/test-report>,
 <mailto:test-report-request@dpdk.org?subject=unsubscribe>
List-Archive: <http://mails.dpdk.org/archives/test-report/>
List-Post: <mailto:test-report@dpdk.org>
List-Help: <mailto:test-report-request@dpdk.org?subject=help>
List-Subscribe: <https://mails.dpdk.org/listinfo/test-report>,
 <mailto:test-report-request@dpdk.org?subject=subscribe>
Errors-To: test-report-bounces@dpdk.org

Test-Label: iol-compile-amd64-testing
Test-Status: SUCCESS
http://dpdk.org/patch/138488

_Testing PASS_

Submitter: Huisong Li <lihuisong@huawei.com>
Date: Wednesday, March 20 2024 10:55:29 
DPDK git baseline: Repo:dpdk
  Branch: master
  CommitID:80ecef6d1f71fcebc0a51d7cabc51f73ee142ff2

138489-138488 --> testing pass

Test environment and result as below:

+---------------------+-------------------+--------------------+----------------------+
|     Environment     | dpdk_msvc_compile | dpdk_meson_compile | dpdk_mingw64_compile |
+=====================+===================+====================+======================+
| Windows Server 2022 | PASS              | PASS               | PASS                 |
+---------------------+-------------------+--------------------+----------------------+
| FreeBSD 13.2        | SKIPPED           | PASS               | SKIPPED              |
+---------------------+-------------------+--------------------+----------------------+
| Debian 11 (arm)     | SKIPPED           | PASS               | SKIPPED              |
+---------------------+-------------------+--------------------+----------------------+
| Debian Bullseye     | SKIPPED           | PASS               | SKIPPED              |
+---------------------+-------------------+--------------------+----------------------+
| CentOS Stream 9     | SKIPPED           | PASS               | SKIPPED              |
+---------------------+-------------------+--------------------+----------------------+
| Ubuntu 20.04        | SKIPPED           | PASS               | SKIPPED              |
+---------------------+-------------------+--------------------+----------------------+
| CentOS Stream 8     | SKIPPED           | PASS               | SKIPPED              |
+---------------------+-------------------+--------------------+----------------------+
| Windows Server 2019 | SKIPPED           | PASS               | PASS                 |
+---------------------+-------------------+--------------------+----------------------+
| Fedora 38           | SKIPPED           | PASS               | SKIPPED              |
+---------------------+-------------------+--------------------+----------------------+
| Fedora 37           | SKIPPED           | PASS               | SKIPPED              |
+---------------------+-------------------+--------------------+----------------------+
| openSUSE Leap 15    | SKIPPED           | PASS               | SKIPPED              |
+---------------------+-------------------+--------------------+----------------------+
| Ubuntu 22.04        | SKIPPED           | PASS               | SKIPPED              |
+---------------------+-------------------+--------------------+----------------------+
| RHEL8               | SKIPPED           | PASS               | SKIPPED              |
+---------------------+-------------------+--------------------+----------------------+
| Alpine              | SKIPPED           | PASS               | SKIPPED              |
+---------------------+-------------------+--------------------+----------------------+


Windows Server 2022
	Kernel: 10.0.20348.2031
	Compiler: clang 15.0.7, gcc 8.1.0 (MinGW), and MSVC VS 17.9

FreeBSD 13.2
	Kernel: 13.2
	Compiler: clang 14.0.5

Debian 11 (arm)
	Kernel: Container Host Kernel
	Compiler: gcc 10.2.1

Debian Bullseye
	Kernel: 5.4.0-167-generic
	Compiler: gcc 10.2.1-6

CentOS Stream 9
	Kernel: 5.4.0-167-generic
	Compiler: gcc 11.4.1 20230605

Ubuntu 20.04
	Kernel: 5.4.0-167-generic
	Compiler: gcc 9.4.0-1ubuntu1~20.04.1

CentOS Stream 8
	Kernel: 5.4.0-167-generic
	Compiler: gcc 8.5.0 20210514

Windows Server 2019
	Kernel: 10.0.17763
	Compiler: clang 14.0 and gcc 8.1.0 (MinGW)

Fedora 38
	Kernel: Depends on container host
	Compiler: gcc 13.2.1

Fedora 37
	Kernel: Depends on container host system
	Compiler: gcc 12.3.1

openSUSE Leap 15
	Kernel: 5.4.0-167-generic
	Compiler: gcc 7.5.0

Ubuntu 22.04
	Kernel: 5.4.0-167-generic
	Compiler: gcc 11.4.0

RHEL8
	Kernel: 5.4.0-167-generic
	Compiler: gcc 8.5.0 20210514 (Red Hat 8.5.0-20)

Alpine
	Kernel: 5.4.0-167-generic
	Compiler: gcc (Alpine 12.2.1_git20220924-r10) 12.2.1 20220924

To view detailed results, visit:
https://lab.dpdk.org/results/dashboard/patchsets/29600/

UNH-IOL DPDK Community Lab

To manage your email subscriptions, visit: 
https://lab.dpdk.org/results/dashboard/preferences/subscriptions/