From mboxrd@z Thu Jan  1 00:00:00 1970
Return-Path: <test-report-bounces@dpdk.org>
Received: from mails.dpdk.org (mails.dpdk.org [217.70.189.124])
	by inbox.dpdk.org (Postfix) with ESMTP id 5BA0C43CFF
	for <public@inbox.dpdk.org>; Wed, 20 Mar 2024 12:48:17 +0100 (CET)
Received: from mails.dpdk.org (localhost [127.0.0.1])
	by mails.dpdk.org (Postfix) with ESMTP id 56308402B9;
	Wed, 20 Mar 2024 12:48:17 +0100 (CET)
Received: from mail-vk1-f227.google.com (mail-vk1-f227.google.com
 [209.85.221.227])
 by mails.dpdk.org (Postfix) with ESMTP id 57941402A2
 for <test-report@dpdk.org>; Wed, 20 Mar 2024 12:48:16 +0100 (CET)
Received: by mail-vk1-f227.google.com with SMTP id
 71dfb90a1353d-4d453ae6af5so1159993e0c.2
 for <test-report@dpdk.org>; Wed, 20 Mar 2024 04:48:16 -0700 (PDT)
DKIM-Signature: v=1; a=rsa-sha256; c=relaxed/relaxed;
 d=iol.unh.edu; s=unh-iol; t=1710935295; x=1711540095; darn=dpdk.org;
 h=references:in-reply-to:cc:to:from:subject:message-id:date:from:to
 :cc:subject:date:message-id:reply-to;
 bh=pxBgZWW7x+rOZzoI2Bdwp0HPLoZTpVPONFQ1ti9Esrw=;
 b=VhNyZCcl8SOqAJeEUhE3AnLi+Bdwv09VPdCQMQfAW19iIHah+GL1B8hVyEFPumho0r
 Z8Q42EbJv0ZyfBV8ctuFdNDp9zinUy0pVeJ5K6AwGUQsMGv/zRRBeryp/Ahxx2xsCxxR
 9jjmbxZy7ZNlfCcFqwD1Lsu8hmcX13UTvK6gE=
X-Google-DKIM-Signature: v=1; a=rsa-sha256; c=relaxed/relaxed;
 d=1e100.net; s=20230601; t=1710935295; x=1711540095;
 h=references:in-reply-to:cc:to:from:subject:message-id:date
 :x-gm-message-state:from:to:cc:subject:date:message-id:reply-to;
 bh=pxBgZWW7x+rOZzoI2Bdwp0HPLoZTpVPONFQ1ti9Esrw=;
 b=fQC4/PBsgl3qJvb7srQ2hx2F1rAxpCQcCWu20EANoQGvqCkB/hLdIKLidK1X7PqSl/
 GfRGVSl5cMapBrVna+uepprSx1P2lY11PeS49k4bx9ueFVIH01d32wNyTSy7naOc+4JS
 hYMSl70vP02NGGtcTeZHMAE7W7X1WfOkl1d+YbRhoeIjJWDO7iXJZxiwVszsMkJUTtFr
 iF/9YE93h2WEjmOUB8MlEsaKv7YhvCa2rqZjIAXv1ZD/fAk5i0ttKdge350PH7KNIzG2
 0bju74e7L+6a9qVkKdWOLd7QGq0hKd7y4d/8XY94D7/MeN8OUM0uOroSKWQQUoqqOLpp
 GOKw==
X-Gm-Message-State: AOJu0YzVx09w9eAB57GPVfIJOzpK76DD8iFq89wvR2IPEJuVNcGbIO/4
 OELL5Ecm3suxiFPm0lLSHcDU54elpk8a/bRSfF2QxcYOIqDiugTe21/9WwSOpOy2NOoiC/Rz+/y
 kP51SBpWr/XqC7HQCtlr5J+i7+uUTcIdRrPivpG+Xm+bimTu4LQQGo94s
X-Google-Smtp-Source: AGHT+IGVE0omLuQW0TjHhxCR9lOucqBtgIEQ44+0x6z7/DeR0iXrAI2YMPUnEHmjfD8EfjqBWmA21f+YIXwR
X-Received: by 2002:a1f:e641:0:b0:4d0:36e3:40c3 with SMTP id
 d62-20020a1fe641000000b004d036e340c3mr12704534vkh.13.1710935295739; 
 Wed, 20 Mar 2024 04:48:15 -0700 (PDT)
Received: from postal.iol.unh.edu (postal.iol.unh.edu.
 [2606:4100:3880:1234::84]) by smtp-relay.gmail.com with ESMTPS id
 j7-20020a056122090700b004d34836b529sm554673vka.3.2024.03.20.04.48.15
 (version=TLS1_2 cipher=ECDHE-ECDSA-AES128-GCM-SHA256 bits=128/128);
 Wed, 20 Mar 2024 04:48:15 -0700 (PDT)
X-Relaying-Domain: iol.unh.edu
Date: Wed, 20 Mar 2024 04:48:15 -0700 (PDT)
Message-ID: <65faccff.050a0220.abe4f.f188SMTPIN_ADDED_MISSING@mx.google.com>
Received: from [172.17.0.8] (unknown [172.18.0.217])
 by postal.iol.unh.edu (Postfix) with ESMTP id 673266052471;
 Wed, 20 Mar 2024 07:48:15 -0400 (EDT)
Subject: |SUCCESS| pw138489-138488 [PATCH] [2/2] examples/l3fwd-power: add PM
From: dpdklab@iol.unh.edu
To: Test Report <test-report@dpdk.org>
Cc: dpdk-test-reports@iol.unh.edu
In-Reply-To: <20240320105529.5626-3-lihuisong@huawei.com>
References: <20240320105529.5626-3-lihuisong@huawei.com>
Content-Type: text/plain
X-BeenThere: test-report@dpdk.org
X-Mailman-Version: 2.1.29
Precedence: list
List-Id: automatic DPDK test reports <test-report.dpdk.org>
List-Unsubscribe: <https://mails.dpdk.org/options/test-report>,
 <mailto:test-report-request@dpdk.org?subject=unsubscribe>
List-Archive: <http://mails.dpdk.org/archives/test-report/>
List-Post: <mailto:test-report@dpdk.org>
List-Help: <mailto:test-report-request@dpdk.org?subject=help>
List-Subscribe: <https://mails.dpdk.org/listinfo/test-report>,
 <mailto:test-report-request@dpdk.org?subject=subscribe>
Errors-To: test-report-bounces@dpdk.org

Test-Label: iol-compile-amd64-testing
Test-Status: SUCCESS
http://dpdk.org/patch/138488

_Testing PASS_

Submitter: Huisong Li <lihuisong@huawei.com>
Date: Wednesday, March 20 2024 10:55:29 
DPDK git baseline: Repo:dpdk
  Branch: master
  CommitID:80ecef6d1f71fcebc0a51d7cabc51f73ee142ff2

138489-138488 --> testing pass

Test environment and result as below:

+---------------------+-------------------+--------------------+----------------------+
|     Environment     | dpdk_msvc_compile | dpdk_meson_compile | dpdk_mingw64_compile |
+=====================+===================+====================+======================+
| Windows Server 2022 | PASS              | PASS               | PASS                 |
+---------------------+-------------------+--------------------+----------------------+
| FreeBSD 13.2        | SKIPPED           | PASS               | SKIPPED              |
+---------------------+-------------------+--------------------+----------------------+
| Debian 11 (arm)     | SKIPPED           | PASS               | SKIPPED              |
+---------------------+-------------------+--------------------+----------------------+
| Debian Bullseye     | SKIPPED           | PASS               | SKIPPED              |
+---------------------+-------------------+--------------------+----------------------+
| CentOS Stream 9     | SKIPPED           | PASS               | SKIPPED              |
+---------------------+-------------------+--------------------+----------------------+
| Ubuntu 20.04        | SKIPPED           | PASS               | SKIPPED              |
+---------------------+-------------------+--------------------+----------------------+
| CentOS Stream 8     | SKIPPED           | PASS               | SKIPPED              |
+---------------------+-------------------+--------------------+----------------------+
| Windows Server 2019 | SKIPPED           | PASS               | PASS                 |
+---------------------+-------------------+--------------------+----------------------+
| Fedora 38           | SKIPPED           | PASS               | SKIPPED              |
+---------------------+-------------------+--------------------+----------------------+
| Fedora 37           | SKIPPED           | PASS               | SKIPPED              |
+---------------------+-------------------+--------------------+----------------------+
| openSUSE Leap 15    | SKIPPED           | PASS               | SKIPPED              |
+---------------------+-------------------+--------------------+----------------------+
| Ubuntu 22.04        | SKIPPED           | PASS               | SKIPPED              |
+---------------------+-------------------+--------------------+----------------------+
| RHEL8               | SKIPPED           | PASS               | SKIPPED              |
+---------------------+-------------------+--------------------+----------------------+
| Alpine              | SKIPPED           | PASS               | SKIPPED              |
+---------------------+-------------------+--------------------+----------------------+


Windows Server 2022
	Kernel: 10.0.20348.2031
	Compiler: clang 15.0.7, gcc 8.1.0 (MinGW), and MSVC VS 17.9

FreeBSD 13.2
	Kernel: 13.2
	Compiler: clang 14.0.5

Debian 11 (arm)
	Kernel: Container Host Kernel
	Compiler: gcc 10.2.1

Debian Bullseye
	Kernel: 5.4.0-167-generic
	Compiler: gcc 10.2.1-6

CentOS Stream 9
	Kernel: 5.4.0-167-generic
	Compiler: gcc 11.4.1 20230605

Ubuntu 20.04
	Kernel: 5.4.0-167-generic
	Compiler: gcc 9.4.0-1ubuntu1~20.04.1

CentOS Stream 8
	Kernel: 5.4.0-167-generic
	Compiler: gcc 8.5.0 20210514

Windows Server 2019
	Kernel: 10.0.17763
	Compiler: clang 14.0 and gcc 8.1.0 (MinGW)

Fedora 38
	Kernel: Depends on container host
	Compiler: gcc 13.2.1

Fedora 37
	Kernel: Depends on container host system
	Compiler: gcc 12.3.1

openSUSE Leap 15
	Kernel: 5.4.0-167-generic
	Compiler: gcc 7.5.0

Ubuntu 22.04
	Kernel: 5.4.0-167-generic
	Compiler: gcc 11.4.0

RHEL8
	Kernel: 5.4.0-167-generic
	Compiler: gcc 8.5.0 20210514 (Red Hat 8.5.0-20)

Alpine
	Kernel: 5.4.0-167-generic
	Compiler: gcc (Alpine 12.2.1_git20220924-r10) 12.2.1 20220924

To view detailed results, visit:
https://lab.dpdk.org/results/dashboard/patchsets/29600/

UNH-IOL DPDK Community Lab

To manage your email subscriptions, visit: 
https://lab.dpdk.org/results/dashboard/preferences/subscriptions/