From mboxrd@z Thu Jan  1 00:00:00 1970
Return-Path: <test-report-bounces@dpdk.org>
Received: from mails.dpdk.org (mails.dpdk.org [217.70.189.124])
	by inbox.dpdk.org (Postfix) with ESMTP id 2EF6D43CFF
	for <public@inbox.dpdk.org>; Wed, 20 Mar 2024 12:49:56 +0100 (CET)
Received: from mails.dpdk.org (localhost [127.0.0.1])
	by mails.dpdk.org (Postfix) with ESMTP id 2975D402B9;
	Wed, 20 Mar 2024 12:49:56 +0100 (CET)
Received: from mail-il1-f227.google.com (mail-il1-f227.google.com
 [209.85.166.227])
 by mails.dpdk.org (Postfix) with ESMTP id E3FC0402A2
 for <test-report@dpdk.org>; Wed, 20 Mar 2024 12:49:49 +0100 (CET)
Received: by mail-il1-f227.google.com with SMTP id
 e9e14a558f8ab-366fea117acso10978955ab.0
 for <test-report@dpdk.org>; Wed, 20 Mar 2024 04:49:49 -0700 (PDT)
DKIM-Signature: v=1; a=rsa-sha256; c=relaxed/relaxed;
 d=iol.unh.edu; s=unh-iol; t=1710935389; x=1711540189; darn=dpdk.org;
 h=references:in-reply-to:cc:to:from:subject:message-id:date:from:to
 :cc:subject:date:message-id:reply-to;
 bh=pxBgZWW7x+rOZzoI2Bdwp0HPLoZTpVPONFQ1ti9Esrw=;
 b=jJpiIkGUsg91HLDFw5mdxy5+SHNKd+RCFTQbuU606Nu8l/RyCSB/m72HCjoz9/kkSs
 Lx/pDhxFOcH3yKeWd5CQPe+oX7DKf4vfc4Sv8Jkw80Fa9AX1Tu0D50ITBU1FNvOZWC+X
 73rPjQiiOhn/JvXaB27M3YfnqTnXiNPUAMvbI=
X-Google-DKIM-Signature: v=1; a=rsa-sha256; c=relaxed/relaxed;
 d=1e100.net; s=20230601; t=1710935389; x=1711540189;
 h=references:in-reply-to:cc:to:from:subject:message-id:date
 :x-gm-message-state:from:to:cc:subject:date:message-id:reply-to;
 bh=pxBgZWW7x+rOZzoI2Bdwp0HPLoZTpVPONFQ1ti9Esrw=;
 b=bcf1V9x4+owiXifwHUfH6i+u10ZlCQ/n33Yd+rTa5sQol89CoTMaymc96o4bE/l2OD
 jm2HVZAs9caegv1Mx7RALSze+E0Iygi8gQQPCuWsy7hyyDVeql56zS/0/J/pCQaYvK6O
 1nJ2eTcEz/3J7z6LFAr6txCjVTvOcPFfX0DMZmaCDk9x7CgyOdI2Vezt4QKEVJhrjASG
 TfDe3prn64C9TK1iFZ/tqYntnZk4nqGCkCTOMjef08LaPZ7pufruzAS2lfjWKO7mBlRu
 nXK+78vD1sHGqVfr9pVKhkwKSemPw9EAkTCMmKDiFRCalMs2WkGU88WO5bO+5SJn1fgO
 U5Aw==
X-Gm-Message-State: AOJu0YzqLDRGF+Ou4zKnzRKGy56MjWAthUJT/EL6pR5SDlUnvY+U5lS+
 Hq6bDvTrRGro2AEv5lW6iUQaQcdvu8eK2VMDxq1/EVAUIfRFcMvxOu9XIx7jaYgptXd/nK7ewSf
 IaYmUZl3RtWsho8vaf8e9lctl6AdrvODZHU0l68Nx
X-Google-Smtp-Source: AGHT+IEZfF86PdNmtVbwtbU8KLtWU9FxHNx/s2feDNRBdwvdkM988khJ6XMyjtUKdDY3fOWaB2R4QrmwP+wn
X-Received: by 2002:a92:bf0c:0:b0:365:7607:3f5d with SMTP id
 z12-20020a92bf0c000000b0036576073f5dmr15280931ilh.3.1710935389297; 
 Wed, 20 Mar 2024 04:49:49 -0700 (PDT)
Received: from postal.iol.unh.edu (postal.iol.unh.edu. [132.177.123.84])
 by smtp-relay.gmail.com with ESMTPS id
 y18-20020a63ce12000000b005dc9afa8d03sm451172pgf.0.2024.03.20.04.49.49
 (version=TLS1_2 cipher=ECDHE-ECDSA-AES128-GCM-SHA256 bits=128/128);
 Wed, 20 Mar 2024 04:49:49 -0700 (PDT)
X-Relaying-Domain: iol.unh.edu
Date: Wed, 20 Mar 2024 04:49:49 -0700 (PDT)
Message-ID: <65facd5d.630a0220.237e3.ccb9SMTPIN_ADDED_MISSING@mx.google.com>
Received: from [172.17.0.9] (unknown [172.18.0.217])
 by postal.iol.unh.edu (Postfix) with ESMTP id 80EFA6052471;
 Wed, 20 Mar 2024 07:49:48 -0400 (EDT)
Subject: |SUCCESS| pw138489-138488 [PATCH] [2/2] examples/l3fwd-power: add PM
From: dpdklab@iol.unh.edu
To: Test Report <test-report@dpdk.org>
Cc: dpdk-test-reports@iol.unh.edu
In-Reply-To: <20240320105529.5626-3-lihuisong@huawei.com>
References: <20240320105529.5626-3-lihuisong@huawei.com>
Content-Type: text/plain
X-BeenThere: test-report@dpdk.org
X-Mailman-Version: 2.1.29
Precedence: list
List-Id: automatic DPDK test reports <test-report.dpdk.org>
List-Unsubscribe: <https://mails.dpdk.org/options/test-report>,
 <mailto:test-report-request@dpdk.org?subject=unsubscribe>
List-Archive: <http://mails.dpdk.org/archives/test-report/>
List-Post: <mailto:test-report@dpdk.org>
List-Help: <mailto:test-report-request@dpdk.org?subject=help>
List-Subscribe: <https://mails.dpdk.org/listinfo/test-report>,
 <mailto:test-report-request@dpdk.org?subject=subscribe>
Errors-To: test-report-bounces@dpdk.org

Test-Label: iol-compile-amd64-testing
Test-Status: SUCCESS
http://dpdk.org/patch/138488

_Testing PASS_

Submitter: Huisong Li <lihuisong@huawei.com>
Date: Wednesday, March 20 2024 10:55:29 
DPDK git baseline: Repo:dpdk
  Branch: master
  CommitID:80ecef6d1f71fcebc0a51d7cabc51f73ee142ff2

138489-138488 --> testing pass

Test environment and result as below:

+---------------------+-------------------+--------------------+----------------------+
|     Environment     | dpdk_msvc_compile | dpdk_meson_compile | dpdk_mingw64_compile |
+=====================+===================+====================+======================+
| Windows Server 2022 | PASS              | PASS               | PASS                 |
+---------------------+-------------------+--------------------+----------------------+
| FreeBSD 13.2        | SKIPPED           | PASS               | SKIPPED              |
+---------------------+-------------------+--------------------+----------------------+
| Debian 11 (arm)     | SKIPPED           | PASS               | SKIPPED              |
+---------------------+-------------------+--------------------+----------------------+
| Debian Bullseye     | SKIPPED           | PASS               | SKIPPED              |
+---------------------+-------------------+--------------------+----------------------+
| CentOS Stream 9     | SKIPPED           | PASS               | SKIPPED              |
+---------------------+-------------------+--------------------+----------------------+
| Ubuntu 20.04        | SKIPPED           | PASS               | SKIPPED              |
+---------------------+-------------------+--------------------+----------------------+
| CentOS Stream 8     | SKIPPED           | PASS               | SKIPPED              |
+---------------------+-------------------+--------------------+----------------------+
| Windows Server 2019 | SKIPPED           | PASS               | PASS                 |
+---------------------+-------------------+--------------------+----------------------+
| Fedora 38           | SKIPPED           | PASS               | SKIPPED              |
+---------------------+-------------------+--------------------+----------------------+
| Fedora 37           | SKIPPED           | PASS               | SKIPPED              |
+---------------------+-------------------+--------------------+----------------------+
| openSUSE Leap 15    | SKIPPED           | PASS               | SKIPPED              |
+---------------------+-------------------+--------------------+----------------------+
| Ubuntu 22.04        | SKIPPED           | PASS               | SKIPPED              |
+---------------------+-------------------+--------------------+----------------------+
| RHEL8               | SKIPPED           | PASS               | SKIPPED              |
+---------------------+-------------------+--------------------+----------------------+
| Alpine              | SKIPPED           | PASS               | SKIPPED              |
+---------------------+-------------------+--------------------+----------------------+


Windows Server 2022
	Kernel: 10.0.20348.2031
	Compiler: clang 15.0.7, gcc 8.1.0 (MinGW), and MSVC VS 17.9

FreeBSD 13.2
	Kernel: 13.2
	Compiler: clang 14.0.5

Debian 11 (arm)
	Kernel: Container Host Kernel
	Compiler: gcc 10.2.1

Debian Bullseye
	Kernel: 5.4.0-167-generic
	Compiler: gcc 10.2.1-6

CentOS Stream 9
	Kernel: 5.4.0-167-generic
	Compiler: gcc 11.4.1 20230605

Ubuntu 20.04
	Kernel: 5.4.0-167-generic
	Compiler: gcc 9.4.0-1ubuntu1~20.04.1

CentOS Stream 8
	Kernel: 5.4.0-167-generic
	Compiler: gcc 8.5.0 20210514

Windows Server 2019
	Kernel: 10.0.17763
	Compiler: clang 14.0 and gcc 8.1.0 (MinGW)

Fedora 38
	Kernel: Depends on container host
	Compiler: gcc 13.2.1

Fedora 37
	Kernel: Depends on container host system
	Compiler: gcc 12.3.1

openSUSE Leap 15
	Kernel: 5.4.0-167-generic
	Compiler: gcc 7.5.0

Ubuntu 22.04
	Kernel: 5.4.0-167-generic
	Compiler: gcc 11.4.0

RHEL8
	Kernel: 5.4.0-167-generic
	Compiler: gcc 8.5.0 20210514 (Red Hat 8.5.0-20)

Alpine
	Kernel: 5.4.0-167-generic
	Compiler: gcc (Alpine 12.2.1_git20220924-r10) 12.2.1 20220924

To view detailed results, visit:
https://lab.dpdk.org/results/dashboard/patchsets/29600/

UNH-IOL DPDK Community Lab

To manage your email subscriptions, visit: 
https://lab.dpdk.org/results/dashboard/preferences/subscriptions/