From mboxrd@z Thu Jan  1 00:00:00 1970
Return-Path: <test-report-bounces@dpdk.org>
Received: from mails.dpdk.org (mails.dpdk.org [217.70.189.124])
	by inbox.dpdk.org (Postfix) with ESMTP id D97BD43CFF
	for <public@inbox.dpdk.org>; Wed, 20 Mar 2024 12:52:34 +0100 (CET)
Received: from mails.dpdk.org (localhost [127.0.0.1])
	by mails.dpdk.org (Postfix) with ESMTP id D4EEA402B9;
	Wed, 20 Mar 2024 12:52:34 +0100 (CET)
Received: from mail-oo1-f98.google.com (mail-oo1-f98.google.com
 [209.85.161.98]) by mails.dpdk.org (Postfix) with ESMTP id 0F5534029F
 for <test-report@dpdk.org>; Wed, 20 Mar 2024 12:52:27 +0100 (CET)
Received: by mail-oo1-f98.google.com with SMTP id
 006d021491bc7-5a485724ddaso3255781eaf.1
 for <test-report@dpdk.org>; Wed, 20 Mar 2024 04:52:27 -0700 (PDT)
DKIM-Signature: v=1; a=rsa-sha256; c=relaxed/relaxed;
 d=iol.unh.edu; s=unh-iol; t=1710935546; x=1711540346; darn=dpdk.org;
 h=references:in-reply-to:cc:to:from:subject:message-id:date:from:to
 :cc:subject:date:message-id:reply-to;
 bh=8zrJpO2tfeBc82hWHrDJf0nwWL86xVG7b6KavNfTkTs=;
 b=eT0mycOR+6FYuz3pq+fFlGT0+G7TzamEp4TX6LfqhNW5o4Tn61YV0wV9Cj/CGMzKmg
 79VFwK2gcJhLUBaxk3oD4t20j2Im+5GP1tl0764/lM8vVMSB2oZ3uJgj66sILJbe25Ln
 Ms4kJEkz3i1ZTMwJBB/uEWMx/i0nrkHOb3Ovg=
X-Google-DKIM-Signature: v=1; a=rsa-sha256; c=relaxed/relaxed;
 d=1e100.net; s=20230601; t=1710935546; x=1711540346;
 h=references:in-reply-to:cc:to:from:subject:message-id:date
 :x-gm-message-state:from:to:cc:subject:date:message-id:reply-to;
 bh=8zrJpO2tfeBc82hWHrDJf0nwWL86xVG7b6KavNfTkTs=;
 b=SzO2tb8kkUH6p2SDnh6Oq4RzAx2Bh91gFbX9hV862oU44GeFDXwGICk0vl0vseV41i
 IbYCCiSjkqqs6B5q7GCOwQHAEo9D+i43OXrGUNCnPN7Sa7X0LJIzR1CtdFE5Ycnzj/cX
 M5ncUXdfjrmRQ0kYSAe/SGru0RnRRexwMW4Xz1f5ZVyYKyHBqnCPDIpbkENSSCFTQ7pO
 i32DF7YAJRalB2Tqs1UKm7yWR/wcItzzAYu/7nm/wzdjAndZZcmRdcmYAQllvcIKdMTT
 1vr9zmPWaNsciGRUN0kCpLPFyKWwleaaK7HR6Pc2RMbeGIvmVzh5AdBmB72PATMDaweZ
 qEmw==
X-Gm-Message-State: AOJu0YxfkaBgV6C705NTIWMte4OI0OekiPYI15C5ljlTkWwhW4WZICxm
 QbXRSRnSV/nuFNtVG+7p3VON1WYOk2G3veC7o3h0Q6zdQVDZJT6FfmfKZundj3zWgTc0WqEO2MJ
 kuja7ZzWteYgxfwB9J+BZksfAh0+Ej4suNweJOMiA
X-Google-Smtp-Source: AGHT+IE9OKWATQMwcMN3vqQW2muWtRctKpAeUObATuSLmliWsD7LhDwnRF16VzMZteSU1Msm59AFhcImqyjJ
X-Received: by 2002:a05:6820:1509:b0:5a4:81f1:5ca6 with SMTP id
 ay9-20020a056820150900b005a481f15ca6mr15849981oob.1.1710935546342; 
 Wed, 20 Mar 2024 04:52:26 -0700 (PDT)
Received: from postal.iol.unh.edu (postal.iol.unh.edu. [132.177.123.84])
 by smtp-relay.gmail.com with ESMTPS id
 4-20020a4a0d04000000b005a4c8f41a73sm320903oob.9.2024.03.20.04.52.26
 (version=TLS1_2 cipher=ECDHE-ECDSA-AES128-GCM-SHA256 bits=128/128);
 Wed, 20 Mar 2024 04:52:26 -0700 (PDT)
X-Relaying-Domain: iol.unh.edu
Date: Wed, 20 Mar 2024 04:52:26 -0700 (PDT)
Message-ID: <65facdfa.4a0a0220.5ba32.58f0SMTPIN_ADDED_MISSING@mx.google.com>
Received: from [172.17.0.8] (unknown [172.18.0.217])
 by postal.iol.unh.edu (Postfix) with ESMTP id D16D76052471;
 Wed, 20 Mar 2024 07:52:25 -0400 (EDT)
Subject: |SUCCESS| pw138489-138488 [PATCH] [2/2] examples/l3fwd-power: add PM
From: dpdklab@iol.unh.edu
To: Test Report <test-report@dpdk.org>
Cc: dpdk-test-reports@iol.unh.edu
In-Reply-To: <20240320105529.5626-3-lihuisong@huawei.com>
References: <20240320105529.5626-3-lihuisong@huawei.com>
Content-Type: text/plain
X-BeenThere: test-report@dpdk.org
X-Mailman-Version: 2.1.29
Precedence: list
List-Id: automatic DPDK test reports <test-report.dpdk.org>
List-Unsubscribe: <https://mails.dpdk.org/options/test-report>,
 <mailto:test-report-request@dpdk.org?subject=unsubscribe>
List-Archive: <http://mails.dpdk.org/archives/test-report/>
List-Post: <mailto:test-report@dpdk.org>
List-Help: <mailto:test-report-request@dpdk.org?subject=help>
List-Subscribe: <https://mails.dpdk.org/listinfo/test-report>,
 <mailto:test-report-request@dpdk.org?subject=subscribe>
Errors-To: test-report-bounces@dpdk.org

Test-Label: iol-compile-arm64-testing
Test-Status: SUCCESS
http://dpdk.org/patch/138488

_Testing PASS_

Submitter: Huisong Li <lihuisong@huawei.com>
Date: Wednesday, March 20 2024 10:55:29 
DPDK git baseline: Repo:dpdk
  Branch: master
  CommitID:80ecef6d1f71fcebc0a51d7cabc51f73ee142ff2

138489-138488 --> testing pass

Test environment and result as below:

+----------------------------------------+--------------------+
|              Environment               | dpdk_meson_compile |
+========================================+====================+
| Ubuntu 20.04 ARM SVE                   | PASS               |
+----------------------------------------+--------------------+
| Ubuntu 20.04 ARM GCC Cross Compile     | PASS               |
+----------------------------------------+--------------------+
| Ubuntu 20.04 ARM Clang Cross Compile   | PASS               |
+----------------------------------------+--------------------+
| Debian 12 (arm)                        | PASS               |
+----------------------------------------+--------------------+
| Debian 12 with MUSDK                   | PASS               |
+----------------------------------------+--------------------+
| Fedora 38 (ARM)                        | PASS               |
+----------------------------------------+--------------------+
| Fedora 37 (ARM)                        | PASS               |
+----------------------------------------+--------------------+
| Ubuntu 20.04 (ARM)                     | PASS               |
+----------------------------------------+--------------------+
| CentOS Stream 9 (ARM)                  | PASS               |
+----------------------------------------+--------------------+
| Ubuntu 20.04 aarch32 GCC Cross Compile | PASS               |
+----------------------------------------+--------------------+
| Debian 11 (Buster) (ARM)               | PASS               |
+----------------------------------------+--------------------+


Ubuntu 20.04 ARM SVE
	Kernel: 5.4.0-167-generic
	Compiler: gcc (Ubuntu 10.5.0-1ubuntu1~20.04) 10.5.0

Ubuntu 20.04 ARM GCC Cross Compile
	Kernel: 5.4.0-167-generic
	Compiler: aarch64-linux-gnu-gcc (Ubuntu 9.4.0-1ubuntu1~20.04.2) 9.4.0

Ubuntu 20.04 ARM Clang Cross Compile
	Kernel: 5.4.0-72-generic
	Compiler: clang 10.0.0-4ubuntu1

Debian 12 (arm)
	Kernel: Container Host Kernel
	Compiler: gcc 11

Debian 12 with MUSDK
	Kernel: Container Host Kernel
	Compiler: gcc 12.2.0

Fedora 38 (ARM)
	Kernel: Depends on container host
	Compiler: gcc 13.2.1

Fedora 37 (ARM)
	Kernel: Depends on container host
	Compiler: gcc 12.3.1

Ubuntu 20.04 (ARM)
	Kernel: Container Host Kernel
	Compiler: gcc 9.4.0

CentOS Stream 9 (ARM)
	Kernel: Container Host Kernel
	Compiler: gcc 11.4.1

Ubuntu 20.04 aarch32 GCC Cross Compile
	Kernel: 5.4.0-167-generic
	Compiler: gcc 9.4.0

Debian 11 (Buster) (ARM)
	Kernel: Container Host Kernel
	Compiler: gcc 10.2.1

To view detailed results, visit:
https://lab.dpdk.org/results/dashboard/patchsets/29600/

UNH-IOL DPDK Community Lab

To manage your email subscriptions, visit: 
https://lab.dpdk.org/results/dashboard/preferences/subscriptions/