From mboxrd@z Thu Jan  1 00:00:00 1970
Return-Path: <test-report-bounces@dpdk.org>
Received: from mails.dpdk.org (mails.dpdk.org [217.70.189.124])
	by inbox.dpdk.org (Postfix) with ESMTP id 5407243CFF
	for <public@inbox.dpdk.org>; Wed, 20 Mar 2024 12:55:26 +0100 (CET)
Received: from mails.dpdk.org (localhost [127.0.0.1])
	by mails.dpdk.org (Postfix) with ESMTP id 4ED2C402B9;
	Wed, 20 Mar 2024 12:55:26 +0100 (CET)
Received: from mail-io1-f98.google.com (mail-io1-f98.google.com
 [209.85.166.98]) by mails.dpdk.org (Postfix) with ESMTP id 97E224029F
 for <test-report@dpdk.org>; Wed, 20 Mar 2024 12:55:17 +0100 (CET)
Received: by mail-io1-f98.google.com with SMTP id
 ca18e2360f4ac-7cc77c19a19so108062239f.2
 for <test-report@dpdk.org>; Wed, 20 Mar 2024 04:55:17 -0700 (PDT)
DKIM-Signature: v=1; a=rsa-sha256; c=relaxed/relaxed;
 d=iol.unh.edu; s=unh-iol; t=1710935717; x=1711540517; darn=dpdk.org;
 h=references:in-reply-to:cc:to:from:subject:message-id:date:from:to
 :cc:subject:date:message-id:reply-to;
 bh=FxREsJP0YU8JtmEyUPr/z3Sy7K4Y7RTzOONVk36VHro=;
 b=dDxy37+Xc2MGUUrVEO3Wvx9UKaTbsqP70S8r05TJKe5E3e5AD0TnL2Ha+Aznhe+B4W
 Ho/Gbjq3Ks0yYugYZniLN83DvIrWF0c0BMItyDvoqoty0SoTM1Q/DrpxG0fXvsLsiJz9
 rEKYFulU5nIBFj2bUP6eOn/irEO/qURRHfcWs=
X-Google-DKIM-Signature: v=1; a=rsa-sha256; c=relaxed/relaxed;
 d=1e100.net; s=20230601; t=1710935717; x=1711540517;
 h=references:in-reply-to:cc:to:from:subject:message-id:date
 :x-gm-message-state:from:to:cc:subject:date:message-id:reply-to;
 bh=FxREsJP0YU8JtmEyUPr/z3Sy7K4Y7RTzOONVk36VHro=;
 b=KV9IhpTSlrsZxJzAi2e73Vnd1KPKd6eZPkf71n2Xou3r9GMmxJzooqhqYhsuLOS6ky
 nJdFENWCAG30zpEwyP8nTxQprMXdGbpFZ+rfBnrzVjrA7RwyfdLBo3jrfeuxrmSR0Iym
 h5RajsU1UoatjZmwo21IwMg/1qLJAYBJABGTZGxjOPyE4nIYlaGiHapCasiYbEH/JKbG
 5HtECHJkyQUVu8IgxQwO53UzGjCuuqtVO0QnPU6Ls6czoJzYrZm2zBe3UubuOJG2oABW
 KBjORX8M0kMJXBUXeOWuF1b4sEJSTDdVXyPlrLuFX8g14ZPBLE4ggUZkg8oup8xMBa4W
 1uqg==
X-Gm-Message-State: AOJu0YwVbIXS51qCye6faUouOYyPyMkBK8mPiXLll4MAPi6RjnKUuqIK
 5MaY/9YG/tGJkZP2GWYfM9vY5+r//XPh6Pjyh1dZTxN48eKy4oGkDbVH629Lz6lbMLwDCI4X2s0
 ueRodFwqlnM3NV/eLjs9yqAHfeatxi0mktOIl+DdV
X-Google-Smtp-Source: AGHT+IEWevSw1PO1nPS9jge9r095gw4N3Fdf66Lk1suug16cVVKgOuxWN+9cdOkU+F4Iqsfp1QVcrqvaNBcl
X-Received: by 2002:a6b:ed16:0:b0:7c8:b72a:3021 with SMTP id
 n22-20020a6bed16000000b007c8b72a3021mr1907131iog.8.1710935717021; 
 Wed, 20 Mar 2024 04:55:17 -0700 (PDT)
Received: from postal.iol.unh.edu (postal.iol.unh.edu. [132.177.123.84])
 by smtp-relay.gmail.com with ESMTPS id
 t12-20020a056638348c00b00474597704f2sm496808jal.52.2024.03.20.04.55.16
 (version=TLS1_2 cipher=ECDHE-ECDSA-AES128-GCM-SHA256 bits=128/128);
 Wed, 20 Mar 2024 04:55:17 -0700 (PDT)
X-Relaying-Domain: iol.unh.edu
Date: Wed, 20 Mar 2024 04:55:17 -0700 (PDT)
Message-ID: <65facea5.050a0220.41092.128aSMTPIN_ADDED_MISSING@mx.google.com>
Received: from [172.21.0.6] (unknown [172.18.0.240])
 by postal.iol.unh.edu (Postfix) with ESMTP id 82D766052471;
 Wed, 20 Mar 2024 07:55:16 -0400 (EDT)
Subject: |SUCCESS| pw138489-138488 [PATCH] [2/2] examples/l3fwd-power: add PM
From: dpdklab@iol.unh.edu
To: Test Report <test-report@dpdk.org>
Cc: dpdk-test-reports@iol.unh.edu
In-Reply-To: <20240320105529.5626-3-lihuisong@huawei.com>
References: <20240320105529.5626-3-lihuisong@huawei.com>
Content-Type: text/plain
X-BeenThere: test-report@dpdk.org
X-Mailman-Version: 2.1.29
Precedence: list
List-Id: automatic DPDK test reports <test-report.dpdk.org>
List-Unsubscribe: <https://mails.dpdk.org/options/test-report>,
 <mailto:test-report-request@dpdk.org?subject=unsubscribe>
List-Archive: <http://mails.dpdk.org/archives/test-report/>
List-Post: <mailto:test-report@dpdk.org>
List-Help: <mailto:test-report-request@dpdk.org?subject=help>
List-Subscribe: <https://mails.dpdk.org/listinfo/test-report>,
 <mailto:test-report-request@dpdk.org?subject=subscribe>
Errors-To: test-report-bounces@dpdk.org

Test-Label: iol-unit-amd64-testing
Test-Status: SUCCESS
http://dpdk.org/patch/138488

_Testing PASS_

Submitter: Huisong Li <lihuisong@huawei.com>
Date: Wednesday, March 20 2024 10:55:29 
DPDK git baseline: Repo:dpdk
  Branch: master
  CommitID:80ecef6d1f71fcebc0a51d7cabc51f73ee142ff2

138489-138488 --> testing pass

Test environment and result as below:

+---------------------+----------------+
|     Environment     | dpdk_unit_test |
+=====================+================+
| CentOS Stream 8     | PASS           |
+---------------------+----------------+
| Debian Bullseye     | PASS           |
+---------------------+----------------+
| CentOS Stream 9     | PASS           |
+---------------------+----------------+
| Fedora 37           | PASS           |
+---------------------+----------------+
| Fedora 38           | PASS           |
+---------------------+----------------+
| Ubuntu 20.04        | PASS           |
+---------------------+----------------+
| RHEL8               | PASS           |
+---------------------+----------------+
| openSUSE Leap 15    | PASS           |
+---------------------+----------------+
| Debian 11 (arm)     | PASS           |
+---------------------+----------------+
| Windows Server 2019 | PASS           |
+---------------------+----------------+


CentOS Stream 8
	Kernel: 5.4.0-167-generic
	Compiler: gcc 8.5.0 20210514

Debian Bullseye
	Kernel: 5.4.0-167-generic
	Compiler: gcc 10.2.1-6

CentOS Stream 9
	Kernel: 5.4.0-167-generic
	Compiler: gcc 11.4.1 20230605

Fedora 37
	Kernel: Depends on container host system
	Compiler: gcc 12.3.1

Fedora 38
	Kernel: Depends on container host
	Compiler: gcc 13.2.1

Ubuntu 20.04
	Kernel: 5.4.0-167-generic
	Compiler: gcc 9.4.0-1ubuntu1~20.04.1

RHEL8
	Kernel: 5.4.0-167-generic
	Compiler: gcc 8.5.0 20210514 (Red Hat 8.5.0-20)

openSUSE Leap 15
	Kernel: 5.4.0-167-generic
	Compiler: gcc 7.5.0

Debian 11 (arm)
	Kernel: Container Host Kernel
	Compiler: gcc 10.2.1

Windows Server 2019
	Kernel: 10.0.17763
	Compiler: clang 14.0 and gcc 8.1.0 (MinGW)

To view detailed results, visit:
https://lab.dpdk.org/results/dashboard/patchsets/29600/

UNH-IOL DPDK Community Lab

To manage your email subscriptions, visit: 
https://lab.dpdk.org/results/dashboard/preferences/subscriptions/