From mboxrd@z Thu Jan  1 00:00:00 1970
Return-Path: <test-report-bounces@dpdk.org>
Received: from mails.dpdk.org (mails.dpdk.org [217.70.189.124])
	by inbox.dpdk.org (Postfix) with ESMTP id 6974143CFF
	for <public@inbox.dpdk.org>; Wed, 20 Mar 2024 12:58:06 +0100 (CET)
Received: from mails.dpdk.org (localhost [127.0.0.1])
	by mails.dpdk.org (Postfix) with ESMTP id 65454402B9;
	Wed, 20 Mar 2024 12:58:06 +0100 (CET)
Received: from mail-oo1-f100.google.com (mail-oo1-f100.google.com
 [209.85.161.100])
 by mails.dpdk.org (Postfix) with ESMTP id 1AAFF4029F
 for <test-report@dpdk.org>; Wed, 20 Mar 2024 12:57:58 +0100 (CET)
Received: by mail-oo1-f100.google.com with SMTP id
 006d021491bc7-5a47cecb98bso3150577eaf.0
 for <test-report@dpdk.org>; Wed, 20 Mar 2024 04:57:58 -0700 (PDT)
DKIM-Signature: v=1; a=rsa-sha256; c=relaxed/relaxed;
 d=iol.unh.edu; s=unh-iol; t=1710935877; x=1711540677; darn=dpdk.org;
 h=references:in-reply-to:cc:to:from:subject:message-id:date:from:to
 :cc:subject:date:message-id:reply-to;
 bh=pxBgZWW7x+rOZzoI2Bdwp0HPLoZTpVPONFQ1ti9Esrw=;
 b=exogNxelqG6Xr/xXs425eM0YIuiMMpkC3jK8y1FerC3ynBGK1uctwwIogI/BZ+1XHS
 iRGUw5j54fGbdF2Wa0ojgs4efcU7wUHAvDZePtG7BJA+RmS9F6oqKBLhHMlvMqUzUVas
 uV67wiLe7TthqoCNaMxsGkuP/cizxMDEVVLFc=
X-Google-DKIM-Signature: v=1; a=rsa-sha256; c=relaxed/relaxed;
 d=1e100.net; s=20230601; t=1710935877; x=1711540677;
 h=references:in-reply-to:cc:to:from:subject:message-id:date
 :x-gm-message-state:from:to:cc:subject:date:message-id:reply-to;
 bh=pxBgZWW7x+rOZzoI2Bdwp0HPLoZTpVPONFQ1ti9Esrw=;
 b=WqQ6CeTOn3GYQ9NnKTwERhgJSilvNWsbGoAtTfDv1cyzsnTHY25YPyczSYaJDrTim4
 bBV0riFElCwD/wyGM439o3rU4UwjdYufO+Fss9G7+zfAd/O8t2ewxUrDnW0knfiVq15y
 sz1Z5maZtOP1Tce79kmyZxIBynQ0t9G1E45vtLOV0R2aVnKFaDQc1jXh6veBjApScOa6
 f9oZMyOD5Q+LWSfJFPsbJu6ua6tud510NdNBAanVUL8Lb59Wfi+kAPybvnJ1H5bJQvIG
 L9FXLrpsD/ZzKXEbpWj1sJtBxtk+KYA3+W8PnoOPCVi9Yh94dtlNJyg6ZxSGIdDxRQZJ
 tb1w==
X-Gm-Message-State: AOJu0YxYz8Pu5JIKtEhxJUySkupWdXcVcbED9MbDEqpSSbA3snAHm3mx
 OrdxwXqD1JpQ1LPx1uq0BVDTjf/YS4B3es8UIOw9G/92FqpPnqMurMjRZKYARPOSR73rUCJkWk1
 ed0+hDqml/4cwGOb7iMz4IMT/XuJ6JueYg014kQrs
X-Google-Smtp-Source: AGHT+IFM0IzSUGJlbLi1Q5R1cEpprOZwNPplnVu9TcRmnAl9UY5sM7PryyGjTlXwZcsOwg8UdsneovWapWhm
X-Received: by 2002:a4a:a592:0:b0:5a4:e30e:8e81 with SMTP id
 d18-20020a4aa592000000b005a4e30e8e81mr3169936oom.1.1710935877494; 
 Wed, 20 Mar 2024 04:57:57 -0700 (PDT)
Received: from postal.iol.unh.edu (postal.iol.unh.edu. [132.177.123.84])
 by smtp-relay.gmail.com with ESMTPS id
 f125-20020a4a5883000000b005a46877f661sm949790oob.17.2024.03.20.04.57.57
 (version=TLS1_2 cipher=ECDHE-ECDSA-AES128-GCM-SHA256 bits=128/128);
 Wed, 20 Mar 2024 04:57:57 -0700 (PDT)
X-Relaying-Domain: iol.unh.edu
Date: Wed, 20 Mar 2024 04:57:57 -0700 (PDT)
Message-ID: <65facf45.4a0a0220.41bc1.0645SMTPIN_ADDED_MISSING@mx.google.com>
Received: from [172.17.0.8] (unknown [172.18.0.217])
 by postal.iol.unh.edu (Postfix) with ESMTP id 033766052471;
 Wed, 20 Mar 2024 07:57:57 -0400 (EDT)
Subject: |SUCCESS| pw138489-138488 [PATCH] [2/2] examples/l3fwd-power: add PM
From: dpdklab@iol.unh.edu
To: Test Report <test-report@dpdk.org>
Cc: dpdk-test-reports@iol.unh.edu
In-Reply-To: <20240320105529.5626-3-lihuisong@huawei.com>
References: <20240320105529.5626-3-lihuisong@huawei.com>
Content-Type: text/plain
X-BeenThere: test-report@dpdk.org
X-Mailman-Version: 2.1.29
Precedence: list
List-Id: automatic DPDK test reports <test-report.dpdk.org>
List-Unsubscribe: <https://mails.dpdk.org/options/test-report>,
 <mailto:test-report-request@dpdk.org?subject=unsubscribe>
List-Archive: <http://mails.dpdk.org/archives/test-report/>
List-Post: <mailto:test-report@dpdk.org>
List-Help: <mailto:test-report-request@dpdk.org?subject=help>
List-Subscribe: <https://mails.dpdk.org/listinfo/test-report>,
 <mailto:test-report-request@dpdk.org?subject=subscribe>
Errors-To: test-report-bounces@dpdk.org

Test-Label: iol-compile-amd64-testing
Test-Status: SUCCESS
http://dpdk.org/patch/138488

_Testing PASS_

Submitter: Huisong Li <lihuisong@huawei.com>
Date: Wednesday, March 20 2024 10:55:29 
DPDK git baseline: Repo:dpdk
  Branch: master
  CommitID:80ecef6d1f71fcebc0a51d7cabc51f73ee142ff2

138489-138488 --> testing pass

Test environment and result as below:

+---------------------+-------------------+--------------------+----------------------+
|     Environment     | dpdk_msvc_compile | dpdk_meson_compile | dpdk_mingw64_compile |
+=====================+===================+====================+======================+
| Windows Server 2022 | PASS              | PASS               | PASS                 |
+---------------------+-------------------+--------------------+----------------------+
| FreeBSD 13.2        | SKIPPED           | PASS               | SKIPPED              |
+---------------------+-------------------+--------------------+----------------------+
| Debian 11 (arm)     | SKIPPED           | PASS               | SKIPPED              |
+---------------------+-------------------+--------------------+----------------------+
| Debian Bullseye     | SKIPPED           | PASS               | SKIPPED              |
+---------------------+-------------------+--------------------+----------------------+
| CentOS Stream 9     | SKIPPED           | PASS               | SKIPPED              |
+---------------------+-------------------+--------------------+----------------------+
| Ubuntu 20.04        | SKIPPED           | PASS               | SKIPPED              |
+---------------------+-------------------+--------------------+----------------------+
| CentOS Stream 8     | SKIPPED           | PASS               | SKIPPED              |
+---------------------+-------------------+--------------------+----------------------+
| Windows Server 2019 | SKIPPED           | PASS               | PASS                 |
+---------------------+-------------------+--------------------+----------------------+
| Fedora 38           | SKIPPED           | PASS               | SKIPPED              |
+---------------------+-------------------+--------------------+----------------------+
| Fedora 37           | SKIPPED           | PASS               | SKIPPED              |
+---------------------+-------------------+--------------------+----------------------+
| openSUSE Leap 15    | SKIPPED           | PASS               | SKIPPED              |
+---------------------+-------------------+--------------------+----------------------+
| Ubuntu 22.04        | SKIPPED           | PASS               | SKIPPED              |
+---------------------+-------------------+--------------------+----------------------+
| RHEL8               | SKIPPED           | PASS               | SKIPPED              |
+---------------------+-------------------+--------------------+----------------------+
| Alpine              | SKIPPED           | PASS               | SKIPPED              |
+---------------------+-------------------+--------------------+----------------------+


Windows Server 2022
	Kernel: 10.0.20348.2031
	Compiler: clang 15.0.7, gcc 8.1.0 (MinGW), and MSVC VS 17.9

FreeBSD 13.2
	Kernel: 13.2
	Compiler: clang 14.0.5

Debian 11 (arm)
	Kernel: Container Host Kernel
	Compiler: gcc 10.2.1

Debian Bullseye
	Kernel: 5.4.0-167-generic
	Compiler: gcc 10.2.1-6

CentOS Stream 9
	Kernel: 5.4.0-167-generic
	Compiler: gcc 11.4.1 20230605

Ubuntu 20.04
	Kernel: 5.4.0-167-generic
	Compiler: gcc 9.4.0-1ubuntu1~20.04.1

CentOS Stream 8
	Kernel: 5.4.0-167-generic
	Compiler: gcc 8.5.0 20210514

Windows Server 2019
	Kernel: 10.0.17763
	Compiler: clang 14.0 and gcc 8.1.0 (MinGW)

Fedora 38
	Kernel: Depends on container host
	Compiler: gcc 13.2.1

Fedora 37
	Kernel: Depends on container host system
	Compiler: gcc 12.3.1

openSUSE Leap 15
	Kernel: 5.4.0-167-generic
	Compiler: gcc 7.5.0

Ubuntu 22.04
	Kernel: 5.4.0-167-generic
	Compiler: gcc 11.4.0

RHEL8
	Kernel: 5.4.0-167-generic
	Compiler: gcc 8.5.0 20210514 (Red Hat 8.5.0-20)

Alpine
	Kernel: 5.4.0-167-generic
	Compiler: gcc (Alpine 12.2.1_git20220924-r10) 12.2.1 20220924

To view detailed results, visit:
https://lab.dpdk.org/results/dashboard/patchsets/29600/

UNH-IOL DPDK Community Lab

To manage your email subscriptions, visit: 
https://lab.dpdk.org/results/dashboard/preferences/subscriptions/