From mboxrd@z Thu Jan  1 00:00:00 1970
Return-Path: <test-report-bounces@dpdk.org>
Received: from mails.dpdk.org (mails.dpdk.org [217.70.189.124])
	by inbox.dpdk.org (Postfix) with ESMTP id 1741543D05
	for <public@inbox.dpdk.org>; Wed, 20 Mar 2024 16:56:44 +0100 (CET)
Received: from mails.dpdk.org (localhost [127.0.0.1])
	by mails.dpdk.org (Postfix) with ESMTP id D9F9842E06;
	Wed, 20 Mar 2024 16:56:43 +0100 (CET)
Received: from mail-vs1-f100.google.com (mail-vs1-f100.google.com
 [209.85.217.100])
 by mails.dpdk.org (Postfix) with ESMTP id 7DE3C40275
 for <test-report@dpdk.org>; Wed, 20 Mar 2024 16:50:40 +0100 (CET)
Received: by mail-vs1-f100.google.com with SMTP id
 ada2fe7eead31-476757820ceso1302957137.1
 for <test-report@dpdk.org>; Wed, 20 Mar 2024 08:50:40 -0700 (PDT)
DKIM-Signature: v=1; a=rsa-sha256; c=relaxed/relaxed;
 d=iol.unh.edu; s=unh-iol; t=1710949840; x=1711554640; darn=dpdk.org;
 h=references:in-reply-to:cc:to:from:subject:message-id:date:from:to
 :cc:subject:date:message-id:reply-to;
 bh=qRVgriXzSrwyQcEv/C3zvvOjSC365Lqm3t4Fefa2ETs=;
 b=P+WJznfzGNyRALk1rVEXFblZFppjucyNkaf6Ql6U/s0e3MOvjSXSvXqwazG0QfWoUl
 2ceh82Fl2/V0PD+6XmN+1fP0XNgqi0PsmynxIs1L7s3GwdDYTOXMRyk63rWlfthc8dEs
 VD2k9cbBszX+4p/qKhpHvfm9iDOIsX3eF4DsA=
X-Google-DKIM-Signature: v=1; a=rsa-sha256; c=relaxed/relaxed;
 d=1e100.net; s=20230601; t=1710949840; x=1711554640;
 h=references:in-reply-to:cc:to:from:subject:message-id:date
 :x-gm-message-state:from:to:cc:subject:date:message-id:reply-to;
 bh=qRVgriXzSrwyQcEv/C3zvvOjSC365Lqm3t4Fefa2ETs=;
 b=GGi6VIkrVigeuqf03Bik5nTh71H6yl2voMFhfywtXHwSXWqC52So4X7LTnKFjuzQ5X
 L+gidYjyKHQhjVfEjUoesAEYakNBEYuWf2HwIUptJCfuhxqcQRXjFJor8NuqcR6DLacH
 dG6f2MAHXyTCxFRw1Il4/1FsDV2i4ToEec+oiEbot8GLbbdZKOyVGF/Dzu1uoDborWY/
 29cUg+5TlZOlVuiMuwyotaLVkB13MoanjizMN471tW8tiII4HrzSmKJSLosOR+Cyn9tw
 3pWmav/t8by5uZqsfLtIPQPF56o9KCfiLK7JGyGvGP5Vo8X+sQOmmCK7oyJhNGpeYtg1
 8zjA==
X-Gm-Message-State: AOJu0Yxi53NCLcEQaZ3twoCQNMdGmUnPxC6II0ylc3z/YEEdWQqqERg5
 M98tsjZAWJns1mYlfmGTuid/RzzYgvwJtaclDP/dzNVJw/dXDVAWRtJYeHvl3iW1D1YVieta+Y+
 jQMsj/eZk3XtSCCfSzCqj53r078oUCPBrh4a0dKc1puVTSsrb+TwoWNkv
X-Google-Smtp-Source: AGHT+IGyW+omW8Fe9CaItqosEDQtFF6e7DUU20TTvS0vxBGDfRfdjXGmJL493okqzhCy/7CFqogZaTgkMrS7
X-Received: by 2002:a05:6102:127c:b0:476:8432:e3b1 with SMTP id
 q28-20020a056102127c00b004768432e3b1mr8059651vsg.11.1710949839907; 
 Wed, 20 Mar 2024 08:50:39 -0700 (PDT)
Received: from postal.iol.unh.edu (postal.iol.unh.edu.
 [2606:4100:3880:1234::84]) by smtp-relay.gmail.com with ESMTPS id
 y4-20020a67ebc4000000b00474c46eb5e0sm874802vso.3.2024.03.20.08.50.39
 (version=TLS1_2 cipher=ECDHE-ECDSA-AES128-GCM-SHA256 bits=128/128);
 Wed, 20 Mar 2024 08:50:39 -0700 (PDT)
X-Relaying-Domain: iol.unh.edu
Date: Wed, 20 Mar 2024 08:50:39 -0700 (PDT)
Message-ID: <65fb05cf.670a0220.6c59a.8efdSMTPIN_ADDED_MISSING@mx.google.com>
Received: from [172.21.0.7] (unknown [172.18.0.240])
 by postal.iol.unh.edu (Postfix) with ESMTP id 812C76052471;
 Wed, 20 Mar 2024 11:50:39 -0400 (EDT)
Subject: |SUCCESS| pw138491 [PATCH] net/ena: fix mbuf double free in fast fre
From: dpdklab@iol.unh.edu
To: Test Report <test-report@dpdk.org>
Cc: dpdk-test-reports@iol.unh.edu
In-Reply-To: <20240320145232.535-1-shaibran@amazon.com>
References: <20240320145232.535-1-shaibran@amazon.com>
Content-Type: text/plain
X-BeenThere: test-report@dpdk.org
X-Mailman-Version: 2.1.29
Precedence: list
List-Id: automatic DPDK test reports <test-report.dpdk.org>
List-Unsubscribe: <https://mails.dpdk.org/options/test-report>,
 <mailto:test-report-request@dpdk.org?subject=unsubscribe>
List-Archive: <http://mails.dpdk.org/archives/test-report/>
List-Post: <mailto:test-report@dpdk.org>
List-Help: <mailto:test-report-request@dpdk.org?subject=help>
List-Subscribe: <https://mails.dpdk.org/listinfo/test-report>,
 <mailto:test-report-request@dpdk.org?subject=subscribe>
Errors-To: test-report-bounces@dpdk.org

Test-Label: iol-unit-arm64-testing
Test-Status: SUCCESS
http://dpdk.org/patch/138491

_Testing PASS_

Submitter: Brandes, Shai <shaibran@amazon.com>
Date: Wednesday, March 20 2024 14:52:32 
DPDK git baseline: Repo:dpdk
  Branch: master
  CommitID:31a4216a9ee3c02cf2443d533f6a491cdb25904e

138491 --> testing pass

Test environment and result as below:

+--------------------------+---------------------------+------------------------------+----------------+--------------+
|       Environment        | cryptodev_sw_zuc_autotest | cryptodev_sw_snow3g_autotest | dpdk_unit_test | lpm_autotest |
+==========================+===========================+==============================+================+==============+
| Debian 12 (arm)          | PASS                      | PASS                         | PASS           | SKIPPED      |
+--------------------------+---------------------------+------------------------------+----------------+--------------+
| Debian 11 (Buster) (ARM) | SKIPPED                   | SKIPPED                      | PASS           | SKIPPED      |
+--------------------------+---------------------------+------------------------------+----------------+--------------+
| CentOS Stream 9 (ARM)    | SKIPPED                   | SKIPPED                      | PASS           | SKIPPED      |
+--------------------------+---------------------------+------------------------------+----------------+--------------+
| Fedora 37 (ARM)          | SKIPPED                   | SKIPPED                      | PASS           | SKIPPED      |
+--------------------------+---------------------------+------------------------------+----------------+--------------+
| Ubuntu 20.04 ARM SVE     | SKIPPED                   | SKIPPED                      | SKIPPED        | PASS         |
+--------------------------+---------------------------+------------------------------+----------------+--------------+


Debian 12 (arm)
	Kernel: Container Host Kernel
	Compiler: gcc 12.2.0

Debian 11 (Buster) (ARM)
	Kernel: Container Host Kernel
	Compiler: gcc 10.2.1

CentOS Stream 9 (ARM)
	Kernel: Container Host Kernel
	Compiler: gcc 11.4.1

Fedora 37 (ARM)
	Kernel: Depends on container host
	Compiler: gcc 12.3.1

Ubuntu 20.04 ARM SVE
	Kernel: 5.4.0-167-generic
	Compiler: gcc (Ubuntu 10.5.0-1ubuntu1~20.04) 10.5.0

To view detailed results, visit:
https://lab.dpdk.org/results/dashboard/patchsets/29602/

UNH-IOL DPDK Community Lab

To manage your email subscriptions, visit: 
https://lab.dpdk.org/results/dashboard/preferences/subscriptions/