From mboxrd@z Thu Jan  1 00:00:00 1970
Return-Path: <test-report-bounces@dpdk.org>
Received: from mails.dpdk.org (mails.dpdk.org [217.70.189.124])
	by inbox.dpdk.org (Postfix) with ESMTP id 503F043D05
	for <public@inbox.dpdk.org>; Wed, 20 Mar 2024 16:56:44 +0100 (CET)
Received: from mails.dpdk.org (localhost [127.0.0.1])
	by mails.dpdk.org (Postfix) with ESMTP id 2C85642E85;
	Wed, 20 Mar 2024 16:56:44 +0100 (CET)
Received: from mail-il1-f228.google.com (mail-il1-f228.google.com
 [209.85.166.228])
 by mails.dpdk.org (Postfix) with ESMTP id 9352D40275
 for <test-report@dpdk.org>; Wed, 20 Mar 2024 16:51:05 +0100 (CET)
Received: by mail-il1-f228.google.com with SMTP id
 e9e14a558f8ab-36695f8029aso21976775ab.3
 for <test-report@dpdk.org>; Wed, 20 Mar 2024 08:51:05 -0700 (PDT)
DKIM-Signature: v=1; a=rsa-sha256; c=relaxed/relaxed;
 d=iol.unh.edu; s=unh-iol; t=1710949865; x=1711554665; darn=dpdk.org;
 h=references:in-reply-to:cc:to:from:subject:message-id:date:from:to
 :cc:subject:date:message-id:reply-to;
 bh=qRVgriXzSrwyQcEv/C3zvvOjSC365Lqm3t4Fefa2ETs=;
 b=DvYSEA6df/o6Qa1QB4IDrU2afA8U00uwPJm3TpzCedj1tbXh2J64ES1xSyk+YXLo+4
 bhLCwcrn2pVzpkc7CrQgdmhTMUuP3OKZ5jza10hKz5/cAM9yk0NfyOx5Vpd1doCbv6wd
 VFBNslvY0ognn2bcgQmH39Toy75qIXXqiafrY=
X-Google-DKIM-Signature: v=1; a=rsa-sha256; c=relaxed/relaxed;
 d=1e100.net; s=20230601; t=1710949865; x=1711554665;
 h=references:in-reply-to:cc:to:from:subject:message-id:date
 :x-gm-message-state:from:to:cc:subject:date:message-id:reply-to;
 bh=qRVgriXzSrwyQcEv/C3zvvOjSC365Lqm3t4Fefa2ETs=;
 b=WvxvwuJBPBK2HuX4Yz6WJ7WBlrLl6f1W7Mb6ODA+nmk9oM0CQEy+TxRlOPQMWPuKP2
 pmKDgya5MUbZiYArnmjoYVyevUX/Osa1BfUDwtG2QZipC24DBdFbHNMdxb2i8olRGXJ4
 7raZ49Ph0hMx8Pwr4r1CwLlCfrSsKfMVnTz8Y/K+Cj4CtmsQuBg0Mb/GpSVKu20l9eW6
 zDVZxaA0+FgYD6Z3LRIuwssVFZrVCjZf3vCjENr4kFDQ61xyRsAEvK9UqVwzK/e52lZi
 3DjBlsX/LzbJ8NilxNIl23iB7E1RSOjVRfWQDjVsLlD4a0KraHmaJvo0pUFrSqTp1xjm
 rq7Q==
X-Gm-Message-State: AOJu0YxINOhMqpCYFmYYsPOxsJWUYK4Dmzt5SCNlH+fHhUvs04QlH+Lr
 bYEx0q7TujENnRkH35LGfawjO99He9vHr89nEUFMKff4GW7QH12jIaM7/3i9uTbYEBZ7OCfkCOK
 6fbC903cZYWorILbtYYfIRlRUHJCz1u7GN4gz4Yf6
X-Google-Smtp-Source: AGHT+IHgcX/Je7jPeJwUX6Yvd/XW7A/E1yooTqbxgMGgvvIjx9yLRvju+8RIOCfx3FP6hcjlMmoYgcO21Q1s
X-Received: by 2002:a92:ce4e:0:b0:366:5744:6695 with SMTP id
 a14-20020a92ce4e000000b0036657446695mr19057992ilr.19.1710949865055; 
 Wed, 20 Mar 2024 08:51:05 -0700 (PDT)
Received: from postal.iol.unh.edu (postal.iol.unh.edu. [132.177.123.84])
 by smtp-relay.gmail.com with ESMTPS id
 p6-20020a056e02144600b00365771d5234sm555996ilo.39.2024.03.20.08.51.04
 (version=TLS1_2 cipher=ECDHE-ECDSA-AES128-GCM-SHA256 bits=128/128);
 Wed, 20 Mar 2024 08:51:05 -0700 (PDT)
X-Relaying-Domain: iol.unh.edu
Date: Wed, 20 Mar 2024 08:51:05 -0700 (PDT)
Message-ID: <65fb05e9.050a0220.68f6c.5599SMTPIN_ADDED_MISSING@mx.google.com>
Received: from [172.17.0.9] (unknown [172.18.0.217])
 by postal.iol.unh.edu (Postfix) with ESMTP id AD4D96052471;
 Wed, 20 Mar 2024 11:51:04 -0400 (EDT)
Subject: |SUCCESS| pw138491 [PATCH] net/ena: fix mbuf double free in fast fre
From: dpdklab@iol.unh.edu
To: Test Report <test-report@dpdk.org>
Cc: dpdk-test-reports@iol.unh.edu
In-Reply-To: <20240320145232.535-1-shaibran@amazon.com>
References: <20240320145232.535-1-shaibran@amazon.com>
Content-Type: text/plain
X-BeenThere: test-report@dpdk.org
X-Mailman-Version: 2.1.29
Precedence: list
List-Id: automatic DPDK test reports <test-report.dpdk.org>
List-Unsubscribe: <https://mails.dpdk.org/options/test-report>,
 <mailto:test-report-request@dpdk.org?subject=unsubscribe>
List-Archive: <http://mails.dpdk.org/archives/test-report/>
List-Post: <mailto:test-report@dpdk.org>
List-Help: <mailto:test-report-request@dpdk.org?subject=help>
List-Subscribe: <https://mails.dpdk.org/listinfo/test-report>,
 <mailto:test-report-request@dpdk.org?subject=subscribe>
Errors-To: test-report-bounces@dpdk.org

Test-Label: iol-unit-arm64-testing
Test-Status: SUCCESS
http://dpdk.org/patch/138491

_Testing PASS_

Submitter: Brandes, Shai <shaibran@amazon.com>
Date: Wednesday, March 20 2024 14:52:32 
DPDK git baseline: Repo:dpdk
  Branch: master
  CommitID:31a4216a9ee3c02cf2443d533f6a491cdb25904e

138491 --> testing pass

Test environment and result as below:

+--------------------------+---------------------------+------------------------------+----------------+--------------+
|       Environment        | cryptodev_sw_zuc_autotest | cryptodev_sw_snow3g_autotest | dpdk_unit_test | lpm_autotest |
+==========================+===========================+==============================+================+==============+
| Debian 12 (arm)          | PASS                      | PASS                         | PASS           | SKIPPED      |
+--------------------------+---------------------------+------------------------------+----------------+--------------+
| Debian 11 (Buster) (ARM) | SKIPPED                   | SKIPPED                      | PASS           | SKIPPED      |
+--------------------------+---------------------------+------------------------------+----------------+--------------+
| CentOS Stream 9 (ARM)    | SKIPPED                   | SKIPPED                      | PASS           | SKIPPED      |
+--------------------------+---------------------------+------------------------------+----------------+--------------+
| Fedora 37 (ARM)          | SKIPPED                   | SKIPPED                      | PASS           | SKIPPED      |
+--------------------------+---------------------------+------------------------------+----------------+--------------+
| Ubuntu 20.04 ARM SVE     | SKIPPED                   | SKIPPED                      | SKIPPED        | PASS         |
+--------------------------+---------------------------+------------------------------+----------------+--------------+


Debian 12 (arm)
	Kernel: Container Host Kernel
	Compiler: gcc 12.2.0

Debian 11 (Buster) (ARM)
	Kernel: Container Host Kernel
	Compiler: gcc 10.2.1

CentOS Stream 9 (ARM)
	Kernel: Container Host Kernel
	Compiler: gcc 11.4.1

Fedora 37 (ARM)
	Kernel: Depends on container host
	Compiler: gcc 12.3.1

Ubuntu 20.04 ARM SVE
	Kernel: 5.4.0-167-generic
	Compiler: gcc (Ubuntu 10.5.0-1ubuntu1~20.04) 10.5.0

To view detailed results, visit:
https://lab.dpdk.org/results/dashboard/patchsets/29602/

UNH-IOL DPDK Community Lab

To manage your email subscriptions, visit: 
https://lab.dpdk.org/results/dashboard/preferences/subscriptions/