From mboxrd@z Thu Jan  1 00:00:00 1970
Return-Path: <test-report-bounces@dpdk.org>
Received: from mails.dpdk.org (mails.dpdk.org [217.70.189.124])
	by inbox.dpdk.org (Postfix) with ESMTP id 42AE443D06
	for <public@inbox.dpdk.org>; Wed, 20 Mar 2024 18:29:40 +0100 (CET)
Received: from mails.dpdk.org (localhost [127.0.0.1])
	by mails.dpdk.org (Postfix) with ESMTP id 3CD9A40ED3;
	Wed, 20 Mar 2024 18:29:40 +0100 (CET)
Received: from mail-oa1-f99.google.com (mail-oa1-f99.google.com
 [209.85.160.99]) by mails.dpdk.org (Postfix) with ESMTP id 3321E40A6F
 for <test-report@dpdk.org>; Wed, 20 Mar 2024 18:29:38 +0100 (CET)
Received: by mail-oa1-f99.google.com with SMTP id
 586e51a60fabf-2297d0d6013so108723fac.0
 for <test-report@dpdk.org>; Wed, 20 Mar 2024 10:29:38 -0700 (PDT)
DKIM-Signature: v=1; a=rsa-sha256; c=relaxed/relaxed;
 d=iol.unh.edu; s=unh-iol; t=1710955777; x=1711560577; darn=dpdk.org;
 h=references:in-reply-to:cc:to:from:subject:message-id:date:from:to
 :cc:subject:date:message-id:reply-to;
 bh=QtQsIGUr7TNPSFjIncZC6w6bRN3+o8lUEcD4N7D/Yrk=;
 b=ahqtjQVd7ozQhxxGX2KITJbyi+L2eohWkP2nwuGPNspC7bVmFdj7Cn+IBcRrNTU87P
 s4yRTNxD2pz4kcJlVChMPENrYZDHI6gcHUaifs8yX8+zzx8JStQgtQ6l1aP7/1Pc7S/a
 MdMx/cDx6P3T0KSWg6G3cujcuzS9n38zoRr+U=
X-Google-DKIM-Signature: v=1; a=rsa-sha256; c=relaxed/relaxed;
 d=1e100.net; s=20230601; t=1710955777; x=1711560577;
 h=references:in-reply-to:cc:to:from:subject:message-id:date
 :x-gm-message-state:from:to:cc:subject:date:message-id:reply-to;
 bh=QtQsIGUr7TNPSFjIncZC6w6bRN3+o8lUEcD4N7D/Yrk=;
 b=BzyQLiIzW9dpmB8NRR1cY7cqwnMTmumd9zwBhhpr4PfFaYT6bVxEzQKd/wUs918ana
 yVypZh9h2RnmUquWSk6+8+rBy/DR6EkA1t2yG5D78t8uWCSw7EuEKvT4L82AvttK7OJj
 bRqDlEOIWl5xNdwSJpYbfHA8HpzgqxMrVfM0oUEYk/SzyTIW9hYpVa0qe1A4IKbF4dVF
 J41Om0Fa8WE7Bx/AApjo4wEO0hQRCgB/SiTNNJ8xxwDmoFW6tbxPq04RPhxF0peaRoPS
 BLGjpIa4BaJeoWmv9bgsTIJC836zJLB8DoVqDE2yQF9xlnxU6kAN3NZHnNTULHKy009d
 HWJg==
X-Gm-Message-State: AOJu0YyjHTm4zbtVjCkHel7NZzOYawtQndcGen5RD0jk1a0i8TiIx8vs
 spo8jP4d6jzXdydZNKDc25INOQ8cA3UIlWv6YOcsPLgBtqOTx/+gvc6gKW36qUzDT9EiUTmNSyY
 SG+G+a9IP/SaVUZlKnVQK7sUYlhU6J4f1XGb+v+Jy
X-Google-Smtp-Source: AGHT+IG+ze5dw+UzJ6qCt2l/Q7PsOT809OBEW0dvIri1Jl0tbjOmNW7XHxWKpFsigXpI5TwpadRC2eMYwqA1
X-Received: by 2002:a05:6870:169b:b0:221:91dd:6ea6 with SMTP id
 j27-20020a056870169b00b0022191dd6ea6mr2726044oae.58.1710955777558; 
 Wed, 20 Mar 2024 10:29:37 -0700 (PDT)
Received: from postal.iol.unh.edu (postal.iol.unh.edu. [132.177.123.84])
 by smtp-relay.gmail.com with ESMTPS id
 eb10-20020a0568306dca00b006e69e53de68sm296583otb.6.2024.03.20.10.29.37
 (version=TLS1_2 cipher=ECDHE-ECDSA-AES128-GCM-SHA256 bits=128/128);
 Wed, 20 Mar 2024 10:29:37 -0700 (PDT)
X-Relaying-Domain: iol.unh.edu
Date: Wed, 20 Mar 2024 10:29:37 -0700 (PDT)
Message-ID: <65fb1d01.050a0220.b8a29.127fSMTPIN_ADDED_MISSING@mx.google.com>
Received: from [172.21.0.6] (unknown [172.18.0.240])
 by postal.iol.unh.edu (Postfix) with ESMTP id 0B9BD6052471;
 Wed, 20 Mar 2024 13:29:37 -0400 (EDT)
Subject: |SUCCESS| pw138492-138554 [PATCH] [83/83] bus/dpaa: move alignment a
From: dpdklab@iol.unh.edu
To: Test Report <test-report@dpdk.org>
Cc: Tyler Retzlaff <roretzla@linux.microsoft.com>
In-Reply-To: <1710949096-5786-84-git-send-email-roretzla@linux.microsoft.com>
References: <1710949096-5786-84-git-send-email-roretzla@linux.microsoft.com>
Content-Type: text/plain
X-BeenThere: test-report@dpdk.org
X-Mailman-Version: 2.1.29
Precedence: list
List-Id: automatic DPDK test reports <test-report.dpdk.org>
List-Unsubscribe: <https://mails.dpdk.org/options/test-report>,
 <mailto:test-report-request@dpdk.org?subject=unsubscribe>
List-Archive: <http://mails.dpdk.org/archives/test-report/>
List-Post: <mailto:test-report@dpdk.org>
List-Help: <mailto:test-report-request@dpdk.org?subject=help>
List-Subscribe: <https://mails.dpdk.org/listinfo/test-report>,
 <mailto:test-report-request@dpdk.org?subject=subscribe>
Errors-To: test-report-bounces@dpdk.org

Test-Label: iol-abi-testing
Test-Status: SUCCESS
http://dpdk.org/patch/138554

_Testing PASS_

Submitter: Tyler Retzlaff <roretzla@linux.microsoft.com>
Date: Wednesday, March 20 2024 15:38:16 
DPDK git baseline: Repo:dpdk
  Branch: master
  CommitID:80ecef6d1f71fcebc0a51d7cabc51f73ee142ff2

138492-138554 --> testing pass

Test environment and result as below:

+------------------+----------+
|   Environment    | abi_test |
+==================+==========+
| CentOS Stream 8  | PASS     |
+------------------+----------+
| openSUSE Leap 15 | PASS     |
+------------------+----------+
| CentOS Stream 9  | PASS     |
+------------------+----------+
| Debian 11 (arm)  | PASS     |
+------------------+----------+
| Fedora 38        | PASS     |
+------------------+----------+
| Debian Bullseye  | PASS     |
+------------------+----------+


CentOS Stream 8
	Kernel: 5.4.0-167-generic
	Compiler: gcc 8.5.0 20210514

openSUSE Leap 15
	Kernel: 5.4.0-167-generic
	Compiler: gcc 7.5.0

CentOS Stream 9
	Kernel: 5.4.0-167-generic
	Compiler: gcc 11.4.1 20230605

Debian 11 (arm)
	Kernel: Container Host Kernel
	Compiler: gcc 10.2.1

Fedora 38
	Kernel: Depends on container host
	Compiler: gcc 13.2.1

Debian Bullseye
	Kernel: 5.4.0-167-generic
	Compiler: gcc 10.2.1-6

To view detailed results, visit:
https://lab.dpdk.org/results/dashboard/patchsets/29603/

UNH-IOL DPDK Community Lab

To manage your email subscriptions, visit: 
https://lab.dpdk.org/results/dashboard/preferences/subscriptions/