From mboxrd@z Thu Jan  1 00:00:00 1970
Return-Path: <test-report-bounces@dpdk.org>
Received: from mails.dpdk.org (mails.dpdk.org [217.70.189.124])
	by inbox.dpdk.org (Postfix) with ESMTP id BF07743D06
	for <public@inbox.dpdk.org>; Wed, 20 Mar 2024 18:31:23 +0100 (CET)
Received: from mails.dpdk.org (localhost [127.0.0.1])
	by mails.dpdk.org (Postfix) with ESMTP id BBE0D40ED3;
	Wed, 20 Mar 2024 18:31:23 +0100 (CET)
Received: from mail-pl1-f228.google.com (mail-pl1-f228.google.com
 [209.85.214.228])
 by mails.dpdk.org (Postfix) with ESMTP id C22F340A6F
 for <test-report@dpdk.org>; Wed, 20 Mar 2024 18:31:16 +0100 (CET)
Received: by mail-pl1-f228.google.com with SMTP id
 d9443c01a7336-1e00d1e13a2so317515ad.0
 for <test-report@dpdk.org>; Wed, 20 Mar 2024 10:31:16 -0700 (PDT)
DKIM-Signature: v=1; a=rsa-sha256; c=relaxed/relaxed;
 d=iol.unh.edu; s=unh-iol; t=1710955876; x=1711560676; darn=dpdk.org;
 h=references:in-reply-to:cc:to:from:subject:message-id:date:from:to
 :cc:subject:date:message-id:reply-to;
 bh=QtQsIGUr7TNPSFjIncZC6w6bRN3+o8lUEcD4N7D/Yrk=;
 b=e6QAZXzYGUB01lZyofcH8X+lKjGK9S4XFFhkvb/MZH2759xX+ntxoEibK/K/Kw4tDP
 hFxLxzLrjaaILA4IJGkB+oXTW1RLGevAWpGBsdm1FjEf/bolkUkEenHCz51JphCDGSH2
 t/bMlvIbfiuTvLT5RYWvu9Z+77x/ZjCgzAYlg=
X-Google-DKIM-Signature: v=1; a=rsa-sha256; c=relaxed/relaxed;
 d=1e100.net; s=20230601; t=1710955876; x=1711560676;
 h=references:in-reply-to:cc:to:from:subject:message-id:date
 :x-gm-message-state:from:to:cc:subject:date:message-id:reply-to;
 bh=QtQsIGUr7TNPSFjIncZC6w6bRN3+o8lUEcD4N7D/Yrk=;
 b=jk8zU+cvazujN2gXYEY+XS6dGyEA8ruFomiyeNh9Yigl/RcqiiZUwslQgJ/r9W82pr
 5wahCPzpRJqYAdFdCCXvaanCdHEKfJCcPei0sopHjk6RC9rbnyS5JupxpiDtrGKXmGZg
 osVDs8pawAdU+6/JDk5cIISxvcU9GCPfOiUkp/p59eK7+Gp+D4hWmr9VwLBmX7zsedP1
 lllrEv6IDczCu86+6rTUryVJ1jHUA59r/1Sz/yf+kQyombOkvKfn6Oq3S/1rvfXiNnIY
 7VkSe9n3ZiT1hI0a4TrJ+06AlitlbiaRBNkhrMC9JzRup4jnlQtIhOZbWHy/bg4S6Irq
 t9gA==
X-Gm-Message-State: AOJu0YzlDmD/xi2l1A3Pvyxe2/Zi3/pENkHatj0jBNkvGA2u7vQefW4d
 j+SI8Qhh2KnTlmcDSAPLbsviE7WK2dA3MjtH1ixhhJlkGqvbiWEcnmQNLnvUaMZzUy1ZiCpB+fA
 gkefPHtFrLw5w3q6SBDtZnpxcfd0H0im4+LMXtJ1V
X-Google-Smtp-Source: AGHT+IFAZWJMC/cNYLwdX+lMWr2jGRsEwiY16EdQwXffbv+Y84Tt4UIXwp8LyKXpWJqEeBX3r/MCuRfguTZ9
X-Received: by 2002:a17:902:b706:b0:1dd:df8c:4334 with SMTP id
 d6-20020a170902b70600b001dddf8c4334mr15347982pls.62.1710955875938; 
 Wed, 20 Mar 2024 10:31:15 -0700 (PDT)
Received: from postal.iol.unh.edu (postal.iol.unh.edu. [132.177.123.84])
 by smtp-relay.gmail.com with ESMTPS id
 v6-20020a1709028d8600b001e0295e0897sm111963plo.98.2024.03.20.10.31.15
 (version=TLS1_2 cipher=ECDHE-ECDSA-AES128-GCM-SHA256 bits=128/128);
 Wed, 20 Mar 2024 10:31:15 -0700 (PDT)
X-Relaying-Domain: iol.unh.edu
Date: Wed, 20 Mar 2024 10:31:15 -0700 (PDT)
Message-ID: <65fb1d63.170a0220.cb595.6098SMTPIN_ADDED_MISSING@mx.google.com>
Received: from [172.21.0.7] (unknown [172.18.0.240])
 by postal.iol.unh.edu (Postfix) with ESMTP id 1AB136052471;
 Wed, 20 Mar 2024 13:31:15 -0400 (EDT)
Subject: |SUCCESS| pw138492-138554 [PATCH] [83/83] bus/dpaa: move alignment a
From: dpdklab@iol.unh.edu
To: Test Report <test-report@dpdk.org>
Cc: Tyler Retzlaff <roretzla@linux.microsoft.com>
In-Reply-To: <1710949096-5786-84-git-send-email-roretzla@linux.microsoft.com>
References: <1710949096-5786-84-git-send-email-roretzla@linux.microsoft.com>
Content-Type: text/plain
X-BeenThere: test-report@dpdk.org
X-Mailman-Version: 2.1.29
Precedence: list
List-Id: automatic DPDK test reports <test-report.dpdk.org>
List-Unsubscribe: <https://mails.dpdk.org/options/test-report>,
 <mailto:test-report-request@dpdk.org?subject=unsubscribe>
List-Archive: <http://mails.dpdk.org/archives/test-report/>
List-Post: <mailto:test-report@dpdk.org>
List-Help: <mailto:test-report-request@dpdk.org?subject=help>
List-Subscribe: <https://mails.dpdk.org/listinfo/test-report>,
 <mailto:test-report-request@dpdk.org?subject=subscribe>
Errors-To: test-report-bounces@dpdk.org

Test-Label: iol-abi-testing
Test-Status: SUCCESS
http://dpdk.org/patch/138554

_Testing PASS_

Submitter: Tyler Retzlaff <roretzla@linux.microsoft.com>
Date: Wednesday, March 20 2024 15:38:16 
DPDK git baseline: Repo:dpdk
  Branch: master
  CommitID:80ecef6d1f71fcebc0a51d7cabc51f73ee142ff2

138492-138554 --> testing pass

Test environment and result as below:

+------------------+----------+
|   Environment    | abi_test |
+==================+==========+
| CentOS Stream 8  | PASS     |
+------------------+----------+
| openSUSE Leap 15 | PASS     |
+------------------+----------+
| CentOS Stream 9  | PASS     |
+------------------+----------+
| Debian 11 (arm)  | PASS     |
+------------------+----------+
| Fedora 38        | PASS     |
+------------------+----------+
| Debian Bullseye  | PASS     |
+------------------+----------+


CentOS Stream 8
	Kernel: 5.4.0-167-generic
	Compiler: gcc 8.5.0 20210514

openSUSE Leap 15
	Kernel: 5.4.0-167-generic
	Compiler: gcc 7.5.0

CentOS Stream 9
	Kernel: 5.4.0-167-generic
	Compiler: gcc 11.4.1 20230605

Debian 11 (arm)
	Kernel: Container Host Kernel
	Compiler: gcc 10.2.1

Fedora 38
	Kernel: Depends on container host
	Compiler: gcc 13.2.1

Debian Bullseye
	Kernel: 5.4.0-167-generic
	Compiler: gcc 10.2.1-6

To view detailed results, visit:
https://lab.dpdk.org/results/dashboard/patchsets/29603/

UNH-IOL DPDK Community Lab

To manage your email subscriptions, visit: 
https://lab.dpdk.org/results/dashboard/preferences/subscriptions/