From mboxrd@z Thu Jan  1 00:00:00 1970
Return-Path: <test-report-bounces@dpdk.org>
Received: from mails.dpdk.org (mails.dpdk.org [217.70.189.124])
	by inbox.dpdk.org (Postfix) with ESMTP id 8197143D06
	for <public@inbox.dpdk.org>; Wed, 20 Mar 2024 18:32:22 +0100 (CET)
Received: from mails.dpdk.org (localhost [127.0.0.1])
	by mails.dpdk.org (Postfix) with ESMTP id 7B3D540ED3;
	Wed, 20 Mar 2024 18:32:22 +0100 (CET)
Received: from mail-oo1-f99.google.com (mail-oo1-f99.google.com
 [209.85.161.99]) by mails.dpdk.org (Postfix) with ESMTP id A05E940A6F
 for <test-report@dpdk.org>; Wed, 20 Mar 2024 18:32:21 +0100 (CET)
Received: by mail-oo1-f99.google.com with SMTP id
 006d021491bc7-5a47a9f7755so66411eaf.0
 for <test-report@dpdk.org>; Wed, 20 Mar 2024 10:32:21 -0700 (PDT)
DKIM-Signature: v=1; a=rsa-sha256; c=relaxed/relaxed;
 d=iol.unh.edu; s=unh-iol; t=1710955941; x=1711560741; darn=dpdk.org;
 h=references:in-reply-to:cc:to:from:subject:message-id:date:from:to
 :cc:subject:date:message-id:reply-to;
 bh=g0VgIXVxY5jbOB9DSadr6HTSMh1nkMyUhBp46/Jw1nA=;
 b=aI2opMAI7o1qbduLbbGBL98OzzJlcftEU7oJ5uoyB+LyA2b2QVrxTpBaUiqFBKUGYi
 f4jMzaw2THV8VKiIy25k9kWpBKFyqM8smWpcA9DXVvsdfiYHcR4VOcd9lgr1gUL2rLS3
 emNs7ohuNK0BdXPXG8CGj+ei2Fmmk8dN4DriU=
X-Google-DKIM-Signature: v=1; a=rsa-sha256; c=relaxed/relaxed;
 d=1e100.net; s=20230601; t=1710955941; x=1711560741;
 h=references:in-reply-to:cc:to:from:subject:message-id:date
 :x-gm-message-state:from:to:cc:subject:date:message-id:reply-to;
 bh=g0VgIXVxY5jbOB9DSadr6HTSMh1nkMyUhBp46/Jw1nA=;
 b=fKwa4zBhn0Xc3N4kvVYv11sshq+sfEftsMg7cxaXv2ypUSMiM4d6JKMfPl40dgzk/3
 Q3i1619mNyfZ4fr5Ih7ivUrKs3JaHGpnlRBS2h8aVrfoTDlvnyuJTvd6O2ig16XKw1KY
 hGUfnzntOYEYmTSS5H4aNQ4xQb3IMt0WEeCAvTzQJah+L2GgXhxBKGgO5IDUxK/G0/O8
 XbNFUIOVbc4oUW0U1Avylj4t2FrWEkotweioivSalcpvinJ3fKC1bdI3ciIzB/UroVLU
 FYiGZDZZeyF3D0G009fYuI9U7a2l+uvmlcsZfNA4k/rh9BEVvKuzcBmKf10bJ8FGVd9o
 CIAA==
X-Gm-Message-State: AOJu0YwHdgp2nA/I5nuuPVTx7FGRX+7sF+5UQNWwQuvD8bMvP5iivtGD
 1/5V6xF3BXBfU70tQ63GfJOdt8Gx3xJAArazauXmJL782Gd6v6GORm34TKwDGPEqajEPYq1DRZv
 SkaQzETkr8qHhcOwLwBu/YwHYdETwU1FS2p2XGXgU
X-Google-Smtp-Source: AGHT+IGh+6FcR8LxThZ4Io7asi1iu6Qt+EsWf+uS/MEr0rvPYn52JiV0I9VJpZKflWBlMEXAnNbhcX5t1ZVM
X-Received: by 2002:a4a:925a:0:b0:5a2:3864:4ab0 with SMTP id
 g26-20020a4a925a000000b005a238644ab0mr16140288ooh.3.1710955941016; 
 Wed, 20 Mar 2024 10:32:21 -0700 (PDT)
Received: from postal.iol.unh.edu (postal.iol.unh.edu. [132.177.123.84])
 by smtp-relay.gmail.com with ESMTPS id
 u38-20020a4a8c29000000b0059f85a1a55fsm1010685ooj.18.2024.03.20.10.32.20
 (version=TLS1_2 cipher=ECDHE-ECDSA-AES128-GCM-SHA256 bits=128/128);
 Wed, 20 Mar 2024 10:32:21 -0700 (PDT)
X-Relaying-Domain: iol.unh.edu
Date: Wed, 20 Mar 2024 10:32:21 -0700 (PDT)
Message-ID: <65fb1da5.4a0a0220.1877a.613eSMTPIN_ADDED_MISSING@mx.google.com>
Received: from [172.21.0.6] (unknown [172.18.0.240])
 by postal.iol.unh.edu (Postfix) with ESMTP id 80AB46052471;
 Wed, 20 Mar 2024 13:32:20 -0400 (EDT)
Subject: |SUCCESS| pw138492-138554 [PATCH] [83/83] bus/dpaa: move alignment a
From: dpdklab@iol.unh.edu
To: Test Report <test-report@dpdk.org>
Cc: dpdk-test-reports@iol.unh.edu
In-Reply-To: <1710949096-5786-84-git-send-email-roretzla@linux.microsoft.com>
References: <1710949096-5786-84-git-send-email-roretzla@linux.microsoft.com>
Content-Type: text/plain
X-BeenThere: test-report@dpdk.org
X-Mailman-Version: 2.1.29
Precedence: list
List-Id: automatic DPDK test reports <test-report.dpdk.org>
List-Unsubscribe: <https://mails.dpdk.org/options/test-report>,
 <mailto:test-report-request@dpdk.org?subject=unsubscribe>
List-Archive: <http://mails.dpdk.org/archives/test-report/>
List-Post: <mailto:test-report@dpdk.org>
List-Help: <mailto:test-report-request@dpdk.org?subject=help>
List-Subscribe: <https://mails.dpdk.org/listinfo/test-report>,
 <mailto:test-report-request@dpdk.org?subject=subscribe>
Errors-To: test-report-bounces@dpdk.org

Test-Label: iol-compile-amd64-testing
Test-Status: SUCCESS
http://dpdk.org/patch/138554

_Testing PASS_

Submitter: Tyler Retzlaff <roretzla@linux.microsoft.com>
Date: Wednesday, March 20 2024 15:38:16 
DPDK git baseline: Repo:dpdk
  Branch: master
  CommitID:80ecef6d1f71fcebc0a51d7cabc51f73ee142ff2

138492-138554 --> testing pass

Test environment and result as below:

+---------------------+--------------------+----------------------+-------------------+
|     Environment     | dpdk_meson_compile | dpdk_mingw64_compile | dpdk_msvc_compile |
+=====================+====================+======================+===================+
| Windows Server 2019 | PASS               | PASS                 | SKIPPED           |
+---------------------+--------------------+----------------------+-------------------+
| FreeBSD 13.2        | PASS               | SKIPPED              | SKIPPED           |
+---------------------+--------------------+----------------------+-------------------+
| Windows Server 2022 | PASS               | PASS                 | PASS              |
+---------------------+--------------------+----------------------+-------------------+
| Debian 11 (arm)     | PASS               | SKIPPED              | SKIPPED           |
+---------------------+--------------------+----------------------+-------------------+
| CentOS Stream 9     | PASS               | SKIPPED              | SKIPPED           |
+---------------------+--------------------+----------------------+-------------------+
| Debian Bullseye     | PASS               | SKIPPED              | SKIPPED           |
+---------------------+--------------------+----------------------+-------------------+


Windows Server 2019
	Kernel: 10.0.17763
	Compiler: clang 14.0 and gcc 8.1.0 (MinGW)

FreeBSD 13.2
	Kernel: 13.2
	Compiler: clang 14.0.5

Windows Server 2022
	Kernel: 10.0.20348.2031
	Compiler: clang 15.0.7, gcc 8.1.0 (MinGW), and MSVC VS 17.9

Debian 11 (arm)
	Kernel: Container Host Kernel
	Compiler: gcc 10.2.1

CentOS Stream 9
	Kernel: 5.4.0-167-generic
	Compiler: gcc 11.4.1 20230605

Debian Bullseye
	Kernel: 5.4.0-167-generic
	Compiler: gcc 10.2.1-6

To view detailed results, visit:
https://lab.dpdk.org/results/dashboard/patchsets/29603/

UNH-IOL DPDK Community Lab

To manage your email subscriptions, visit: 
https://lab.dpdk.org/results/dashboard/preferences/subscriptions/