From mboxrd@z Thu Jan  1 00:00:00 1970
Return-Path: <test-report-bounces@dpdk.org>
Received: from mails.dpdk.org (mails.dpdk.org [217.70.189.124])
	by inbox.dpdk.org (Postfix) with ESMTP id 8CC3543D08
	for <public@inbox.dpdk.org>; Wed, 20 Mar 2024 19:15:36 +0100 (CET)
Received: from mails.dpdk.org (localhost [127.0.0.1])
	by mails.dpdk.org (Postfix) with ESMTP id 611C640A6F;
	Wed, 20 Mar 2024 19:15:36 +0100 (CET)
Received: from mail-qv1-f99.google.com (mail-qv1-f99.google.com
 [209.85.219.99]) by mails.dpdk.org (Postfix) with ESMTP id 31D16402CE
 for <test-report@dpdk.org>; Wed, 20 Mar 2024 19:15:35 +0100 (CET)
Received: by mail-qv1-f99.google.com with SMTP id
 6a1803df08f44-696315c9da5so1421096d6.2
 for <test-report@dpdk.org>; Wed, 20 Mar 2024 11:15:35 -0700 (PDT)
DKIM-Signature: v=1; a=rsa-sha256; c=relaxed/relaxed;
 d=iol.unh.edu; s=unh-iol; t=1710958534; x=1711563334; darn=dpdk.org;
 h=references:in-reply-to:cc:to:from:subject:message-id:date:from:to
 :cc:subject:date:message-id:reply-to;
 bh=K38KZoZhDm0qTsQAgS8TzOCEo2yEaxx4rTRFXHm22Bo=;
 b=IT6h5414ijnf2OU4/pkmy36jojNSqp+d8Lr6iwAh7x03uXE4rSH7/es7oBtGp2qYhb
 znWdCIrHRckQ6Uz8+gQ55Pckw09MN7SCrdbvPkO2hSNFKuZQoqsCoV++s0UaKHwMCCBK
 rYlLX2o5DQ6nX/KMBmcYmJ+3M4Ykq6/3rvHYA=
X-Google-DKIM-Signature: v=1; a=rsa-sha256; c=relaxed/relaxed;
 d=1e100.net; s=20230601; t=1710958534; x=1711563334;
 h=references:in-reply-to:cc:to:from:subject:message-id:date
 :x-gm-message-state:from:to:cc:subject:date:message-id:reply-to;
 bh=K38KZoZhDm0qTsQAgS8TzOCEo2yEaxx4rTRFXHm22Bo=;
 b=TOscVcnCWTK8EkujSJNJsFhRrvi1Mal9RvUnqj8xLDpiyAaz2wMhDiKnkp85HaYjwj
 V2WqFzKxX/L/ADF478DaxwsMPp5Eh4NrIQzVt0k80C/Sl32DTU5lrY3JPtv51Sf3T2HA
 iXf8wg+J4dNX0BTIQSs4zGnZr3FeivzsBrzpqlBvUHYCjqrtQmTDgUnTP1FUCMVgYjb/
 7YzC9XIezBdvQHLbuljnIDy2G778klVmHGCBYQ8agGNZTS1SgEoPmJhpzCUu6vnASe5f
 t2JJhzo9swbVdpcy9Ai5+WqDwzZehydiPdShSudo+K21KuGv26gUVLFX/h0uQOvgZync
 U2AA==
X-Gm-Message-State: AOJu0YyhgRPspx//WhhkglDIm30jG69rWDCr3iZK4lmhzvmmS5v1mqEX
 z4aRx9s2tj+ZD2cUmS3KE32246i3fDfLRAaBYRK7YHmh+D7Ba8wg5r19DqquQebQPMmJamtXySG
 PGntH7EsSUzaMLQILY5oYMsYPnDA7P3izaKe9BFgc
X-Google-Smtp-Source: AGHT+IE0kEaU+fNQibgSauSBJ9E/xH9rjMrYdEBf/h2ebGyabQD3zypvT7HP6tRWFBMMWIKL61myWFVK+ETH
X-Received: by 2002:a0c:e150:0:b0:690:8aed:510c with SMTP id
 c16-20020a0ce150000000b006908aed510cmr18933284qvl.48.1710958534625; 
 Wed, 20 Mar 2024 11:15:34 -0700 (PDT)
Received: from postal.iol.unh.edu (postal.iol.unh.edu. [132.177.123.84])
 by smtp-relay.gmail.com with ESMTPS id
 u5-20020a0cea45000000b0069121c1a662sm947636qvp.40.2024.03.20.11.15.34
 (version=TLS1_2 cipher=ECDHE-ECDSA-AES128-GCM-SHA256 bits=128/128);
 Wed, 20 Mar 2024 11:15:34 -0700 (PDT)
X-Relaying-Domain: iol.unh.edu
Date: Wed, 20 Mar 2024 11:15:34 -0700 (PDT)
Message-ID: <65fb27c6.0c0a0220.d1d5e.0d87SMTPIN_ADDED_MISSING@mx.google.com>
Received: from [172.17.0.8] (unknown [172.18.0.217])
 by postal.iol.unh.edu (Postfix) with ESMTP id 45A9B6052471;
 Wed, 20 Mar 2024 14:15:34 -0400 (EDT)
Subject: |SUCCESS| pw138492-138554 [PATCH] [83/83] bus/dpaa: move alignment a
From: dpdklab@iol.unh.edu
To: Test Report <test-report@dpdk.org>
Cc: dpdk-test-reports@iol.unh.edu
In-Reply-To: <1710949096-5786-84-git-send-email-roretzla@linux.microsoft.com>
References: <1710949096-5786-84-git-send-email-roretzla@linux.microsoft.com>
Content-Type: text/plain
X-BeenThere: test-report@dpdk.org
X-Mailman-Version: 2.1.29
Precedence: list
List-Id: automatic DPDK test reports <test-report.dpdk.org>
List-Unsubscribe: <https://mails.dpdk.org/options/test-report>,
 <mailto:test-report-request@dpdk.org?subject=unsubscribe>
List-Archive: <http://mails.dpdk.org/archives/test-report/>
List-Post: <mailto:test-report@dpdk.org>
List-Help: <mailto:test-report-request@dpdk.org?subject=help>
List-Subscribe: <https://mails.dpdk.org/listinfo/test-report>,
 <mailto:test-report-request@dpdk.org?subject=subscribe>
Errors-To: test-report-bounces@dpdk.org

Test-Label: iol-unit-arm64-testing
Test-Status: SUCCESS
http://dpdk.org/patch/138554

_Testing PASS_

Submitter: Tyler Retzlaff <roretzla@linux.microsoft.com>
Date: Wednesday, March 20 2024 15:38:16 
DPDK git baseline: Repo:dpdk
  Branch: master
  CommitID:80ecef6d1f71fcebc0a51d7cabc51f73ee142ff2

138492-138554 --> testing pass

Test environment and result as below:

+--------------------------+--------------+----------------+---------------------------+------------------------------+
|       Environment        | lpm_autotest | dpdk_unit_test | cryptodev_sw_zuc_autotest | cryptodev_sw_snow3g_autotest |
+==========================+==============+================+===========================+==============================+
| Ubuntu 20.04 ARM SVE     | PASS         | SKIPPED        | SKIPPED                   | SKIPPED                      |
+--------------------------+--------------+----------------+---------------------------+------------------------------+
| Debian 11 (Buster) (ARM) | SKIPPED      | PASS           | SKIPPED                   | SKIPPED                      |
+--------------------------+--------------+----------------+---------------------------+------------------------------+
| CentOS Stream 9 (ARM)    | SKIPPED      | PASS           | SKIPPED                   | SKIPPED                      |
+--------------------------+--------------+----------------+---------------------------+------------------------------+
| Fedora 38 (ARM Clang)    | SKIPPED      | PASS           | SKIPPED                   | SKIPPED                      |
+--------------------------+--------------+----------------+---------------------------+------------------------------+
| Fedora 38 (ARM)          | SKIPPED      | PASS           | SKIPPED                   | SKIPPED                      |
+--------------------------+--------------+----------------+---------------------------+------------------------------+
| Debian 12 (arm)          | SKIPPED      | SKIPPED        | PASS                      | PASS                         |
+--------------------------+--------------+----------------+---------------------------+------------------------------+


Ubuntu 20.04 ARM SVE
	Kernel: 5.4.0-167-generic
	Compiler: gcc (Ubuntu 10.5.0-1ubuntu1~20.04) 10.5.0

Debian 11 (Buster) (ARM)
	Kernel: Container Host Kernel
	Compiler: gcc 10.2.1

CentOS Stream 9 (ARM)
	Kernel: Container Host Kernel
	Compiler: gcc 11.4.1

Fedora 38 (ARM Clang)
	Kernel: Depends on container host
	Compiler: clang 16.0.6

Fedora 38 (ARM)
	Kernel: Depends on container host
	Compiler: gcc 13.2.1

Debian 12 (arm)
	Kernel: Container Host Kernel
	Compiler: gcc 12.2.0

To view detailed results, visit:
https://lab.dpdk.org/results/dashboard/patchsets/29603/

UNH-IOL DPDK Community Lab

To manage your email subscriptions, visit: 
https://lab.dpdk.org/results/dashboard/preferences/subscriptions/