From mboxrd@z Thu Jan  1 00:00:00 1970
Return-Path: <test-report-bounces@dpdk.org>
Received: from mails.dpdk.org (mails.dpdk.org [217.70.189.124])
	by inbox.dpdk.org (Postfix) with ESMTP id C453443D08
	for <public@inbox.dpdk.org>; Wed, 20 Mar 2024 19:54:42 +0100 (CET)
Received: from mails.dpdk.org (localhost [127.0.0.1])
	by mails.dpdk.org (Postfix) with ESMTP id C03D542D91;
	Wed, 20 Mar 2024 19:54:42 +0100 (CET)
Received: from mail-qv1-f97.google.com (mail-qv1-f97.google.com
 [209.85.219.97]) by mails.dpdk.org (Postfix) with ESMTP id 51BA5402CE
 for <test-report@dpdk.org>; Wed, 20 Mar 2024 19:54:10 +0100 (CET)
Received: by mail-qv1-f97.google.com with SMTP id
 6a1803df08f44-690b8788b12so1341166d6.2
 for <test-report@dpdk.org>; Wed, 20 Mar 2024 11:54:10 -0700 (PDT)
DKIM-Signature: v=1; a=rsa-sha256; c=relaxed/relaxed;
 d=iol.unh.edu; s=unh-iol; t=1710960849; x=1711565649; darn=dpdk.org;
 h=references:in-reply-to:cc:to:from:subject:message-id:date:from:to
 :cc:subject:date:message-id:reply-to;
 bh=S3qRW3NvuXOwDd9E+CMf1GSD4ZgeRLO6hMbBIsFaA5s=;
 b=BcDutWhRXIbbO6XnMNEOl82hgA/Lpq9/8FT6q/FJOy6VcHUOFyxeOSH/FyLKGv5igT
 M/+KYkRPhBzda9iT9RGJWNPfK/huwDSWKi7zcOB+SY8aOHn/DrO17CC+7O1fg6gP26fO
 W+uQOy4iglpZR70Ep6XMU6VZb8Eu9ynJ9Jw0I=
X-Google-DKIM-Signature: v=1; a=rsa-sha256; c=relaxed/relaxed;
 d=1e100.net; s=20230601; t=1710960849; x=1711565649;
 h=references:in-reply-to:cc:to:from:subject:message-id:date
 :x-gm-message-state:from:to:cc:subject:date:message-id:reply-to;
 bh=S3qRW3NvuXOwDd9E+CMf1GSD4ZgeRLO6hMbBIsFaA5s=;
 b=hF77RIbPo9HLkra6Yoddd59lpBaxZAPR2QikrF16Y9zamptfuFpOjmZTWfWyd+uip7
 RwB0PQ6QKzr0R7FtEYlDDCkEJBQZhmYcQSdRiMKzPp7Ntv4tXman4f+6RD7rzQx2KiWS
 IVPGBC6NXDzMhw7f6HESWI+829UW1HP1jOoYtJ8FIGCgiwExe1nEMP4zrpAr1FrKBPre
 puLkUAILqKxJUzr82ELlDROLGRtmKAYOmflhhyDVJ0wsmF6CAUiYMF5Tuhq1DOjtBLn3
 EEpJCLRvjNb5pG86EIqLvQGOijv7YcinDGmvMelY5nJkVlu9R8lh8/DEjJIIKnrtB/o7
 +2Ig==
X-Gm-Message-State: AOJu0YwvZTcRTlACXZIjP87b4aEaXgyQnv4wGSMIyfH00taz+LMOgudq
 R9wX2TKvi/7DU0nvoPj5qJMhyD2CwOqoflnDAd/sx3AsTaO0fmIwnsIpDz9U2g53P6UpUQVRCwJ
 v33mI70+6rTbwMTO1NgKfcCud5oZf/CgPSnYBabgm
X-Google-Smtp-Source: AGHT+IFI0GWknBaCwbYIuiZ5EndAfBOOWRf/O7Kp/QilO/jHAd7BzHTPnC17aRXJc6nAtb/t5a2myICTeQ7+
X-Received: by 2002:a0c:eed2:0:b0:696:4771:e009 with SMTP id
 h18-20020a0ceed2000000b006964771e009mr2085364qvs.4.1710960849809; 
 Wed, 20 Mar 2024 11:54:09 -0700 (PDT)
Received: from postal.iol.unh.edu (postal.iol.unh.edu. [132.177.123.84])
 by smtp-relay.gmail.com with ESMTPS id
 kc13-20020a056214410d00b006915412d653sm823477qvb.47.2024.03.20.11.54.09
 (version=TLS1_2 cipher=ECDHE-ECDSA-AES128-GCM-SHA256 bits=128/128);
 Wed, 20 Mar 2024 11:54:09 -0700 (PDT)
X-Relaying-Domain: iol.unh.edu
Date: Wed, 20 Mar 2024 11:54:09 -0700 (PDT)
Message-ID: <65fb30d1.050a0220.c0edc.6770SMTPIN_ADDED_MISSING@mx.google.com>
Received: from [172.17.0.6] (unknown [172.18.0.217])
 by postal.iol.unh.edu (Postfix) with ESMTP id 857B76052471;
 Wed, 20 Mar 2024 14:54:09 -0400 (EDT)
Subject: |SUCCESS| pw138492-138554 [PATCH] [83/83] bus/dpaa: move alignment a
From: dpdklab@iol.unh.edu
To: Test Report <test-report@dpdk.org>
Cc: dpdk-test-reports@iol.unh.edu
In-Reply-To: <1710949096-5786-84-git-send-email-roretzla@linux.microsoft.com>
References: <1710949096-5786-84-git-send-email-roretzla@linux.microsoft.com>
Content-Type: text/plain
X-BeenThere: test-report@dpdk.org
X-Mailman-Version: 2.1.29
Precedence: list
List-Id: automatic DPDK test reports <test-report.dpdk.org>
List-Unsubscribe: <https://mails.dpdk.org/options/test-report>,
 <mailto:test-report-request@dpdk.org?subject=unsubscribe>
List-Archive: <http://mails.dpdk.org/archives/test-report/>
List-Post: <mailto:test-report@dpdk.org>
List-Help: <mailto:test-report-request@dpdk.org?subject=help>
List-Subscribe: <https://mails.dpdk.org/listinfo/test-report>,
 <mailto:test-report-request@dpdk.org?subject=subscribe>
Errors-To: test-report-bounces@dpdk.org

Test-Label: iol-unit-arm64-testing
Test-Status: SUCCESS
http://dpdk.org/patch/138554

_Testing PASS_

Submitter: Tyler Retzlaff <roretzla@linux.microsoft.com>
Date: Wednesday, March 20 2024 15:38:16 
DPDK git baseline: Repo:dpdk
  Branch: master
  CommitID:80ecef6d1f71fcebc0a51d7cabc51f73ee142ff2

138492-138554 --> testing pass

Test environment and result as below:

+--------------------------+--------------+----------------+---------------------------+------------------------------+
|       Environment        | lpm_autotest | dpdk_unit_test | cryptodev_sw_zuc_autotest | cryptodev_sw_snow3g_autotest |
+==========================+==============+================+===========================+==============================+
| Ubuntu 20.04 ARM SVE     | PASS         | SKIPPED        | SKIPPED                   | SKIPPED                      |
+--------------------------+--------------+----------------+---------------------------+------------------------------+
| Debian 11 (Buster) (ARM) | SKIPPED      | PASS           | SKIPPED                   | SKIPPED                      |
+--------------------------+--------------+----------------+---------------------------+------------------------------+
| CentOS Stream 9 (ARM)    | SKIPPED      | PASS           | SKIPPED                   | SKIPPED                      |
+--------------------------+--------------+----------------+---------------------------+------------------------------+
| Fedora 38 (ARM Clang)    | SKIPPED      | PASS           | SKIPPED                   | SKIPPED                      |
+--------------------------+--------------+----------------+---------------------------+------------------------------+
| Fedora 38 (ARM)          | SKIPPED      | PASS           | SKIPPED                   | SKIPPED                      |
+--------------------------+--------------+----------------+---------------------------+------------------------------+
| Ubuntu 20.04 (ARM)       | SKIPPED      | PASS           | SKIPPED                   | SKIPPED                      |
+--------------------------+--------------+----------------+---------------------------+------------------------------+
| Fedora 37 (ARM)          | SKIPPED      | PASS           | SKIPPED                   | SKIPPED                      |
+--------------------------+--------------+----------------+---------------------------+------------------------------+
| Debian 12 (arm)          | SKIPPED      | PASS           | PASS                      | PASS                         |
+--------------------------+--------------+----------------+---------------------------+------------------------------+


Ubuntu 20.04 ARM SVE
	Kernel: 5.4.0-167-generic
	Compiler: gcc (Ubuntu 10.5.0-1ubuntu1~20.04) 10.5.0

Debian 11 (Buster) (ARM)
	Kernel: Container Host Kernel
	Compiler: gcc 10.2.1

CentOS Stream 9 (ARM)
	Kernel: Container Host Kernel
	Compiler: gcc 11.4.1

Fedora 38 (ARM Clang)
	Kernel: Depends on container host
	Compiler: clang 16.0.6

Fedora 38 (ARM)
	Kernel: Depends on container host
	Compiler: gcc 13.2.1

Ubuntu 20.04 (ARM)
	Kernel: Container Host Kernel
	Compiler: gcc 9.4.0

Fedora 37 (ARM)
	Kernel: Depends on container host
	Compiler: gcc 12.3.1

Debian 12 (arm)
	Kernel: Container Host Kernel
	Compiler: gcc 12.2.0

To view detailed results, visit:
https://lab.dpdk.org/results/dashboard/patchsets/29603/

UNH-IOL DPDK Community Lab

To manage your email subscriptions, visit: 
https://lab.dpdk.org/results/dashboard/preferences/subscriptions/