From mboxrd@z Thu Jan  1 00:00:00 1970
Return-Path: <test-report-bounces@dpdk.org>
Received: from mails.dpdk.org (mails.dpdk.org [217.70.189.124])
	by inbox.dpdk.org (Postfix) with ESMTP id 1EEBB43D08
	for <public@inbox.dpdk.org>; Wed, 20 Mar 2024 19:54:43 +0100 (CET)
Received: from mails.dpdk.org (localhost [127.0.0.1])
	by mails.dpdk.org (Postfix) with ESMTP id E724642DDE;
	Wed, 20 Mar 2024 19:54:42 +0100 (CET)
Received: from mail-oa1-f97.google.com (mail-oa1-f97.google.com
 [209.85.160.97]) by mails.dpdk.org (Postfix) with ESMTP id 36B41402CE
 for <test-report@dpdk.org>; Wed, 20 Mar 2024 19:54:39 +0100 (CET)
Received: by mail-oa1-f97.google.com with SMTP id
 586e51a60fabf-2220a3b3871so88136fac.2
 for <test-report@dpdk.org>; Wed, 20 Mar 2024 11:54:39 -0700 (PDT)
DKIM-Signature: v=1; a=rsa-sha256; c=relaxed/relaxed;
 d=iol.unh.edu; s=unh-iol; t=1710960878; x=1711565678; darn=dpdk.org;
 h=references:in-reply-to:cc:to:from:subject:message-id:date:from:to
 :cc:subject:date:message-id:reply-to;
 bh=S3qRW3NvuXOwDd9E+CMf1GSD4ZgeRLO6hMbBIsFaA5s=;
 b=TaanzJq6JhUFodEW9kxy52ADFy28XhDZxm7SuNxZLIk0Q8Qm+gPe1ge2J+xfjV4fXk
 XmPMwOxxzCJ/fz+uaneHM68Ktsj34Rjs4G1ZcTgJpzS4UuDwsP9ah+UFEQHTJYGZwFES
 wlv0sTJ5F+rSHw3YeuYii+6RsH+sepVYYEBOc=
X-Google-DKIM-Signature: v=1; a=rsa-sha256; c=relaxed/relaxed;
 d=1e100.net; s=20230601; t=1710960878; x=1711565678;
 h=references:in-reply-to:cc:to:from:subject:message-id:date
 :x-gm-message-state:from:to:cc:subject:date:message-id:reply-to;
 bh=S3qRW3NvuXOwDd9E+CMf1GSD4ZgeRLO6hMbBIsFaA5s=;
 b=Y0urqjQLu/Lgo15HJ6x6cnV8qwB4bhJtzkH7z4F3uZsBa2lpWbDlbjYpa0rCAycpQD
 LahTS3Bg9qzPIytgozFFvi9L6TcXnlo8Y0httvgQAP8TtTX351ED9ejc0kOOpIcztxpz
 Y2F7534bzDmQS4G66GMj/bA9GTdlsZUKs+SI1sC6x8NdsfqMUa9ZFz5PczOTurfFkk33
 LYKPpn0EpGZIRi818g1Z5E39vagrXhY/O0cDYv86LAetkDznoseFvHHBcuBMTstdmrJ/
 9X8cXVbSYcsa1YXP6IwdrwTKeYjL3ntzYFsyKvGuuoJBuj6NU1G6D07UJQ/NM46JIgtW
 15nw==
X-Gm-Message-State: AOJu0YyDeq3cfeEq4KqmOcMupexy2/KOEC3eeMWw8kjoXkcuZj4aegmd
 eISaM170n2W+dBUDd3vbMHhPlf0PeAizKPbL+HIBm4mU0KJFMzI4d7efp5AGHeujCqXnA4lUd71
 MfzD5gHAoanddeFMcLEIT/XnnxEwS78mCzcHO0gvH
X-Google-Smtp-Source: AGHT+IFaqhDvgeXz8KvbGOD4XqJRZgEyk9ItjfPMNPEiy/7QHPfLQo2eVXMuu2ZtzTQTmKZr6wIzKfvwVLxP
X-Received: by 2002:a05:6871:5888:b0:222:11f2:11d8 with SMTP id
 ok8-20020a056871588800b0022211f211d8mr19849221oac.26.1710960878561; 
 Wed, 20 Mar 2024 11:54:38 -0700 (PDT)
Received: from postal.iol.unh.edu (postal.iol.unh.edu. [132.177.123.84])
 by smtp-relay.gmail.com with ESMTPS id
 n20-20020a056870349400b0021e64b6a8a9sm235035oah.27.2024.03.20.11.54.38
 (version=TLS1_2 cipher=ECDHE-ECDSA-AES128-GCM-SHA256 bits=128/128);
 Wed, 20 Mar 2024 11:54:38 -0700 (PDT)
X-Relaying-Domain: iol.unh.edu
Date: Wed, 20 Mar 2024 11:54:38 -0700 (PDT)
Message-ID: <65fb30ee.050a0220.16add.d052SMTPIN_ADDED_MISSING@mx.google.com>
Received: from [172.17.0.6] (unknown [172.18.0.217])
 by postal.iol.unh.edu (Postfix) with ESMTP id 0AA3C6052471;
 Wed, 20 Mar 2024 14:54:38 -0400 (EDT)
Subject: |SUCCESS| pw138492-138554 [PATCH] [83/83] bus/dpaa: move alignment a
From: dpdklab@iol.unh.edu
To: Test Report <test-report@dpdk.org>
Cc: dpdk-test-reports@iol.unh.edu
In-Reply-To: <1710949096-5786-84-git-send-email-roretzla@linux.microsoft.com>
References: <1710949096-5786-84-git-send-email-roretzla@linux.microsoft.com>
Content-Type: text/plain
X-BeenThere: test-report@dpdk.org
X-Mailman-Version: 2.1.29
Precedence: list
List-Id: automatic DPDK test reports <test-report.dpdk.org>
List-Unsubscribe: <https://mails.dpdk.org/options/test-report>,
 <mailto:test-report-request@dpdk.org?subject=unsubscribe>
List-Archive: <http://mails.dpdk.org/archives/test-report/>
List-Post: <mailto:test-report@dpdk.org>
List-Help: <mailto:test-report-request@dpdk.org?subject=help>
List-Subscribe: <https://mails.dpdk.org/listinfo/test-report>,
 <mailto:test-report-request@dpdk.org?subject=subscribe>
Errors-To: test-report-bounces@dpdk.org

Test-Label: iol-unit-arm64-testing
Test-Status: SUCCESS
http://dpdk.org/patch/138554

_Testing PASS_

Submitter: Tyler Retzlaff <roretzla@linux.microsoft.com>
Date: Wednesday, March 20 2024 15:38:16 
DPDK git baseline: Repo:dpdk
  Branch: master
  CommitID:80ecef6d1f71fcebc0a51d7cabc51f73ee142ff2

138492-138554 --> testing pass

Test environment and result as below:

+--------------------------+--------------+----------------+---------------------------+------------------------------+
|       Environment        | lpm_autotest | dpdk_unit_test | cryptodev_sw_zuc_autotest | cryptodev_sw_snow3g_autotest |
+==========================+==============+================+===========================+==============================+
| Ubuntu 20.04 ARM SVE     | PASS         | SKIPPED        | SKIPPED                   | SKIPPED                      |
+--------------------------+--------------+----------------+---------------------------+------------------------------+
| Debian 11 (Buster) (ARM) | SKIPPED      | PASS           | SKIPPED                   | SKIPPED                      |
+--------------------------+--------------+----------------+---------------------------+------------------------------+
| CentOS Stream 9 (ARM)    | SKIPPED      | PASS           | SKIPPED                   | SKIPPED                      |
+--------------------------+--------------+----------------+---------------------------+------------------------------+
| Fedora 38 (ARM Clang)    | SKIPPED      | PASS           | SKIPPED                   | SKIPPED                      |
+--------------------------+--------------+----------------+---------------------------+------------------------------+
| Fedora 38 (ARM)          | SKIPPED      | PASS           | SKIPPED                   | SKIPPED                      |
+--------------------------+--------------+----------------+---------------------------+------------------------------+
| Ubuntu 20.04 (ARM)       | SKIPPED      | PASS           | SKIPPED                   | SKIPPED                      |
+--------------------------+--------------+----------------+---------------------------+------------------------------+
| Fedora 37 (ARM)          | SKIPPED      | PASS           | SKIPPED                   | SKIPPED                      |
+--------------------------+--------------+----------------+---------------------------+------------------------------+
| Debian 12 (arm)          | SKIPPED      | PASS           | PASS                      | PASS                         |
+--------------------------+--------------+----------------+---------------------------+------------------------------+


Ubuntu 20.04 ARM SVE
	Kernel: 5.4.0-167-generic
	Compiler: gcc (Ubuntu 10.5.0-1ubuntu1~20.04) 10.5.0

Debian 11 (Buster) (ARM)
	Kernel: Container Host Kernel
	Compiler: gcc 10.2.1

CentOS Stream 9 (ARM)
	Kernel: Container Host Kernel
	Compiler: gcc 11.4.1

Fedora 38 (ARM Clang)
	Kernel: Depends on container host
	Compiler: clang 16.0.6

Fedora 38 (ARM)
	Kernel: Depends on container host
	Compiler: gcc 13.2.1

Ubuntu 20.04 (ARM)
	Kernel: Container Host Kernel
	Compiler: gcc 9.4.0

Fedora 37 (ARM)
	Kernel: Depends on container host
	Compiler: gcc 12.3.1

Debian 12 (arm)
	Kernel: Container Host Kernel
	Compiler: gcc 12.2.0

To view detailed results, visit:
https://lab.dpdk.org/results/dashboard/patchsets/29603/

UNH-IOL DPDK Community Lab

To manage your email subscriptions, visit: 
https://lab.dpdk.org/results/dashboard/preferences/subscriptions/