From mboxrd@z Thu Jan  1 00:00:00 1970
Return-Path: <test-report-bounces@dpdk.org>
Received: from mails.dpdk.org (mails.dpdk.org [217.70.189.124])
	by inbox.dpdk.org (Postfix) with ESMTP id DF11F43D09
	for <public@inbox.dpdk.org>; Wed, 20 Mar 2024 20:16:25 +0100 (CET)
Received: from mails.dpdk.org (localhost [127.0.0.1])
	by mails.dpdk.org (Postfix) with ESMTP id DAE91402CE;
	Wed, 20 Mar 2024 20:16:25 +0100 (CET)
Received: from mail-pf1-f226.google.com (mail-pf1-f226.google.com
 [209.85.210.226])
 by mails.dpdk.org (Postfix) with ESMTP id 641EB402C7
 for <test-report@dpdk.org>; Wed, 20 Mar 2024 20:16:24 +0100 (CET)
Received: by mail-pf1-f226.google.com with SMTP id
 d2e1a72fcca58-6e8f51d0bf0so242091b3a.3
 for <test-report@dpdk.org>; Wed, 20 Mar 2024 12:16:24 -0700 (PDT)
DKIM-Signature: v=1; a=rsa-sha256; c=relaxed/relaxed;
 d=iol.unh.edu; s=unh-iol; t=1710962183; x=1711566983; darn=dpdk.org;
 h=references:in-reply-to:cc:to:from:subject:message-id:date:from:to
 :cc:subject:date:message-id:reply-to;
 bh=3BT4vCrotf5bK/7j9VUToUxfEtso/HNG0mtsVF+ySio=;
 b=h3P0JM7BRSYVe3lwmav0DEVA4ukL7fdx0rnyRQ6IMaTl1ocN9IcNxTKLS9iaB7sZ3V
 OtDANMEeaod9b4oyz0orB9xJ3KnLP/x8RvJ+aVsYfzefnG2PYdG0IEvINx07N+zCK0w7
 2rQDDV2FDTgPoYHcxYik3llHbNJOB1z1pNxVE=
X-Google-DKIM-Signature: v=1; a=rsa-sha256; c=relaxed/relaxed;
 d=1e100.net; s=20230601; t=1710962183; x=1711566983;
 h=references:in-reply-to:cc:to:from:subject:message-id:date
 :x-gm-message-state:from:to:cc:subject:date:message-id:reply-to;
 bh=3BT4vCrotf5bK/7j9VUToUxfEtso/HNG0mtsVF+ySio=;
 b=DwRhDcOcsiuyKzrNdPGbRsLjqHuKEN/1DTyBQruXdtrEzpwKsCql/hr75GbdsYhS6W
 ZUH+igPQ0nGW2mmXqaIdAJ6/U3ZmMZBINQUKr3R9Fp4RXN1fjimV17omxa5iciOwmNc1
 89qRS+fQL84o7sUtnz3bu/cB+7K+g4YUVWns0MUWihuNLZoAU3kzIAH7wQcBufCb8mmV
 hQJR9fJMXRmxbFRRpv/qKTFCRNkFrgYBJUe4vLkvTPtlDD8yhx3ieGHvgRrKmfk5IYf/
 ar/LJoQoatag8fQASPWZAOytHzI+xvVmoTKrsqOIyXD/XweI90/HhzoqgZVxJ/Mhke7S
 UDRw==
X-Gm-Message-State: AOJu0YwpYt5+qSjo7oa8QupPVE14w7y/ko7tQfLN26dlbabbvJiHBeTL
 Z0yX+ec2oj/juQH3rQ+mFs5CBGUlX+5yj9/M4bCMK4FNXrk+r+Kwa2vkaZscdU98XaGnJQ6ncc5
 VUeP2FJiQ3OTSXLWw50qgbFjB93xGuiWzfnXbkppI9qk7kFqwDoMBFNKi
X-Google-Smtp-Source: AGHT+IHEfdXegW9p6P0sCYcg9mRPjM5Y3FV+erTw1YTOh4jXx9kTqVgEMeiPq/JYYIX00oHhAsS5LBK8Nagw
X-Received: by 2002:a05:6a00:4b41:b0:6e5:9698:84a8 with SMTP id
 kr1-20020a056a004b4100b006e5969884a8mr19927057pfb.27.1710962182082; 
 Wed, 20 Mar 2024 12:16:22 -0700 (PDT)
Received: from postal.iol.unh.edu (postal.iol.unh.edu.
 [2606:4100:3880:1234::84]) by smtp-relay.gmail.com with ESMTPS id
 h9-20020a056a00170900b006e6d0165a75sm765889pfc.7.2024.03.20.12.16.21
 (version=TLS1_2 cipher=ECDHE-ECDSA-AES128-GCM-SHA256 bits=128/128);
 Wed, 20 Mar 2024 12:16:22 -0700 (PDT)
X-Relaying-Domain: iol.unh.edu
Date: Wed, 20 Mar 2024 12:16:22 -0700 (PDT)
Message-ID: <65fb3606.050a0220.f4bb3.2228SMTPIN_ADDED_MISSING@mx.google.com>
Received: from [172.21.0.8] (unknown [172.18.0.240])
 by postal.iol.unh.edu (Postfix) with ESMTP id 470DE6052471;
 Wed, 20 Mar 2024 15:16:21 -0400 (EDT)
Subject: |SUCCESS| pw138492-138554 [PATCH] [83/83] bus/dpaa: move alignment a
From: dpdklab@iol.unh.edu
To: Test Report <test-report@dpdk.org>
Cc: dpdk-test-reports@iol.unh.edu
In-Reply-To: <1710949096-5786-84-git-send-email-roretzla@linux.microsoft.com>
References: <1710949096-5786-84-git-send-email-roretzla@linux.microsoft.com>
Content-Type: text/plain
X-BeenThere: test-report@dpdk.org
X-Mailman-Version: 2.1.29
Precedence: list
List-Id: automatic DPDK test reports <test-report.dpdk.org>
List-Unsubscribe: <https://mails.dpdk.org/options/test-report>,
 <mailto:test-report-request@dpdk.org?subject=unsubscribe>
List-Archive: <http://mails.dpdk.org/archives/test-report/>
List-Post: <mailto:test-report@dpdk.org>
List-Help: <mailto:test-report-request@dpdk.org?subject=help>
List-Subscribe: <https://mails.dpdk.org/listinfo/test-report>,
 <mailto:test-report-request@dpdk.org?subject=subscribe>
Errors-To: test-report-bounces@dpdk.org

Test-Label: iol-compile-arm64-testing
Test-Status: SUCCESS
http://dpdk.org/patch/138554

_Testing PASS_

Submitter: Tyler Retzlaff <roretzla@linux.microsoft.com>
Date: Wednesday, March 20 2024 15:38:16 
DPDK git baseline: Repo:dpdk
  Branch: master
  CommitID:80ecef6d1f71fcebc0a51d7cabc51f73ee142ff2

138492-138554 --> testing pass

Test environment and result as below:

+----------------------------------------+--------------------+
|              Environment               | dpdk_meson_compile |
+========================================+====================+
| Debian 12 with MUSDK                   | PASS               |
+----------------------------------------+--------------------+
| Ubuntu 20.04 ARM SVE                   | PASS               |
+----------------------------------------+--------------------+
| Ubuntu 20.04 aarch32 GCC Cross Compile | PASS               |
+----------------------------------------+--------------------+
| Ubuntu 20.04 ARM Clang Cross Compile   | PASS               |
+----------------------------------------+--------------------+
| Ubuntu 20.04 ARM GCC Cross Compile     | PASS               |
+----------------------------------------+--------------------+
| Ubuntu 20.04 (ARM)                     | PASS               |
+----------------------------------------+--------------------+
| Fedora 37 (ARM)                        | PASS               |
+----------------------------------------+--------------------+
| Fedora 38 (ARM)                        | PASS               |
+----------------------------------------+--------------------+
| CentOS Stream 9 (ARM)                  | PASS               |
+----------------------------------------+--------------------+
| Fedora 38 (ARM Clang)                  | PASS               |
+----------------------------------------+--------------------+


Debian 12 with MUSDK
	Kernel: Container Host Kernel
	Compiler: gcc 12.2.0

Ubuntu 20.04 ARM SVE
	Kernel: 5.4.0-167-generic
	Compiler: gcc (Ubuntu 10.5.0-1ubuntu1~20.04) 10.5.0

Ubuntu 20.04 aarch32 GCC Cross Compile
	Kernel: 5.4.0-167-generic
	Compiler: gcc 9.4.0

Ubuntu 20.04 ARM Clang Cross Compile
	Kernel: 5.4.0-72-generic
	Compiler: clang 10.0.0-4ubuntu1

Ubuntu 20.04 ARM GCC Cross Compile
	Kernel: 5.4.0-167-generic
	Compiler: aarch64-linux-gnu-gcc (Ubuntu 9.4.0-1ubuntu1~20.04.2) 9.4.0

Ubuntu 20.04 (ARM)
	Kernel: Container Host Kernel
	Compiler: gcc 9.4.0

Fedora 37 (ARM)
	Kernel: Depends on container host
	Compiler: gcc 12.3.1

Fedora 38 (ARM)
	Kernel: Depends on container host
	Compiler: gcc 13.2.1

CentOS Stream 9 (ARM)
	Kernel: Container Host Kernel
	Compiler: gcc 11.4.1

Fedora 38 (ARM Clang)
	Kernel: Depends on container host
	Compiler: clang 16.0.6

To view detailed results, visit:
https://lab.dpdk.org/results/dashboard/patchsets/29603/

UNH-IOL DPDK Community Lab

To manage your email subscriptions, visit: 
https://lab.dpdk.org/results/dashboard/preferences/subscriptions/