From mboxrd@z Thu Jan  1 00:00:00 1970
Return-Path: <test-report-bounces@dpdk.org>
Received: from mails.dpdk.org (mails.dpdk.org [217.70.189.124])
	by inbox.dpdk.org (Postfix) with ESMTP id C766E43D0B
	for <public@inbox.dpdk.org>; Thu, 21 Mar 2024 00:25:18 +0100 (CET)
Received: from mails.dpdk.org (localhost [127.0.0.1])
	by mails.dpdk.org (Postfix) with ESMTP id C2715402D9;
	Thu, 21 Mar 2024 00:25:18 +0100 (CET)
Received: from mail-yw1-f226.google.com (mail-yw1-f226.google.com
 [209.85.128.226])
 by mails.dpdk.org (Postfix) with ESMTP id 85FAB4028B
 for <test-report@dpdk.org>; Thu, 21 Mar 2024 00:25:17 +0100 (CET)
Received: by mail-yw1-f226.google.com with SMTP id
 00721157ae682-609fc742044so3804707b3.1
 for <test-report@dpdk.org>; Wed, 20 Mar 2024 16:25:17 -0700 (PDT)
DKIM-Signature: v=1; a=rsa-sha256; c=relaxed/relaxed;
 d=iol.unh.edu; s=unh-iol; t=1710977117; x=1711581917; darn=dpdk.org;
 h=references:in-reply-to:cc:to:from:subject:message-id:date:from:to
 :cc:subject:date:message-id:reply-to;
 bh=6tko26trVnHxd+4l4vbsf4yq2EZXl0+jNNEE48qJt9g=;
 b=MUzf4lS3Eybc8jl6MrvzzzHCLVW6nc2BQdDI2J9lm6/L5jfdDo6/AD9e0Hfh16vN5S
 M4EHd6ENKv75dSGO4EB/bDgyDCqsVl89La+rGK3Ng6e/FRsRCz0/RFg1uOXx7c7/+S7E
 28nZpKJ64SMceFJkAl1YNj6K6/zO5fhSTmgqA=
X-Google-DKIM-Signature: v=1; a=rsa-sha256; c=relaxed/relaxed;
 d=1e100.net; s=20230601; t=1710977117; x=1711581917;
 h=references:in-reply-to:cc:to:from:subject:message-id:date
 :x-gm-message-state:from:to:cc:subject:date:message-id:reply-to;
 bh=6tko26trVnHxd+4l4vbsf4yq2EZXl0+jNNEE48qJt9g=;
 b=JrfIjvJrcB0Z2EWrjmFFuVeTwejnm4lEOPYIdmvzOEv60ZpjfXmUtW5twlOPgqUMP1
 3FS5vpO4++8jKRQuFozmiP/btmb5/mLqSZ/Ciqwh8J0E7hVMLJynev8iCopa4bRPYiw9
 QIJ8xBpr7Da2JcemR6Jy3/Xih3+uT2Mc4WAVL1axWS1Jm5aiRGV2MBB+Sw5TS1PrshBV
 tf8mx77Pbx2m43PnhvnpvIfEN0NRUpGUwSIs6STajZ/BrU6aJdQBNt2+7uFSOqaogFyh
 cBdwzPk4WUifnOx56zLK0+RYBzwXdx6XRi7aXc+M6/JE5Sa6qW8nBlBlSX0w4TD7VXX6
 NpTA==
X-Gm-Message-State: AOJu0YxnH2NqJASt1bryMbiJhKHeG/Ycne+yXLESEUg/iEjWz+w3jjCg
 fXhhi6JZswX8Mz/AwMsNqiTNvZmTHTMmkTYXvt4ci8rIBZUJhBkinzW9FiCfBTxQz3UBm4HcqLg
 Ovbsg3gyGafPs212UF+ktk1mfJy1rLc+lOsMsqZq0VckYq3nY9iMPGyqc
X-Google-Smtp-Source: AGHT+IGh3hKii5m0/qo1gD7c1PQMvADBJEH0V4sR7r8CcYrGMMxqo32XtAF3QiirkVHYUh01V2jwdsMfIakS
X-Received: by 2002:a81:5cd6:0:b0:610:b896:ac17 with SMTP id
 q205-20020a815cd6000000b00610b896ac17mr3600615ywb.47.1710977117016; 
 Wed, 20 Mar 2024 16:25:17 -0700 (PDT)
Received: from postal.iol.unh.edu (postal.iol.unh.edu.
 [2606:4100:3880:1234::84]) by smtp-relay.gmail.com with ESMTPS id
 w185-20020a0dd4c2000000b0060a5b34d6e0sm1024300ywd.29.2024.03.20.16.25.16
 (version=TLS1_2 cipher=ECDHE-ECDSA-AES128-GCM-SHA256 bits=128/128);
 Wed, 20 Mar 2024 16:25:17 -0700 (PDT)
X-Relaying-Domain: iol.unh.edu
Date: Wed, 20 Mar 2024 16:25:17 -0700 (PDT)
Message-ID: <65fb705d.0d0a0220.4854b.855fSMTPIN_ADDED_MISSING@mx.google.com>
Received: from [172.17.0.7] (unknown [172.18.0.217])
 by postal.iol.unh.edu (Postfix) with ESMTP id A85966052471;
 Wed, 20 Mar 2024 19:25:16 -0400 (EDT)
Subject: |SUCCESS| pw138579 [PATCH] net/ixgbe: do not update link status in s
From: dpdklab@iol.unh.edu
To: Test Report <test-report@dpdk.org>
Cc: dpdk-test-reports@iol.unh.edu
In-Reply-To: <20240320173407.216307-1-stephen@networkplumber.org>
References: <20240320173407.216307-1-stephen@networkplumber.org>
Content-Type: text/plain
X-BeenThere: test-report@dpdk.org
X-Mailman-Version: 2.1.29
Precedence: list
List-Id: automatic DPDK test reports <test-report.dpdk.org>
List-Unsubscribe: <https://mails.dpdk.org/options/test-report>,
 <mailto:test-report-request@dpdk.org?subject=unsubscribe>
List-Archive: <http://mails.dpdk.org/archives/test-report/>
List-Post: <mailto:test-report@dpdk.org>
List-Help: <mailto:test-report-request@dpdk.org?subject=help>
List-Subscribe: <https://mails.dpdk.org/listinfo/test-report>,
 <mailto:test-report-request@dpdk.org?subject=subscribe>
Errors-To: test-report-bounces@dpdk.org

Test-Label: iol-compile-amd64-testing
Test-Status: SUCCESS
http://dpdk.org/patch/138579

_Testing PASS_

Submitter: Stephen Hemminger <stephen@networkplumber.org>
Date: Wednesday, March 20 2024 17:33:04 
DPDK git baseline: Repo:dpdk
  Branch: master
  CommitID:2c54ea7a59dfc0a819d3527309c62846fc8853af

138579 --> testing pass

Test environment and result as below:

+---------------------+--------------------+----------------------+-------------------+
|     Environment     | dpdk_meson_compile | dpdk_mingw64_compile | dpdk_msvc_compile |
+=====================+====================+======================+===================+
| FreeBSD 13.2        | PASS               | SKIPPED              | SKIPPED           |
+---------------------+--------------------+----------------------+-------------------+
| Windows Server 2019 | PASS               | PASS                 | SKIPPED           |
+---------------------+--------------------+----------------------+-------------------+
| Windows Server 2022 | PASS               | PASS                 | PASS              |
+---------------------+--------------------+----------------------+-------------------+
| CentOS Stream 8     | PASS               | SKIPPED              | SKIPPED           |
+---------------------+--------------------+----------------------+-------------------+
| Fedora 38           | PASS               | SKIPPED              | SKIPPED           |
+---------------------+--------------------+----------------------+-------------------+
| Debian 11 (arm)     | PASS               | SKIPPED              | SKIPPED           |
+---------------------+--------------------+----------------------+-------------------+
| CentOS Stream 9     | PASS               | SKIPPED              | SKIPPED           |
+---------------------+--------------------+----------------------+-------------------+
| Ubuntu 22.04        | PASS               | SKIPPED              | SKIPPED           |
+---------------------+--------------------+----------------------+-------------------+
| Fedora 37           | PASS               | SKIPPED              | SKIPPED           |
+---------------------+--------------------+----------------------+-------------------+
| Ubuntu 20.04        | PASS               | SKIPPED              | SKIPPED           |
+---------------------+--------------------+----------------------+-------------------+
| Debian Bullseye     | PASS               | SKIPPED              | SKIPPED           |
+---------------------+--------------------+----------------------+-------------------+
| Alpine              | PASS               | SKIPPED              | SKIPPED           |
+---------------------+--------------------+----------------------+-------------------+


FreeBSD 13.2
	Kernel: 13.2
	Compiler: clang 14.0.5

Windows Server 2019
	Kernel: 10.0.17763
	Compiler: clang 14.0 and gcc 8.1.0 (MinGW)

Windows Server 2022
	Kernel: 10.0.20348.2031
	Compiler: clang 15.0.7, gcc 8.1.0 (MinGW), and MSVC VS 17.9

CentOS Stream 8
	Kernel: 5.4.0-167-generic
	Compiler: gcc 8.5.0 20210514

Fedora 38
	Kernel: Depends on container host
	Compiler: gcc 13.2.1

Debian 11 (arm)
	Kernel: Container Host Kernel
	Compiler: gcc 10.2.1

CentOS Stream 9
	Kernel: 5.4.0-167-generic
	Compiler: gcc 11.4.1 20230605

Ubuntu 22.04
	Kernel: 5.4.0-167-generic
	Compiler: gcc 11.4.0

Fedora 37
	Kernel: Depends on container host system
	Compiler: gcc 12.3.1

Ubuntu 20.04
	Kernel: 5.4.0-167-generic
	Compiler: gcc 9.4.0-1ubuntu1~20.04.1

Debian Bullseye
	Kernel: 5.4.0-167-generic
	Compiler: gcc 10.2.1-6

Alpine
	Kernel: 5.4.0-167-generic
	Compiler: gcc (Alpine 12.2.1_git20220924-r10) 12.2.1 20220924

To view detailed results, visit:
https://lab.dpdk.org/results/dashboard/patchsets/29608/

UNH-IOL DPDK Community Lab

To manage your email subscriptions, visit: 
https://lab.dpdk.org/results/dashboard/preferences/subscriptions/