From mboxrd@z Thu Jan  1 00:00:00 1970
Return-Path: <test-report-bounces@dpdk.org>
Received: from mails.dpdk.org (mails.dpdk.org [217.70.189.124])
	by inbox.dpdk.org (Postfix) with ESMTP id A16A343D0B
	for <public@inbox.dpdk.org>; Thu, 21 Mar 2024 00:31:08 +0100 (CET)
Received: from mails.dpdk.org (localhost [127.0.0.1])
	by mails.dpdk.org (Postfix) with ESMTP id 98C53402D9;
	Thu, 21 Mar 2024 00:31:08 +0100 (CET)
Received: from mail-io1-f100.google.com (mail-io1-f100.google.com
 [209.85.166.100])
 by mails.dpdk.org (Postfix) with ESMTP id 81B7F4028B
 for <test-report@dpdk.org>; Thu, 21 Mar 2024 00:31:01 +0100 (CET)
Received: by mail-io1-f100.google.com with SMTP id
 ca18e2360f4ac-7cc05d36c86so44474539f.1
 for <test-report@dpdk.org>; Wed, 20 Mar 2024 16:31:01 -0700 (PDT)
DKIM-Signature: v=1; a=rsa-sha256; c=relaxed/relaxed;
 d=iol.unh.edu; s=unh-iol; t=1710977461; x=1711582261; darn=dpdk.org;
 h=references:in-reply-to:cc:to:from:subject:message-id:date:from:to
 :cc:subject:date:message-id:reply-to;
 bh=HjNQ9n9+sHJsQf4kx6uWq9q8RLHRsy2NlQ5VgtDr/ws=;
 b=e6zCDLyxDICP51CLXdXzkCgUBCrTh8XK2x4n9xklIHx5TzvizGfIeMGxN84uXH37G4
 Ufcw3h9UCraV4Sj5iU+I/0ZtQJ/1pWaP04F6FEvpXMQ274PIYVTEKLEMzYBfmyinb7J0
 pLK9Agw34AqfaGNeqsMiJIiuPHTMQmu6ttAo8=
X-Google-DKIM-Signature: v=1; a=rsa-sha256; c=relaxed/relaxed;
 d=1e100.net; s=20230601; t=1710977461; x=1711582261;
 h=references:in-reply-to:cc:to:from:subject:message-id:date
 :x-gm-message-state:from:to:cc:subject:date:message-id:reply-to;
 bh=HjNQ9n9+sHJsQf4kx6uWq9q8RLHRsy2NlQ5VgtDr/ws=;
 b=X3ltMaoImYqfOa0wk3YKAsoa3m/xpS0Gbs4Kv2rkC8pDihpBVe7oD8ftncF5a85Bbc
 VIKghUtUZHVNZu85uTKnvxLCTpoN3fKH6l9k1XXbmLmJ3DRbebeV/9nNkrpPf4kJAOUr
 YUH3keV6IEjPJ56PwDL3RIzIMkWcgemmuwIHI/gxEo+aMxfFC8bNIHRvFfM6YafXfBAQ
 Q+G9X8sd0v3G/i4eKLXzUmngSv7jHqpHAUrgKZO4GZYOuBc3YUCvBAEA2M5bOIyBnABe
 XgNvvyUquNLw3yGwPuRFa0B5a0f7bmuMktKfKKFD1ABQdGGJyVxxhofs+22Of+cet30N
 shag==
X-Gm-Message-State: AOJu0YxbdK/UR2Z0WebzbNYI5WC2nkhHaxMLJSyD4dRoyNhdATbvANiZ
 siKjR/AQ5nn1qbcAKPEGw1BoPeVzSJvrh67z4xafSqEYPWpBIJZl4l3301NErTdhozImTbjM0Y6
 /5E7AA8nYF/rM4kMk1PzGeLNmH6ymLNTUPwNN7I4Q
X-Google-Smtp-Source: AGHT+IEGqE5EYOhjgor0OystjDznBMJqWZxKB97ns+R8wZ/mfFV1ADCL72JQx4F+POBuysp3IGxzk0S8TJnx
X-Received: by 2002:a92:d687:0:b0:366:9043:dcf with SMTP id
 p7-20020a92d687000000b0036690430dcfmr907008iln.6.1710977460985; 
 Wed, 20 Mar 2024 16:31:00 -0700 (PDT)
Received: from postal.iol.unh.edu (postal.iol.unh.edu. [132.177.123.84])
 by smtp-relay.gmail.com with ESMTPS id
 e6-20020a056e020b2600b0036666077d90sm827171ilu.2.2024.03.20.16.31.00
 (version=TLS1_2 cipher=ECDHE-ECDSA-AES128-GCM-SHA256 bits=128/128);
 Wed, 20 Mar 2024 16:31:00 -0700 (PDT)
X-Relaying-Domain: iol.unh.edu
Date: Wed, 20 Mar 2024 16:31:00 -0700 (PDT)
Message-ID: <65fb71b4.050a0220.2ac41.9b8aSMTPIN_ADDED_MISSING@mx.google.com>
Received: from [172.17.0.6] (unknown [172.18.0.217])
 by postal.iol.unh.edu (Postfix) with ESMTP id 761B66052471;
 Wed, 20 Mar 2024 19:31:00 -0400 (EDT)
Subject: |SUCCESS| pw138578 [PATCH] graph: expose node context as pointers
From: dpdklab@iol.unh.edu
To: Test Report <test-report@dpdk.org>
Cc: dpdk-test-reports@iol.unh.edu
In-Reply-To: <20240320173217.311340-2-rjarry@redhat.com>
References: <20240320173217.311340-2-rjarry@redhat.com>
Content-Type: text/plain
X-BeenThere: test-report@dpdk.org
X-Mailman-Version: 2.1.29
Precedence: list
List-Id: automatic DPDK test reports <test-report.dpdk.org>
List-Unsubscribe: <https://mails.dpdk.org/options/test-report>,
 <mailto:test-report-request@dpdk.org?subject=unsubscribe>
List-Archive: <http://mails.dpdk.org/archives/test-report/>
List-Post: <mailto:test-report@dpdk.org>
List-Help: <mailto:test-report-request@dpdk.org?subject=help>
List-Subscribe: <https://mails.dpdk.org/listinfo/test-report>,
 <mailto:test-report-request@dpdk.org?subject=subscribe>
Errors-To: test-report-bounces@dpdk.org

Test-Label: iol-abi-testing
Test-Status: SUCCESS
http://dpdk.org/patch/138578

_Testing PASS_

Submitter: Robin Jarry <rjarry@redhat.com>
Date: Wednesday, March 20 2024 17:32:18 
DPDK git baseline: Repo:dpdk
  Branch: master
  CommitID:80ecef6d1f71fcebc0a51d7cabc51f73ee142ff2

138578 --> testing pass

Test environment and result as below:

+------------------+----------+
|   Environment    | abi_test |
+==================+==========+
| CentOS Stream 8  | PASS     |
+------------------+----------+
| Debian Bullseye  | PASS     |
+------------------+----------+
| CentOS Stream 9  | PASS     |
+------------------+----------+
| openSUSE Leap 15 | PASS     |
+------------------+----------+
| Debian 11 (arm)  | PASS     |
+------------------+----------+
| RHEL8            | PASS     |
+------------------+----------+
| Fedora 37        | PASS     |
+------------------+----------+
| Ubuntu 22.04     | PASS     |
+------------------+----------+
| Fedora 38        | PASS     |
+------------------+----------+


CentOS Stream 8
	Kernel: 5.4.0-167-generic
	Compiler: gcc 8.5.0 20210514

Debian Bullseye
	Kernel: 5.4.0-167-generic
	Compiler: gcc 10.2.1-6

CentOS Stream 9
	Kernel: 5.4.0-167-generic
	Compiler: gcc 11.4.1 20230605

openSUSE Leap 15
	Kernel: 5.4.0-167-generic
	Compiler: gcc 7.5.0

Debian 11 (arm)
	Kernel: Container Host Kernel
	Compiler: gcc 10.2.1

RHEL8
	Kernel: 5.4.0-167-generic
	Compiler: gcc 8.5.0 20210514 (Red Hat 8.5.0-20)

Fedora 37
	Kernel: Depends on container host system
	Compiler: gcc 12.3.1

Ubuntu 22.04
	Kernel: 5.4.0-167-generic
	Compiler: gcc 11.4.0

Fedora 38
	Kernel: Depends on container host
	Compiler: clang 16.0.6

To view detailed results, visit:
https://lab.dpdk.org/results/dashboard/patchsets/29607/

UNH-IOL DPDK Community Lab

To manage your email subscriptions, visit: 
https://lab.dpdk.org/results/dashboard/preferences/subscriptions/