From mboxrd@z Thu Jan  1 00:00:00 1970
Return-Path: <test-report-bounces@dpdk.org>
Received: from mails.dpdk.org (mails.dpdk.org [217.70.189.124])
	by inbox.dpdk.org (Postfix) with ESMTP id 08DE643D0B
	for <public@inbox.dpdk.org>; Thu, 21 Mar 2024 00:34:50 +0100 (CET)
Received: from mails.dpdk.org (localhost [127.0.0.1])
	by mails.dpdk.org (Postfix) with ESMTP id 03D5F402D9;
	Thu, 21 Mar 2024 00:34:50 +0100 (CET)
Received: from mail-yw1-f227.google.com (mail-yw1-f227.google.com
 [209.85.128.227])
 by mails.dpdk.org (Postfix) with ESMTP id 4840F4028B
 for <test-report@dpdk.org>; Thu, 21 Mar 2024 00:34:37 +0100 (CET)
Received: by mail-yw1-f227.google.com with SMTP id
 00721157ae682-60a046c5262so2913577b3.2
 for <test-report@dpdk.org>; Wed, 20 Mar 2024 16:34:37 -0700 (PDT)
DKIM-Signature: v=1; a=rsa-sha256; c=relaxed/relaxed;
 d=iol.unh.edu; s=unh-iol; t=1710977676; x=1711582476; darn=dpdk.org;
 h=references:in-reply-to:cc:to:from:subject:message-id:date:from:to
 :cc:subject:date:message-id:reply-to;
 bh=HjNQ9n9+sHJsQf4kx6uWq9q8RLHRsy2NlQ5VgtDr/ws=;
 b=Y/eNo5tLbfX4EwbfE1agQDd3/4tHhFncWhqqUWEtcAFL2M/QnmfBmJ4HMURZomlige
 jmEnZX/OIqqxLfqJOjP+BUjfJ/qb6uRAVD20BL1CQbZNv2E4cDF91hYiHk3ajzGYJmhl
 Iw+LARUId8lDzG/m+Wv2wvoAMas175Yck8Gcc=
X-Google-DKIM-Signature: v=1; a=rsa-sha256; c=relaxed/relaxed;
 d=1e100.net; s=20230601; t=1710977676; x=1711582476;
 h=references:in-reply-to:cc:to:from:subject:message-id:date
 :x-gm-message-state:from:to:cc:subject:date:message-id:reply-to;
 bh=HjNQ9n9+sHJsQf4kx6uWq9q8RLHRsy2NlQ5VgtDr/ws=;
 b=UMkTFvzAb1vUQj2o2Xr7FyTQ4DmnAp0PCHt5wBmgTrdHC8Agej7Jvdig0wjf1IEI0n
 mOBQvCk4dYUY8hoT3Qk70gvsAfQ/d9ZviEzfAYCqxMyEjRCU9oXfh+/BaCFBfUz8ppUN
 j7r5cCjNpuVrHCEyxcJrivokrV0dPHYQGmbUk+3sUsxpQYFKNtMoBuIB+2XIKcO2v/p8
 EUHMtjAsmKTRqBxoq+cjujHuCCRBhSjdctigdtYNr745V8MMUDFXOr8mBkQea2jDiPJv
 EK373ziNFpsaGaAIx4T+Q85B5zONfaglTyvTob0nRvNNsPl6P6GNUo0GhD0NrZvbuOYK
 bCLg==
X-Gm-Message-State: AOJu0Yz21Moy7EY3Z4cQ/X4fflE7saYFuBzrZTZNTm8nh4VVLcRi3wfw
 LRRBLyZEiWAJC26BFODdBG4SVof4HS9qjyB9U7thSY0LFM+3LmctHVWOofHJ5qnkR8gBYEapICk
 xMvhkHqUEG3tGTIC07soro02tEuIcLgE2XiKz2tXLdRtVOrbYtibdjSgE
X-Google-Smtp-Source: AGHT+IFjef+YfMpGrS5wW8V/ckHWEKDmCPkm5jK4p1uWfwv7hE35WrrAsniJefccoLKs2wdzcvcIdouchGJG
X-Received: by 2002:a0d:fe02:0:b0:611:5f7:a9b7 with SMTP id
 o2-20020a0dfe02000000b0061105f7a9b7mr671189ywf.4.1710977676767; 
 Wed, 20 Mar 2024 16:34:36 -0700 (PDT)
Received: from postal.iol.unh.edu (postal.iol.unh.edu.
 [2606:4100:3880:1234::84]) by smtp-relay.gmail.com with ESMTPS id
 n65-20020a0de444000000b0060fec57a04esm879086ywe.20.2024.03.20.16.34.36
 (version=TLS1_2 cipher=ECDHE-ECDSA-AES128-GCM-SHA256 bits=128/128);
 Wed, 20 Mar 2024 16:34:36 -0700 (PDT)
X-Relaying-Domain: iol.unh.edu
Date: Wed, 20 Mar 2024 16:34:36 -0700 (PDT)
Message-ID: <65fb728c.0d0a0220.6af28.c79dSMTPIN_ADDED_MISSING@mx.google.com>
Received: from [172.21.0.7] (unknown [172.18.0.240])
 by postal.iol.unh.edu (Postfix) with ESMTP id 6C58B6052471;
 Wed, 20 Mar 2024 19:34:36 -0400 (EDT)
Subject: |SUCCESS| pw138578 [PATCH] graph: expose node context as pointers
From: dpdklab@iol.unh.edu
To: Test Report <test-report@dpdk.org>
Cc: dpdk-test-reports@iol.unh.edu
In-Reply-To: <20240320173217.311340-2-rjarry@redhat.com>
References: <20240320173217.311340-2-rjarry@redhat.com>
Content-Type: text/plain
X-BeenThere: test-report@dpdk.org
X-Mailman-Version: 2.1.29
Precedence: list
List-Id: automatic DPDK test reports <test-report.dpdk.org>
List-Unsubscribe: <https://mails.dpdk.org/options/test-report>,
 <mailto:test-report-request@dpdk.org?subject=unsubscribe>
List-Archive: <http://mails.dpdk.org/archives/test-report/>
List-Post: <mailto:test-report@dpdk.org>
List-Help: <mailto:test-report-request@dpdk.org?subject=help>
List-Subscribe: <https://mails.dpdk.org/listinfo/test-report>,
 <mailto:test-report-request@dpdk.org?subject=subscribe>
Errors-To: test-report-bounces@dpdk.org

Test-Label: iol-abi-testing
Test-Status: SUCCESS
http://dpdk.org/patch/138578

_Testing PASS_

Submitter: Robin Jarry <rjarry@redhat.com>
Date: Wednesday, March 20 2024 17:32:18 
DPDK git baseline: Repo:dpdk
  Branch: master
  CommitID:80ecef6d1f71fcebc0a51d7cabc51f73ee142ff2

138578 --> testing pass

Test environment and result as below:

+------------------+----------+
|   Environment    | abi_test |
+==================+==========+
| CentOS Stream 8  | PASS     |
+------------------+----------+
| Debian Bullseye  | PASS     |
+------------------+----------+
| CentOS Stream 9  | PASS     |
+------------------+----------+
| openSUSE Leap 15 | PASS     |
+------------------+----------+
| Debian 11 (arm)  | PASS     |
+------------------+----------+
| RHEL8            | PASS     |
+------------------+----------+
| Fedora 37        | PASS     |
+------------------+----------+
| Ubuntu 22.04     | PASS     |
+------------------+----------+
| Fedora 38        | PASS     |
+------------------+----------+


CentOS Stream 8
	Kernel: 5.4.0-167-generic
	Compiler: gcc 8.5.0 20210514

Debian Bullseye
	Kernel: 5.4.0-167-generic
	Compiler: gcc 10.2.1-6

CentOS Stream 9
	Kernel: 5.4.0-167-generic
	Compiler: gcc 11.4.1 20230605

openSUSE Leap 15
	Kernel: 5.4.0-167-generic
	Compiler: gcc 7.5.0

Debian 11 (arm)
	Kernel: Container Host Kernel
	Compiler: gcc 10.2.1

RHEL8
	Kernel: 5.4.0-167-generic
	Compiler: gcc 8.5.0 20210514 (Red Hat 8.5.0-20)

Fedora 37
	Kernel: Depends on container host system
	Compiler: gcc 12.3.1

Ubuntu 22.04
	Kernel: 5.4.0-167-generic
	Compiler: gcc 11.4.0

Fedora 38
	Kernel: Depends on container host
	Compiler: clang 16.0.6

To view detailed results, visit:
https://lab.dpdk.org/results/dashboard/patchsets/29607/

UNH-IOL DPDK Community Lab

To manage your email subscriptions, visit: 
https://lab.dpdk.org/results/dashboard/preferences/subscriptions/